BEGIN:VCALENDAR
VERSION:2.0
PRODID:-//Mineral Springs Brewery - ECPv6.15.20//NONSGML v1.0//EN
CALSCALE:GREGORIAN
METHOD:PUBLISH
X-ORIGINAL-URL:https://mineralspringsbrewery.com
X-WR-CALDESC:Events for Mineral Springs Brewery
REFRESH-INTERVAL;VALUE=DURATION:PT1H
X-Robots-Tag:noindex
X-PUBLISHED-TTL:PT1H
BEGIN:VTIMEZONE
TZID:America/Chicago
BEGIN:DAYLIGHT
TZOFFSETFROM:-0600
TZOFFSETTO:-0500
TZNAME:CDT
DTSTART:20220313T080000
END:DAYLIGHT
BEGIN:STANDARD
TZOFFSETFROM:-0500
TZOFFSETTO:-0600
TZNAME:CST
DTSTART:20221106T070000
END:STANDARD
BEGIN:DAYLIGHT
TZOFFSETFROM:-0600
TZOFFSETTO:-0500
TZNAME:CDT
DTSTART:20230312T080000
END:DAYLIGHT
BEGIN:STANDARD
TZOFFSETFROM:-0500
TZOFFSETTO:-0600
TZNAME:CST
DTSTART:20231105T070000
END:STANDARD
BEGIN:DAYLIGHT
TZOFFSETFROM:-0600
TZOFFSETTO:-0500
TZNAME:CDT
DTSTART:20240310T080000
END:DAYLIGHT
BEGIN:STANDARD
TZOFFSETFROM:-0500
TZOFFSETTO:-0600
TZNAME:CST
DTSTART:20241103T070000
END:STANDARD
END:VTIMEZONE
BEGIN:VEVENT
DTSTART;TZID=America/Chicago:20230505T180000
DTEND;TZID=America/Chicago:20230505T200000
DTSTAMP:20260424T105229
CREATED:20230418T160521Z
LAST-MODIFIED:20230418T160524Z
UID:10001460-1683309600-1683316800@mineralspringsbrewery.com
SUMMARY:Joel Ward
DESCRIPTION:Joel Ward is a soul singing\, acoustic guitar pickin’\, lyric writing\, fool for music out of Rochester
URL:https://mineralspringsbrewery.com/event/joel-ward-4/
LOCATION:MN
CATEGORIES:Activities,Music
ATTACH;FMTTYPE=image/jpeg:https://mineralspringsbrewery.com/wp-content/uploads/2022/09/Joel-Ward.jpg
END:VEVENT
BEGIN:VEVENT
DTSTART;TZID=America/Chicago:20230506T180000
DTEND;TZID=America/Chicago:20230506T200000
DTSTAMP:20260424T105229
CREATED:20230418T161300Z
LAST-MODIFIED:20230418T161302Z
UID:10001462-1683396000-1683403200@mineralspringsbrewery.com
SUMMARY:Acoustic View
DESCRIPTION:Acoustic View is a two-piece acoustic Duo for all occasions playing variety from Fleetwood Mac to Johnny Cash & Pink Floyd
URL:https://mineralspringsbrewery.com/event/acoustic-view/
LOCATION:MN
CATEGORIES:Activities,Music
ATTACH;FMTTYPE=image/jpeg:https://mineralspringsbrewery.com/wp-content/uploads/2023/04/329337066_873746507191597_6764542972983042728_n.jpg
END:VEVENT
BEGIN:VEVENT
DTSTART;TZID=America/Chicago:20230511T180000
DTEND;TZID=America/Chicago:20230511T200000
DTSTAMP:20260424T105229
CREATED:20230418T161855Z
LAST-MODIFIED:20230418T161857Z
UID:10001470-1683828000-1683835200@mineralspringsbrewery.com
SUMMARY:Andy Hughes
DESCRIPTION:Andy Hughes is an award-winning songwriter. As a live performer\, he has been a staple of the Midwest music scene for over 20 years. Andy is a difficult artist/performer to categorize. He is a member of many acts/groups. Although the styles of music have a wide range\, one thing is consistent; MUSIC is Andy’s life source. No matter the delivery or vehicle\, the music leads and drives the way.
URL:https://mineralspringsbrewery.com/event/andy-hughes-8/
LOCATION:MN
CATEGORIES:Activities,Music
ATTACH;FMTTYPE=image/jpeg:https://mineralspringsbrewery.com/wp-content/uploads/2022/08/AndyHughes2.jpg
END:VEVENT
BEGIN:VEVENT
DTSTART;TZID=America/Chicago:20230512T183000
DTEND;TZID=America/Chicago:20230512T203000
DTSTAMP:20260424T105229
CREATED:20230418T162223Z
LAST-MODIFIED:20230418T183202Z
UID:10001472-1683916200-1683923400@mineralspringsbrewery.com
SUMMARY:Chris Bertrand
DESCRIPTION:Chris Bertrand is a seasoned singer/songwriter from Southern Minnesota who dedicates his life to music. Deeply rooted in folk and unafraid to stomp and howl\, Bertrand is currently working on his first recording effort\, ‘By The Pour.’
URL:https://mineralspringsbrewery.com/event/chris-bertrand-4/
LOCATION:MN
CATEGORIES:Activities,Music
ATTACH;FMTTYPE=image/jpeg:https://mineralspringsbrewery.com/wp-content/uploads/2022/01/ChrisBertrandMusic.jpg
END:VEVENT
BEGIN:VEVENT
DTSTART;TZID=America/Chicago:20230513T183000
DTEND;TZID=America/Chicago:20230513T203000
DTSTAMP:20260424T105229
CREATED:20230418T162517Z
LAST-MODIFIED:20230418T162519Z
UID:10001474-1684002600-1684009800@mineralspringsbrewery.com
SUMMARY:Ron & Steve Unplugged
DESCRIPTION:GOOD TUNES\, BAD JOKES! Ron and Steve perform music from the 50’s-80’s covering the oldies\, classic rock\, pop\, and more!
URL:https://mineralspringsbrewery.com/event/ron-steve-unplugged/
LOCATION:MN
CATEGORIES:Activities,Music
ATTACH;FMTTYPE=image/jpeg:https://mineralspringsbrewery.com/wp-content/uploads/2022/04/Ron-and-Steve-Unplugged.jpg
END:VEVENT
BEGIN:VEVENT
DTSTART;TZID=America/Chicago:20230520T183000
DTEND;TZID=America/Chicago:20230520T203000
DTSTAMP:20260424T105229
CREATED:20230418T183051Z
LAST-MODIFIED:20230418T183053Z
UID:10001480-1684607400-1684614600@mineralspringsbrewery.com
SUMMARY:The Father's Daughters
DESCRIPTION:Acoustic Vocal Trio from Waterville\, Minnesota!
URL:https://mineralspringsbrewery.com/event/the-fathers-daughters/
LOCATION:MN
CATEGORIES:Activities,Music
ATTACH;FMTTYPE=image/jpeg:https://mineralspringsbrewery.com/wp-content/uploads/2022/04/The-Fathers-Daughters.jpg
END:VEVENT
BEGIN:VEVENT
DTSTART;TZID=America/Chicago:20230526T183000
DTEND;TZID=America/Chicago:20230526T203000
DTSTAMP:20260424T105229
CREATED:20230419T005529Z
LAST-MODIFIED:20230525T221917Z
UID:10001485-1685125800-1685133000@mineralspringsbrewery.com
SUMMARY:Barefoot Winos
DESCRIPTION:The Barefoot Winos play their own distinctive brand of Blues. There energetic\, soulful\, live performances has captivated their audiences all over the Midwest. It’s Blues with an attitude. What makes the band so unique is their depth of talent\, blend of musical influences\, and the ability to tie all together.
URL:https://mineralspringsbrewery.com/event/barefoot-winos/
LOCATION:Mineral Springs Brewery\, 210 N Oak Ave\, Suite 1\, Owatonna\, MN\, 55060\, United States
CATEGORIES:Activities,Music
ATTACH;FMTTYPE=image/jpeg:https://mineralspringsbrewery.com/wp-content/uploads/2022/04/Barefoot-Winos.jpg
END:VEVENT
BEGIN:VEVENT
DTSTART;TZID=America/Chicago:20230527T180000
DTEND;TZID=America/Chicago:20230527T200000
DTSTAMP:20260424T105229
CREATED:20230424T223036Z
LAST-MODIFIED:20230525T221935Z
UID:10001509-1685210400-1685217600@mineralspringsbrewery.com
SUMMARY:Fred the Bear
DESCRIPTION:Fred the Bear is a classic rock/alternative band known for their rich harmonies\, emotive dynamics and original songs. FTB’s music reflects on life’s promises and disappointments through personal crafted lyrics and driving rhythms.  Mixed within their originals is a blend of music from other Midwest artists\, currently touring groups and classic bands.  \n\n\n\nTheir name and their drive for a great live sound is a tribute to Bruce “Fred the Bear” Eschler.  At his bar\, the “Bear’s Den”\, you could always count on a stiff drink and one heck of a party\, with the music crankin’ all night.  So they play tribute to the man who provided them a first glimpse into the true energy of live music …. Fred the Bear.
URL:https://mineralspringsbrewery.com/event/fred-the-bear/
LOCATION:Mineral Springs Brewery\, 210 N Oak Ave\, Suite 1\, Owatonna\, MN\, 55060\, United States
CATEGORIES:Activities,Music
ATTACH;FMTTYPE=image/jpeg:https://mineralspringsbrewery.com/wp-content/uploads/2022/04/Fred-the-Bear-scaled.jpg
END:VEVENT
END:VCALENDAR