BEGIN:VCALENDAR
VERSION:2.0
PRODID:-//Mineral Springs Brewery - ECPv6.15.20//NONSGML v1.0//EN
CALSCALE:GREGORIAN
METHOD:PUBLISH
X-WR-CALNAME:Mineral Springs Brewery
X-ORIGINAL-URL:https://mineralspringsbrewery.com
X-WR-CALDESC:Events for Mineral Springs Brewery
REFRESH-INTERVAL;VALUE=DURATION:PT1H
X-Robots-Tag:noindex
X-PUBLISHED-TTL:PT1H
BEGIN:VTIMEZONE
TZID:America/Chicago
BEGIN:DAYLIGHT
TZOFFSETFROM:-0600
TZOFFSETTO:-0500
TZNAME:CDT
DTSTART:20220313T080000
END:DAYLIGHT
BEGIN:STANDARD
TZOFFSETFROM:-0500
TZOFFSETTO:-0600
TZNAME:CST
DTSTART:20221106T070000
END:STANDARD
BEGIN:DAYLIGHT
TZOFFSETFROM:-0600
TZOFFSETTO:-0500
TZNAME:CDT
DTSTART:20230312T080000
END:DAYLIGHT
BEGIN:STANDARD
TZOFFSETFROM:-0500
TZOFFSETTO:-0600
TZNAME:CST
DTSTART:20231105T070000
END:STANDARD
BEGIN:DAYLIGHT
TZOFFSETFROM:-0600
TZOFFSETTO:-0500
TZNAME:CDT
DTSTART:20240310T080000
END:DAYLIGHT
BEGIN:STANDARD
TZOFFSETFROM:-0500
TZOFFSETTO:-0600
TZNAME:CST
DTSTART:20241103T070000
END:STANDARD
END:VTIMEZONE
BEGIN:VEVENT
DTSTART;TZID=America/Chicago:20230902T183000
DTEND;TZID=America/Chicago:20230902T203000
DTSTAMP:20260424T040517
CREATED:20230519T185231Z
LAST-MODIFIED:20230822T215801Z
UID:10002605-1693679400-1693686600@mineralspringsbrewery.com
SUMMARY:Ron & Steve Unplugged
DESCRIPTION:GOOD TUNES\, BAD JOKES! Ron and Steve perform music from the 50’s-80’s covering the oldies\, classic rock\, pop\, and more!
URL:https://mineralspringsbrewery.com/event/ron-steve-unplugged-3/
LOCATION:Mineral Springs Brewery\, 210 N Oak Ave\, Suite 1\, Owatonna\, MN\, 55060\, United States
CATEGORIES:Activities,Music
ATTACH;FMTTYPE=image/jpeg:https://mineralspringsbrewery.com/wp-content/uploads/2022/04/Ron-and-Steve-Unplugged.jpg
END:VEVENT
BEGIN:VEVENT
DTSTART;TZID=America/Chicago:20230909T183000
DTEND;TZID=America/Chicago:20230909T203000
DTSTAMP:20260424T040517
CREATED:20230822T222842Z
LAST-MODIFIED:20230822T222844Z
UID:10002663-1694284200-1694291400@mineralspringsbrewery.com
SUMMARY:Shasta Kings
DESCRIPTION:The Shasta Kings are Scott Rogness (guitar/lead vocals) and Bruce Watts (guitars/vocals) playing a wide variety of songs from classic rock to new country.
URL:https://mineralspringsbrewery.com/event/shasta-kings-5/
LOCATION:Mineral Springs Brewery\, 210 N Oak Ave\, Suite 1\, Owatonna\, MN\, 55060\, United States
CATEGORIES:Activities,Music
ATTACH;FMTTYPE=image/jpeg:https://mineralspringsbrewery.com/wp-content/uploads/2022/06/Shasta-Kings.jpg
END:VEVENT
BEGIN:VEVENT
DTSTART;TZID=America/Chicago:20230916T180000
DTEND;TZID=America/Chicago:20230916T200000
DTSTAMP:20260424T040517
CREATED:20230822T223400Z
LAST-MODIFIED:20230822T223401Z
UID:10002666-1694887200-1694894400@mineralspringsbrewery.com
SUMMARY:Acoustic View
DESCRIPTION:Acoustic View is a two-piece acoustic Duo for all occasions playing variety from Fleetwood Mac to Johnny Cash & Pink Floyd
URL:https://mineralspringsbrewery.com/event/acoustic-view-4/
LOCATION:Mineral Springs Brewery\, 210 N Oak Ave\, Suite 1\, Owatonna\, MN\, 55060\, United States
CATEGORIES:Activities,Music
ATTACH;FMTTYPE=image/jpeg:https://mineralspringsbrewery.com/wp-content/uploads/2023/04/329337066_873746507191597_6764542972983042728_n.jpg
END:VEVENT
BEGIN:VEVENT
DTSTART;TZID=America/Chicago:20230922T143000
DTEND;TZID=America/Chicago:20230922T163000
DTSTAMP:20260424T040517
CREATED:20230822T234902Z
LAST-MODIFIED:20240618T032816Z
UID:10002704-1695393000-1695400200@mineralspringsbrewery.com
SUMMARY:Lori Lachner
DESCRIPTION:Lori Lachner of the iPolka band is booked solo with us to fulfill all your concertina favorites! \n\n\n\nThe perfect compliment to our Oktoberfest activities!
URL:https://mineralspringsbrewery.com/event/lori-lachner-2/
LOCATION:Mineral Springs Brewery\, 210 N Oak Ave\, Suite 1\, Owatonna\, MN\, 55060\, United States
CATEGORIES:Activities,Music
END:VEVENT
BEGIN:VEVENT
DTSTART;TZID=America/Chicago:20230922T173000
DTEND;TZID=America/Chicago:20230922T213000
DTSTAMP:20260424T040517
CREATED:20230822T232153Z
LAST-MODIFIED:20240618T032829Z
UID:10002699-1695403800-1695418200@mineralspringsbrewery.com
SUMMARY:The iPolka Band
DESCRIPTION:The iPolka Band is a group of veteran musicians who love to play polkas! \n\n\n\nThe perfect compliment to our Oktoberfest activities!
URL:https://mineralspringsbrewery.com/event/the-ipolka-band/
LOCATION:Mineral Springs Brewery\, 210 N Oak Ave\, Suite 1\, Owatonna\, MN\, 55060\, United States
CATEGORIES:Activities,Music
ATTACH;FMTTYPE=image/jpeg:https://mineralspringsbrewery.com/wp-content/uploads/2023/08/iPolka-Band.jpg
END:VEVENT
BEGIN:VEVENT
DTSTART;TZID=America/Chicago:20230923T143000
DTEND;TZID=America/Chicago:20230923T163000
DTSTAMP:20260424T040517
CREATED:20230822T234839Z
LAST-MODIFIED:20230912T002734Z
UID:10002703-1695479400-1695486600@mineralspringsbrewery.com
SUMMARY:Lori Lachner
DESCRIPTION:Lori Lachner of the iPolka band is booked solo with us to fulfill all your concertina favorites! \n\n\n\nThe perfect compliment to our Oktoberfest activities!
URL:https://mineralspringsbrewery.com/event/lori-lachner/
LOCATION:Mineral Springs Brewery\, 210 N Oak Ave\, Suite 1\, Owatonna\, MN\, 55060\, United States
CATEGORIES:Activities,Music
END:VEVENT
BEGIN:VEVENT
DTSTART;TZID=America/Chicago:20230923T173000
DTEND;TZID=America/Chicago:20230923T213000
DTSTAMP:20260424T040517
CREATED:20230822T233134Z
LAST-MODIFIED:20230823T000457Z
UID:10002700-1695490200-1695504600@mineralspringsbrewery.com
SUMMARY:The iPolka Band
DESCRIPTION:The iPolka Band is a group of veteran musicians who love to play polkas! \n\n\n\nThe perfect compliment to our Oktoberfest activities!
URL:https://mineralspringsbrewery.com/event/the-ipolka-band-2/
LOCATION:Mineral Springs Brewery\, 210 N Oak Ave\, Suite 1\, Owatonna\, MN\, 55060\, United States
CATEGORIES:Activities,Music
ATTACH;FMTTYPE=image/jpeg:https://mineralspringsbrewery.com/wp-content/uploads/2023/08/iPolka-Band.jpg
END:VEVENT
BEGIN:VEVENT
DTSTART;TZID=America/Chicago:20230929T180000
DTEND;TZID=America/Chicago:20230929T200000
DTSTAMP:20260424T040517
CREATED:20230823T001343Z
LAST-MODIFIED:20230823T001344Z
UID:10002706-1696010400-1696017600@mineralspringsbrewery.com
SUMMARY:Fred the Bear
DESCRIPTION:Fred the Bear is a classic rock/alternative band known for their rich harmonies\, emotive dynamics and original songs. FTB’s music reflects on life’s promises and disappointments through personal crafted lyrics and driving rhythms.  Mixed within their originals is a blend of music from other Midwest artists\, currently touring groups and classic bands.  \n\n\n\nTheir name and their drive for a great live sound is a tribute to Bruce “Fred the Bear” Eschler.  At his bar\, the “Bear’s Den”\, you could always count on a stiff drink and one heck of a party\, with the music crankin’ all night.  So they play tribute to the man who provided them a first glimpse into the true energy of live music …. Fred the Bear.
URL:https://mineralspringsbrewery.com/event/fred-the-bear-5/
LOCATION:Mineral Springs Brewery\, 210 N Oak Ave\, Suite 1\, Owatonna\, MN\, 55060\, United States
CATEGORIES:Activities,Music
ATTACH;FMTTYPE=image/jpeg:https://mineralspringsbrewery.com/wp-content/uploads/2022/04/Fred-the-Bear-scaled.jpg
END:VEVENT
BEGIN:VEVENT
DTSTART;TZID=America/Chicago:20230930T183000
DTEND;TZID=America/Chicago:20230930T203000
DTSTAMP:20260424T040517
CREATED:20230518T165757Z
LAST-MODIFIED:20230823T002032Z
UID:10001523-1696098600-1696105800@mineralspringsbrewery.com
SUMMARY:Barefoot Winos
DESCRIPTION:The Barefoot Winos play their own distinctive brand of Blues. There energetic\, soulful\, live performances has captivated their audiences all over the Midwest. It’s Blues with an attitude. What makes the band so unique is their depth of talent\, blend of musical influences\, and the ability to tie all together.
URL:https://mineralspringsbrewery.com/event/barefoot-winos-2/
LOCATION:Mineral Springs Brewery\, 210 N Oak Ave\, Suite 1\, Owatonna\, MN\, 55060\, United States
CATEGORIES:Activities,Music
ATTACH;FMTTYPE=image/jpeg:https://mineralspringsbrewery.com/wp-content/uploads/2023/08/Barefoot-Winos-2-scaled.jpg
END:VEVENT
END:VCALENDAR