BEGIN:VCALENDAR
VERSION:2.0
PRODID:-//Mineral Springs Brewery - ECPv6.15.20//NONSGML v1.0//EN
CALSCALE:GREGORIAN
METHOD:PUBLISH
X-WR-CALNAME:Mineral Springs Brewery
X-ORIGINAL-URL:https://mineralspringsbrewery.com
X-WR-CALDESC:Events for Mineral Springs Brewery
REFRESH-INTERVAL;VALUE=DURATION:PT1H
X-Robots-Tag:noindex
X-PUBLISHED-TTL:PT1H
BEGIN:VTIMEZONE
TZID:America/Chicago
BEGIN:DAYLIGHT
TZOFFSETFROM:-0600
TZOFFSETTO:-0500
TZNAME:CDT
DTSTART:20230312T080000
END:DAYLIGHT
BEGIN:STANDARD
TZOFFSETFROM:-0500
TZOFFSETTO:-0600
TZNAME:CST
DTSTART:20231105T070000
END:STANDARD
BEGIN:DAYLIGHT
TZOFFSETFROM:-0600
TZOFFSETTO:-0500
TZNAME:CDT
DTSTART:20240310T080000
END:DAYLIGHT
BEGIN:STANDARD
TZOFFSETFROM:-0500
TZOFFSETTO:-0600
TZNAME:CST
DTSTART:20241103T070000
END:STANDARD
BEGIN:DAYLIGHT
TZOFFSETFROM:-0600
TZOFFSETTO:-0500
TZNAME:CDT
DTSTART:20250309T080000
END:DAYLIGHT
BEGIN:STANDARD
TZOFFSETFROM:-0500
TZOFFSETTO:-0600
TZNAME:CST
DTSTART:20251102T070000
END:STANDARD
END:VTIMEZONE
BEGIN:VEVENT
DTSTART;TZID=America/Chicago:20240302T183000
DTEND;TZID=America/Chicago:20240302T203000
DTSTAMP:20260423T171640
CREATED:20240122T011321Z
LAST-MODIFIED:20240618T040312Z
UID:10002824-1709404200-1709411400@mineralspringsbrewery.com
SUMMARY:Julia Bloom
DESCRIPTION:Half of the duo\, Cabin of Love\, Julia Bloom is performing solo on the MSB stage! \n\n\n\n\n\n\n\n\n\n\n\nDetails
URL:https://mineralspringsbrewery.com/event/julia-bloom/
LOCATION:Mineral Springs Brewery\, 210 N Oak Ave\, Suite 1\, Owatonna\, MN\, 55060\, United States
CATEGORIES:Activities,Music
ATTACH;FMTTYPE=image/jpeg:https://mineralspringsbrewery.com/wp-content/uploads/2024/01/Julia-Bloom-Music.jpg
END:VEVENT
BEGIN:VEVENT
DTSTART;TZID=America/Chicago:20240309T183000
DTEND;TZID=America/Chicago:20240309T203000
DTSTAMP:20260423T171640
CREATED:20240122T011823Z
LAST-MODIFIED:20240122T011825Z
UID:10002826-1710009000-1710016200@mineralspringsbrewery.com
SUMMARY:Chris Bertrand
DESCRIPTION:Chris Bertrand is a seasoned singer/songwriter from Southern Minnesota who dedicates his life to music. Deeply rooted in folk and unafraid to stomp and howl\, Bertrand is currently working on his first recording effort\, ‘By The Pour.’ \n\n\n\n\n\n\n\n\n\n\n\nDetails
URL:https://mineralspringsbrewery.com/event/chris-bertrand-7/
LOCATION:Mineral Springs Brewery\, 210 N Oak Ave\, Suite 1\, Owatonna\, MN\, 55060\, United States
CATEGORIES:Activities,Music
ATTACH;FMTTYPE=image/jpeg:https://mineralspringsbrewery.com/wp-content/uploads/2022/01/ChrisBertrandMusic.jpg
END:VEVENT
BEGIN:VEVENT
DTSTART;TZID=America/Chicago:20240316T183000
DTEND;TZID=America/Chicago:20240316T203000
DTSTAMP:20260423T171640
CREATED:20240229T033543Z
LAST-MODIFIED:20240316T210556Z
UID:10002849-1710613800-1710621000@mineralspringsbrewery.com
SUMMARY:Jason Helder
DESCRIPTION:
URL:https://mineralspringsbrewery.com/event/jason-helder/
LOCATION:Mineral Springs Brewery\, 210 N Oak Ave\, Suite 1\, Owatonna\, MN\, 55060\, United States
CATEGORIES:Activities,Music
END:VEVENT
BEGIN:VEVENT
DTSTART;TZID=America/Chicago:20240323T183000
DTEND;TZID=America/Chicago:20240323T203000
DTSTAMP:20260423T171640
CREATED:20231101T230654Z
LAST-MODIFIED:20231101T230654Z
UID:10002784-1711218600-1711225800@mineralspringsbrewery.com
SUMMARY:Jeff Reinartz
DESCRIPTION:Jeff Reinartz is a singer/songwriter from  Austin\, Minnesota. He’s been performing live for over 30 years and is a veteran of several bands. He is now a solo acoustic performer and has released two EPs that were produced by Scotty Rohr at Zension Studio in Austin. \n\n\n\n\nI believe that we’re here to use our talents and abilities to the benefit of others\, so after 22 years in the corporate world with a Fortune 300 company\, I resigned in 2019 to pursue my music interests full time. I didn’t necessarily count on a global pandemic\, but as things have loosened up I’ve been able to play more and more\, doing acoustic shows at primarily breweries and wineries in Southern Minnesota and Northern Iowa\, and building a small following organically.” \nJeff Reinartz
URL:https://mineralspringsbrewery.com/event/jeff-reinartz-12/
LOCATION:Mineral Springs Brewery\, 210 N Oak Ave\, Suite 1\, Owatonna\, MN\, 55060\, United States
CATEGORIES:Activities,Music
ATTACH;FMTTYPE=image/jpeg:https://mineralspringsbrewery.com/wp-content/uploads/2022/04/Jeff-Reinartz-scaled.jpg
END:VEVENT
BEGIN:VEVENT
DTSTART;TZID=America/Chicago:20240330T183000
DTEND;TZID=America/Chicago:20240330T203000
DTSTAMP:20260423T171640
CREATED:20231101T230751Z
LAST-MODIFIED:20231101T230818Z
UID:10002785-1711823400-1711830600@mineralspringsbrewery.com
SUMMARY:Todd Michael Jameson
DESCRIPTION:Todd Michael Jameson is a seasoned musician\, and Rock Steady Records recording artist\, with many years of experience. Todd performs as a solo artist playing throughout the Minneapolis/St. Paul and Tri-state area. Along with performing originals and covers as a solo artist\, Todd also plays bass in Hawt Beir (Original Rock and Roll). Playing over 175 gigs per year\, Todd travels across many genres and entertains audiences of all sizes. \n\n\n\nTodd’s influences cross many genres as well. From Waylon Jennings to Eagles to Miles Davis and everything in between. On any given night\, Todd can go from playing one of his own songs to an Otis Redding classic right into an Iron Maiden song. Nothing is off limits!
URL:https://mineralspringsbrewery.com/event/todd-michael-jameson-2/
LOCATION:Mineral Springs Brewery\, 210 N Oak Ave\, Suite 1\, Owatonna\, MN\, 55060\, United States
CATEGORIES:Activities,Music
ATTACH;FMTTYPE=image/jpeg:https://mineralspringsbrewery.com/wp-content/uploads/2023/02/Todd-Michael-Jameson-Music.jpg
END:VEVENT
END:VCALENDAR