BEGIN:VCALENDAR
VERSION:2.0
PRODID:-//Mineral Springs Brewery - ECPv6.15.20//NONSGML v1.0//EN
CALSCALE:GREGORIAN
METHOD:PUBLISH
X-ORIGINAL-URL:https://mineralspringsbrewery.com
X-WR-CALDESC:Events for Mineral Springs Brewery
REFRESH-INTERVAL;VALUE=DURATION:PT1H
X-Robots-Tag:noindex
X-PUBLISHED-TTL:PT1H
BEGIN:VTIMEZONE
TZID:America/Chicago
BEGIN:DAYLIGHT
TZOFFSETFROM:-0600
TZOFFSETTO:-0500
TZNAME:CDT
DTSTART:20230312T080000
END:DAYLIGHT
BEGIN:STANDARD
TZOFFSETFROM:-0500
TZOFFSETTO:-0600
TZNAME:CST
DTSTART:20231105T070000
END:STANDARD
BEGIN:DAYLIGHT
TZOFFSETFROM:-0600
TZOFFSETTO:-0500
TZNAME:CDT
DTSTART:20240310T080000
END:DAYLIGHT
BEGIN:STANDARD
TZOFFSETFROM:-0500
TZOFFSETTO:-0600
TZNAME:CST
DTSTART:20241103T070000
END:STANDARD
BEGIN:DAYLIGHT
TZOFFSETFROM:-0600
TZOFFSETTO:-0500
TZNAME:CDT
DTSTART:20250309T080000
END:DAYLIGHT
BEGIN:STANDARD
TZOFFSETFROM:-0500
TZOFFSETTO:-0600
TZNAME:CST
DTSTART:20251102T070000
END:STANDARD
END:VTIMEZONE
BEGIN:VEVENT
DTSTART;TZID=America/Chicago:20240601T183000
DTEND;TZID=America/Chicago:20240601T203000
DTSTAMP:20260423T123029
CREATED:20240229T043505Z
LAST-MODIFIED:20240229T043506Z
UID:10002889-1717266600-1717273800@mineralspringsbrewery.com
SUMMARY:Jeff Reinartz
DESCRIPTION:Jeff Reinartz is a singer/songwriter from  Austin\, Minnesota. He’s been performing live for over 30 years and is a veteran of several bands. He is now a solo acoustic performer and has released two EPs that were produced by Scotty Rohr at Zension Studio in Austin. \n\n\n\n\nI believe that we’re here to use our talents and abilities to the benefit of others\, so after 22 years in the corporate world with a Fortune 300 company\, I resigned in 2019 to pursue my music interests full time. I didn’t necessarily count on a global pandemic\, but as things have loosened up I’ve been able to play more and more\, doing acoustic shows at primarily breweries and wineries in Southern Minnesota and Northern Iowa\, and building a small following organically.” \nJeff Reinartz
URL:https://mineralspringsbrewery.com/event/jeff-reinartz-14/
LOCATION:Mineral Springs Brewery\, 210 N Oak Ave\, Suite 1\, Owatonna\, MN\, 55060\, United States
CATEGORIES:Activities,Music
ATTACH;FMTTYPE=image/jpeg:https://mineralspringsbrewery.com/wp-content/uploads/2022/04/Jeff-Reinartz-scaled.jpg
END:VEVENT
BEGIN:VEVENT
DTSTART;TZID=America/Chicago:20240602T120000
DTEND;TZID=America/Chicago:20240602T120000
DTSTAMP:20260423T123029
CREATED:20240422T225605Z
LAST-MODIFIED:20240422T225656Z
UID:10002895-1717329600-1717329600@mineralspringsbrewery.com
SUMMARY:JT (of JT & The Gunslingers)
DESCRIPTION:JT & The Gunslingers are a Midwest band influenced by Country music with a Southern Rock edge.
URL:https://mineralspringsbrewery.com/event/jt-the-gunslingers/
LOCATION:Mineral Springs Brewery\, 210 N Oak Ave\, Suite 1\, Owatonna\, MN\, 55060\, United States
CATEGORIES:Activities,Music
ATTACH;FMTTYPE=image/jpeg:https://mineralspringsbrewery.com/wp-content/uploads/2024/04/JTandTheGunslingers.jpg
END:VEVENT
BEGIN:VEVENT
DTSTART;TZID=America/Chicago:20240607T180000
DTEND;TZID=America/Chicago:20240607T200000
DTSTAMP:20260423T123029
CREATED:20240601T013502Z
LAST-MODIFIED:20240618T040251Z
UID:10002968-1717783200-1717790400@mineralspringsbrewery.com
SUMMARY:Fool’s Getaway
DESCRIPTION:
URL:https://mineralspringsbrewery.com/event/fools-getaway/
LOCATION:Mineral Springs Brewery\, 210 N Oak Ave\, Suite 1\, Owatonna\, MN\, 55060\, United States
CATEGORIES:Activities,Music
END:VEVENT
BEGIN:VEVENT
DTSTART;TZID=America/Chicago:20240608T183000
DTEND;TZID=America/Chicago:20240608T203000
DTSTAMP:20260423T123029
CREATED:20240422T232044Z
LAST-MODIFIED:20240618T040245Z
UID:10002899-1717871400-1717878600@mineralspringsbrewery.com
SUMMARY:Shasta Kings
DESCRIPTION:The Shasta Kings are Scott Rogness (guitar/lead vocals) and Bruce Watts (guitars/vocals) playing a wide variety of songs from classic rock to new country.
URL:https://mineralspringsbrewery.com/event/shasta-kings-6/
LOCATION:Mineral Springs Brewery\, 210 N Oak Ave\, Suite 1\, Owatonna\, MN\, 55060\, United States
CATEGORIES:Activities,Music
ATTACH;FMTTYPE=image/jpeg:https://mineralspringsbrewery.com/wp-content/uploads/2024/04/Shasta-Kings.jpg
END:VEVENT
BEGIN:VEVENT
DTSTART;TZID=America/Chicago:20240615T190000
DTEND;TZID=America/Chicago:20240615T220000
DTSTAMP:20260423T123029
CREATED:20240422T233350Z
LAST-MODIFIED:20240422T233352Z
UID:10002912-1718478000-1718488800@mineralspringsbrewery.com
SUMMARY:Chris Mims
DESCRIPTION:From the soulful rhythms of blues to the electrifying melodies of rock and country\, Chris Mims is a versatile guitarist and singer with over 30 years of experience.
URL:https://mineralspringsbrewery.com/event/chris-mims-4/
LOCATION:Mineral Springs Brewery\, 210 N Oak Ave\, Suite 1\, Owatonna\, MN\, 55060\, United States
CATEGORIES:Activities,Music
ATTACH;FMTTYPE=image/jpeg:https://mineralspringsbrewery.com/wp-content/uploads/2024/04/ChrisMims.jpg
END:VEVENT
BEGIN:VEVENT
DTSTART;TZID=America/Chicago:20240621T190000
DTEND;TZID=America/Chicago:20240621T210000
DTSTAMP:20260423T123029
CREATED:20240531T211136Z
LAST-MODIFIED:20240531T211142Z
UID:10002966-1718996400-1719003600@mineralspringsbrewery.com
SUMMARY:Senior Moment
DESCRIPTION:Bruce Bernhart has played in several bluegrass bands at the Steele County Fair over the past 25+ years.  \n\n\n\nHaving mastered the lost art of flatpicking old time fiddle tunes on the guitar\, combined with no amplifiers and no microphones\, Bruce and his friend Tim (who plays back up rhythm guitar and who has played folk and bluegrass for as long as Bruce has) are the duo Senior Moment. \n\n\n\nSenior Moment is all about “easy listening” music softly blends in with the room. “Wallpaper” music Bruce likes to call it. You’ll be able to recognize some of the tunes played while others are less known but have beautiful melodies. There are no sharp edges to their music. It’s very melodic stuff that was written in an old-time simple style and then transposed from fiddle to guitar.  \n\n\n\nHinted at with the duo’s name\, they’re retired and simply love to play!
URL:https://mineralspringsbrewery.com/event/senior-moment/
LOCATION:Mineral Springs Brewery\, 210 N Oak Ave\, Suite 1\, Owatonna\, MN\, 55060\, United States
CATEGORIES:Activities,Music
END:VEVENT
BEGIN:VEVENT
DTSTART;TZID=America/Chicago:20240622T170000
DTEND;TZID=America/Chicago:20240622T210000
DTSTAMP:20260423T123029
CREATED:20240422T234715Z
LAST-MODIFIED:20240618T040232Z
UID:10002917-1719075600-1719090000@mineralspringsbrewery.com
SUMMARY:Cook County
DESCRIPTION:Cook County is an alternative folk-rock band based out of Minneapolis featuring a male-female vocal harmony duo cultivated over several years\, slick guitar licks\, and multifaceted songwriting.
URL:https://mineralspringsbrewery.com/event/cook-county/
LOCATION:Mineral Springs Brewery\, 210 N Oak Ave\, Suite 1\, Owatonna\, MN\, 55060\, United States
CATEGORIES:Activities,Music
ATTACH;FMTTYPE=image/jpeg:https://mineralspringsbrewery.com/wp-content/uploads/2024/04/Cook-County-Band.jpg
END:VEVENT
BEGIN:VEVENT
DTSTART;TZID=America/Chicago:20240622T170000
DTEND;TZID=America/Chicago:20240622T210000
DTSTAMP:20260423T123029
CREATED:20240422T234851Z
LAST-MODIFIED:20240618T040237Z
UID:10002918-1719075600-1719090000@mineralspringsbrewery.com
SUMMARY:Honeymoon Madness
DESCRIPTION:Honeymoon Madness is a Minneapolis / St. Paul based rock band.
URL:https://mineralspringsbrewery.com/event/honeymoon-madness/
LOCATION:Mineral Springs Brewery\, 210 N Oak Ave\, Suite 1\, Owatonna\, MN\, 55060\, United States
CATEGORIES:Activities,Music
ATTACH;FMTTYPE=image/jpeg:https://mineralspringsbrewery.com/wp-content/uploads/2024/04/Honeymoon-Madness-scaled.jpg
END:VEVENT
BEGIN:VEVENT
DTSTART;TZID=America/Chicago:20240628T173000
DTEND;TZID=America/Chicago:20240628T193000
DTSTAMP:20260423T123029
CREATED:20240628T213826Z
LAST-MODIFIED:20240628T213829Z
UID:10003177-1719595800-1719603000@mineralspringsbrewery.com
SUMMARY:In a Bind
DESCRIPTION:In a Bind is an acoustic trio performing a variety of country\, pop & rock! \n\n\n\n\n\n\n\n\n\n\n\nDetails
URL:https://mineralspringsbrewery.com/event/in-a-bind/
LOCATION:Mineral Springs Brewery\, 210 N Oak Ave\, Suite 1\, Owatonna\, MN\, 55060\, United States
CATEGORIES:Activities,Music
ATTACH;FMTTYPE=image/jpeg:https://mineralspringsbrewery.com/wp-content/uploads/2024/06/In-a-Bind.jpg
END:VEVENT
BEGIN:VEVENT
DTSTART;TZID=America/Chicago:20240629T183000
DTEND;TZID=America/Chicago:20240629T183000
DTSTAMP:20260423T123029
CREATED:20240422T235312Z
LAST-MODIFIED:20240422T235407Z
UID:10002922-1719685800-1719685800@mineralspringsbrewery.com
SUMMARY:Barefoot Winos
DESCRIPTION:The Barefoot Winos play their own distinctive brand of Blues. There energetic\, soulful\, live performances has captivated their audiences all over the Midwest. It’s Blues with an attitude. What makes the band so unique is their depth of talent\, blend of musical influences\, and the ability to tie it all together.
URL:https://mineralspringsbrewery.com/event/barefoot-winos-6/
LOCATION:Mineral Springs Brewery\, 210 N Oak Ave\, Suite 1\, Owatonna\, MN\, 55060\, United States
CATEGORIES:Activities,Music
ATTACH;FMTTYPE=image/jpeg:https://mineralspringsbrewery.com/wp-content/uploads/2023/08/Barefoot-Winos-2-scaled.jpg
END:VEVENT
END:VCALENDAR