BEGIN:VCALENDAR
VERSION:2.0
PRODID:-//Mineral Springs Brewery - ECPv6.15.20//NONSGML v1.0//EN
CALSCALE:GREGORIAN
METHOD:PUBLISH
X-WR-CALNAME:Mineral Springs Brewery
X-ORIGINAL-URL:https://mineralspringsbrewery.com
X-WR-CALDESC:Events for Mineral Springs Brewery
REFRESH-INTERVAL;VALUE=DURATION:PT1H
X-Robots-Tag:noindex
X-PUBLISHED-TTL:PT1H
BEGIN:VTIMEZONE
TZID:America/Chicago
BEGIN:DAYLIGHT
TZOFFSETFROM:-0600
TZOFFSETTO:-0500
TZNAME:CDT
DTSTART:20240310T080000
END:DAYLIGHT
BEGIN:STANDARD
TZOFFSETFROM:-0500
TZOFFSETTO:-0600
TZNAME:CST
DTSTART:20241103T070000
END:STANDARD
BEGIN:DAYLIGHT
TZOFFSETFROM:-0600
TZOFFSETTO:-0500
TZNAME:CDT
DTSTART:20250309T080000
END:DAYLIGHT
BEGIN:STANDARD
TZOFFSETFROM:-0500
TZOFFSETTO:-0600
TZNAME:CST
DTSTART:20251102T070000
END:STANDARD
BEGIN:DAYLIGHT
TZOFFSETFROM:-0600
TZOFFSETTO:-0500
TZNAME:CDT
DTSTART:20260308T080000
END:DAYLIGHT
BEGIN:STANDARD
TZOFFSETFROM:-0500
TZOFFSETTO:-0600
TZNAME:CST
DTSTART:20261101T070000
END:STANDARD
END:VTIMEZONE
BEGIN:VEVENT
DTSTART;TZID=America/Chicago:20250503T183000
DTEND;TZID=America/Chicago:20250503T203000
DTSTAMP:20260422T133947
CREATED:20250319T212253Z
LAST-MODIFIED:20250319T212306Z
UID:10003865-1746297000-1746304200@mineralspringsbrewery.com
SUMMARY:The Foragers
DESCRIPTION:Two singer/songwriters\, four friends\, and a gazillion instruments from Saint Paul\, Minnesota\, serving up Americana originals and covers that stick to your soul not your ribs.
URL:https://mineralspringsbrewery.com/event/the-foragers/
LOCATION:Mineral Springs Brewery\, 210 N Oak Ave\, Suite 1\, Owatonna\, MN\, 55060\, United States
CATEGORIES:Music
ATTACH;FMTTYPE=image/jpeg:https://mineralspringsbrewery.com/wp-content/uploads/2023/05/IMG_0846.jpeg
END:VEVENT
BEGIN:VEVENT
DTSTART;TZID=America/Chicago:20250506T183000
DTEND;TZID=America/Chicago:20250506T210000
DTSTAMP:20260422T133947
CREATED:20250504T224828Z
LAST-MODIFIED:20250504T224833Z
UID:10003894-1746556200-1746565200@mineralspringsbrewery.com
SUMMARY:Bruce Bernhart
DESCRIPTION:Bruce Bernhart has played in several bluegrass bands at the Steele County Fair over the past 35+ years\, plus various other county fairs across south-central Minnesota. \n\n\n\nBruce has also been featured playing mandolin on a number of CDs recorded by bands he’s been a part of since the early 90’s. Prior to the mandolin\, Bruce had been strumming the banjo and bass. Since then\, Bruce has mastered the lost art of flatpicking old time fiddle tunes on the guitar with no amplifier and no microphone.
URL:https://mineralspringsbrewery.com/event/bruce-bernhart-3/
LOCATION:Mineral Springs Brewery\, 210 N Oak Ave\, Suite 1\, Owatonna\, MN\, 55060\, United States
CATEGORIES:Music
ATTACH;FMTTYPE=image/jpeg:https://mineralspringsbrewery.com/wp-content/uploads/2025/02/Image.jpg
END:VEVENT
BEGIN:VEVENT
DTSTART;TZID=America/Chicago:20250510T160000
DTEND;TZID=America/Chicago:20250510T180000
DTSTAMP:20260422T133947
CREATED:20250430T164524Z
LAST-MODIFIED:20250430T164527Z
UID:10003891-1746892800-1746900000@mineralspringsbrewery.com
SUMMARY:Bruce Bernhart
DESCRIPTION:Bruce Bernhart has played in several bluegrass bands at the Steele County Fair over the past 35+ years\, plus various other county fairs across south-central Minnesota. \n\n\n\nBruce has also been featured playing mandolin on a number of CDs recorded by bands he’s been a part of since the early 90’s. Prior to the mandolin\, Bruce had been strumming the banjo and bass. Since then\, Bruce has mastered the lost art of flatpicking old time fiddle tunes on the guitar with no amplifier and no microphone.
URL:https://mineralspringsbrewery.com/event/bruce-bernhart/
LOCATION:Mineral Springs Brewery\, 210 N Oak Ave\, Suite 1\, Owatonna\, MN\, 55060\, United States
CATEGORIES:Music
ATTACH;FMTTYPE=image/jpeg:https://mineralspringsbrewery.com/wp-content/uploads/2025/02/Image.jpg
END:VEVENT
BEGIN:VEVENT
DTSTART;TZID=America/Chicago:20250510T173000
DTEND;TZID=America/Chicago:20250510T193000
DTSTAMP:20260422T133947
CREATED:20250319T212554Z
LAST-MODIFIED:20250415T000135Z
UID:10003868-1746898200-1746905400@mineralspringsbrewery.com
SUMMARY:Adam Moe
DESCRIPTION:Adam Moe is a fiddler and singer/songwriter based in Duluth\, MN. In 2012\, he started the folky-tonk duo Pushing Chain with then partner Boyd Blomberg. For the next eight years\, Pushing Chain toured the US and Canada\, playing venues big and small and gaining fans the old-fashioned way — face to face\, one at a time. Adam has been featured on radio and television\, and played some of the biggest festivals in the country\, including the 2019 Woody Guthrie Festival and the 2019 Kerrville Folk Festival. \n\n\n\nWith the onset of the 2020 pandemic\, Adam has set out on a solo career. His unique original songs backed by his tenor guitar and delivered with his clear\, bluesy tenor make for a great show. \n\n\n\nAdam believes that good music can make strangers share a table\, and he proves it every time he plays. He’s nothing if not entertaining.
URL:https://mineralspringsbrewery.com/event/adam-moe-9/
LOCATION:Mineral Springs Brewery\, 210 N Oak Ave\, Suite 1\, Owatonna\, MN\, 55060\, United States
CATEGORIES:Music
ATTACH;FMTTYPE=image/jpeg:https://mineralspringsbrewery.com/wp-content/uploads/2022/02/Adam-Moe.jpg
END:VEVENT
BEGIN:VEVENT
DTSTART;TZID=America/Chicago:20250517T183000
DTEND;TZID=America/Chicago:20250517T203000
DTSTAMP:20260422T133947
CREATED:20250319T212826Z
LAST-MODIFIED:20250319T213012Z
UID:10003872-1747506600-1747513800@mineralspringsbrewery.com
SUMMARY:Whiskey Whiskers
DESCRIPTION:Southern Minnesota Band playing music you love! \n\n\n\n\n\n\n\n\n\n\n\nDetails
URL:https://mineralspringsbrewery.com/event/whiskey-whiskers-6/
LOCATION:MN
CATEGORIES:Music
ATTACH;FMTTYPE=image/jpeg:https://mineralspringsbrewery.com/wp-content/uploads/2022/04/Whiskey-Whiskers-1.jpg
END:VEVENT
BEGIN:VEVENT
DTSTART;TZID=America/Chicago:20250520T183000
DTEND;TZID=America/Chicago:20250520T210000
DTSTAMP:20260422T133947
CREATED:20250513T210039Z
LAST-MODIFIED:20250513T210048Z
UID:10003914-1747765800-1747774800@mineralspringsbrewery.com
SUMMARY:Bruce Bernhart
DESCRIPTION:Bruce Bernhart has played in several bluegrass bands at the Steele County Fair over the past 35+ years\, plus various other county fairs across south-central Minnesota. \n\n\n\nBruce has also been featured playing mandolin on a number of CDs recorded by bands he’s been a part of since the early 90’s. Prior to the mandolin\, Bruce had been strumming the banjo and bass. Since then\, Bruce has mastered the lost art of flatpicking old time fiddle tunes on the guitar with no amplifier and no microphone.
URL:https://mineralspringsbrewery.com/event/bruce-bernhart-5/
LOCATION:Mineral Springs Brewery\, 210 N Oak Ave\, Suite 1\, Owatonna\, MN\, 55060\, United States
CATEGORIES:Music
ATTACH;FMTTYPE=image/jpeg:https://mineralspringsbrewery.com/wp-content/uploads/2025/02/Image.jpg
END:VEVENT
BEGIN:VEVENT
DTSTART;TZID=America/Chicago:20250524T183000
DTEND;TZID=America/Chicago:20250524T203000
DTSTAMP:20260422T133947
CREATED:20250319T212952Z
LAST-MODIFIED:20250319T213010Z
UID:10003875-1748111400-1748118600@mineralspringsbrewery.com
SUMMARY:HoldFast
DESCRIPTION:HoldFast is a local vocal trio from Waterville!
URL:https://mineralspringsbrewery.com/event/holdfast-2/
LOCATION:Mineral Springs Brewery\, 210 N Oak Ave\, Suite 1\, Owatonna\, MN\, 55060\, United States
CATEGORIES:Music
ATTACH;FMTTYPE=image/jpeg:https://mineralspringsbrewery.com/wp-content/uploads/2025/03/HoldFast-Music.jpg
END:VEVENT
BEGIN:VEVENT
DTSTART;TZID=America/Chicago:20250530T000000
DTEND;TZID=America/Chicago:20250530T235959
DTSTAMP:20260422T133947
CREATED:20250319T211249Z
LAST-MODIFIED:20250319T211254Z
UID:10003853-1748563200-1748649599@mineralspringsbrewery.com
SUMMARY:Final(ly) Friday
DESCRIPTION:Join us for the last Friday of every month through September to kick off the weekend! We’ll have live music and a fan-favorite food truck on site! The perfect end to the week and the month with something for the whole family! \n\n\n\n\n\n\n\nDetails
URL:https://mineralspringsbrewery.com/event/finally-friday-7/2025-05-30/
LOCATION:MN
CATEGORIES:Activities,Events,Music
ATTACH;FMTTYPE=image/png:https://mineralspringsbrewery.com/wp-content/uploads/2023/02/0AC096FB-5A0E-4FA8-B869-C385FF518D16.png
END:VEVENT
BEGIN:VEVENT
DTSTART;TZID=America/Chicago:20250530T180000
DTEND;TZID=America/Chicago:20250530T200000
DTSTAMP:20260422T133947
CREATED:20250319T213147Z
LAST-MODIFIED:20250319T213202Z
UID:10003878-1748628000-1748635200@mineralspringsbrewery.com
SUMMARY:Fred the Bear
DESCRIPTION:Fred the Bear is a classic rock/alternative band known for their rich harmonies\, emotive dynamics and original songs. FTB’s music reflects on life’s promises and disappointments through personal crafted lyrics and driving rhythms.  Mixed within their originals is a blend of music from other Midwest artists\, currently touring groups and classic bands.  \n\n\n\nTheir name and their drive for a great live sound is a tribute to Bruce “Fred the Bear” Eschler.  At his bar\, the “Bear’s Den”\, you could always count on a stiff drink and one heck of a party\, with the music crankin’ all night.  So they play tribute to the man who provided them a first glimpse into the true energy of live music …. Fred the Bear.
URL:https://mineralspringsbrewery.com/event/fred-the-bear-10/
LOCATION:Mineral Springs Brewery\, 210 N Oak Ave\, Suite 1\, Owatonna\, MN\, 55060\, United States
CATEGORIES:Music
ATTACH;FMTTYPE=image/jpeg:https://mineralspringsbrewery.com/wp-content/uploads/2022/04/Fred-the-Bear-scaled.jpg
END:VEVENT
BEGIN:VEVENT
DTSTART;TZID=America/Chicago:20250531T180000
DTEND;TZID=America/Chicago:20250531T200000
DTSTAMP:20260422T133947
CREATED:20250531T200406Z
LAST-MODIFIED:20250531T200526Z
UID:10003971-1748714400-1748721600@mineralspringsbrewery.com
SUMMARY:Steve Boyken
DESCRIPTION:Special solo performance by Steve Boyken\, half of Ron & Steve Unplugged. Enjoy acoustic pop and rock classics from the 70s and 80s! \n\n\n\n\n\n\n\nDetails
URL:https://mineralspringsbrewery.com/event/steve-boyken-11/
LOCATION:MN
CATEGORIES:Music
ATTACH;FMTTYPE=image/webp:https://mineralspringsbrewery.com/wp-content/uploads/2022/03/SteveBoyken.webp
END:VEVENT
END:VCALENDAR