BEGIN:VCALENDAR
VERSION:2.0
PRODID:-//Mineral Springs Brewery - ECPv6.15.20//NONSGML v1.0//EN
CALSCALE:GREGORIAN
METHOD:PUBLISH
X-ORIGINAL-URL:https://mineralspringsbrewery.com
X-WR-CALDESC:Events for Mineral Springs Brewery
REFRESH-INTERVAL;VALUE=DURATION:PT1H
X-Robots-Tag:noindex
X-PUBLISHED-TTL:PT1H
BEGIN:VTIMEZONE
TZID:America/Chicago
BEGIN:DAYLIGHT
TZOFFSETFROM:-0600
TZOFFSETTO:-0500
TZNAME:CDT
DTSTART:20240310T080000
END:DAYLIGHT
BEGIN:STANDARD
TZOFFSETFROM:-0500
TZOFFSETTO:-0600
TZNAME:CST
DTSTART:20241103T070000
END:STANDARD
BEGIN:DAYLIGHT
TZOFFSETFROM:-0600
TZOFFSETTO:-0500
TZNAME:CDT
DTSTART:20250309T080000
END:DAYLIGHT
BEGIN:STANDARD
TZOFFSETFROM:-0500
TZOFFSETTO:-0600
TZNAME:CST
DTSTART:20251102T070000
END:STANDARD
BEGIN:DAYLIGHT
TZOFFSETFROM:-0600
TZOFFSETTO:-0500
TZNAME:CDT
DTSTART:20260308T080000
END:DAYLIGHT
BEGIN:STANDARD
TZOFFSETFROM:-0500
TZOFFSETTO:-0600
TZNAME:CST
DTSTART:20261101T070000
END:STANDARD
END:VTIMEZONE
BEGIN:VEVENT
DTSTART;TZID=America/Chicago:20250802T183000
DTEND;TZID=America/Chicago:20250802T203000
DTSTAMP:20260422T065557
CREATED:20250728T235131Z
LAST-MODIFIED:20250728T235134Z
UID:10004040-1754159400-1754166600@mineralspringsbrewery.com
SUMMARY:Ferchvana
DESCRIPTION:
URL:https://mineralspringsbrewery.com/event/ferchvana/
LOCATION:Mineral Springs Brewery\, 210 N Oak Ave\, Suite 1\, Owatonna\, MN\, 55060\, United States
CATEGORIES:Music
ATTACH;FMTTYPE=image/jpeg:https://mineralspringsbrewery.com/wp-content/uploads/2025/07/5032452498519507847.jpeg
END:VEVENT
BEGIN:VEVENT
DTSTART;TZID=America/Chicago:20250805T183000
DTEND;TZID=America/Chicago:20250805T193000
DTSTAMP:20260422T065557
CREATED:20250610T102415Z
LAST-MODIFIED:20250610T102418Z
UID:10003986-1754418600-1754422200@mineralspringsbrewery.com
SUMMARY:Bruce Bernhart
DESCRIPTION:Bruce Bernhart has played in several bluegrass bands at the Steele County Fair over the past 35+ years\, plus various other county fairs across south-central Minnesota. \n\n\n\nBruce has also been featured playing mandolin on a number of CDs recorded by bands he’s been a part of since the early 90’s. Prior to the mandolin\, Bruce had been strumming the banjo and bass. Since then\, Bruce has mastered the lost art of flatpicking old time fiddle tunes on the guitar with no amplifier and no microphone.
URL:https://mineralspringsbrewery.com/event/bruce-bernhart-10/
LOCATION:Mineral Springs Brewery\, 210 N Oak Ave\, Suite 1\, Owatonna\, MN\, 55060\, United States
CATEGORIES:Music
ATTACH;FMTTYPE=image/jpeg:https://mineralspringsbrewery.com/wp-content/uploads/2025/02/Image.jpg
END:VEVENT
BEGIN:VEVENT
DTSTART;TZID=America/Chicago:20250809T183000
DTEND;TZID=America/Chicago:20250809T203000
DTSTAMP:20260422T065557
CREATED:20250610T102831Z
LAST-MODIFIED:20250610T102834Z
UID:10003989-1754764200-1754771400@mineralspringsbrewery.com
SUMMARY:Shasta Kings
DESCRIPTION:The Shasta Kings are Scott Rogness (guitar/lead vocals) and Bruce Watts (guitars/vocals) playing a wide variety of songs from classic rock to new country.
URL:https://mineralspringsbrewery.com/event/shasta-kings-13/
LOCATION:Mineral Springs Brewery\, 210 N Oak Ave\, Suite 1\, Owatonna\, MN\, 55060\, United States
CATEGORIES:Music
ATTACH;FMTTYPE=image/jpeg:https://mineralspringsbrewery.com/wp-content/uploads/2024/04/Shasta-Kings.jpg
END:VEVENT
BEGIN:VEVENT
DTSTART;TZID=America/Chicago:20250816T170000
DTEND;TZID=America/Chicago:20250816T210000
DTSTAMP:20260422T065557
CREATED:20250729T002249Z
LAST-MODIFIED:20250729T200521Z
UID:10004042-1755363600-1755378000@mineralspringsbrewery.com
SUMMARY:Cook County & Honeymoon Madness
DESCRIPTION:Cook County is an alternative folk-rock band based out of Minneapolis featuring a male-female vocal harmony duo cultivated over several years\, slick guitar licks\, and multifaceted songwriting. \n\n\n\nCook County is joined tonight by Honeymoon Madness\, a rock band also from Minneapolis!
URL:https://mineralspringsbrewery.com/event/cook-county-honeymoon-madness/
LOCATION:Mineral Springs Brewery\, 210 N Oak Ave\, Suite 1\, Owatonna\, MN\, 55060\, United States
CATEGORIES:Music
ATTACH;FMTTYPE=image/jpeg:https://mineralspringsbrewery.com/wp-content/uploads/2025/07/IMG_3710.jpeg
END:VEVENT
BEGIN:VEVENT
DTSTART;TZID=America/Chicago:20250821T190000
DTEND;TZID=America/Chicago:20250821T220000
DTSTAMP:20260422T065557
CREATED:20250610T104107Z
LAST-MODIFIED:20250610T104110Z
UID:10003990-1755802800-1755813600@mineralspringsbrewery.com
SUMMARY:Charlie Parr
DESCRIPTION:Come join us for a night of amazing music with Minnesota based Smithsonian Folkways Recording Artist Charlie Parr! He will be performing live at Mineral Springs Brewery. Witness Charlie’s unique foot stomping style of blues\, folk and Americanna. This brewery setting in Owatonna is one of smallest venues on Charlie’s current tour. This is an event you won’t want to miss! Get your tickets before they sell out.  \n\n\n\nIn the music of Charlie Parr\, there is a sincere conviction and earnest drive to create. The Minnesota-born guitarist\, songwriter\, and interpreter of traditional music has released 19 albums over two decades and has been known to perform up to 275 shows a year. Parr is a folk troubadour in the truest sense: taking to the road between shows\, writing and rewriting songs as he plays\, fueled by a belief that music is eternal and cannot be claimed or adequately explained. The bluesman poet pulls closely from the sights and sounds around him\, his lyrical craftsmanship built by his influences. The sounds from his working-class upbringing—including Folkways legends such as Lead Belly and Woody Guthrie—imbue Parr’s music with stylistic echoes of blues and folk icons of decades past. Parr sees himself merely as a continuer of a folk tradition: “I feel like I stand on a lot of big shoulders\,” he said in an interview. “I hope that I’ve brought a little bit of myself to the music.” \n\n\n\nWith a discography simultaneously transcendental in nature and grounded in roots music\, Charlie Parr is the humble master of the 21st century folk tradition. Parr started recording in Duluth in 2002\, where he lives today. Life in the port town on Lake Superior has a way of bleeding into his work the same way his childhood in Austin\, Minnesota does. Parr self-released his debut album\, Criminals and Sinners\, and did the same for his sophomore album 1922 (2002). With growing popularity abroad\, Parr signed with Red House Records in 2015\, where he recorded break-out albums Stumpjumper (2015) and Dog (2017). Parr’s music has an overwhelming sense of being present and mindful\, and his sound is timeless. \n\n\n\nParr’s mastery of his craft is only more apparent when contextualized within the history of folk tradition of which Parr has dedicated his practice The land and lives around and intersecting with Parr have always influenced him\, from the hills and valleys of Hollandale\, Minnesota to the Depression-era stories from his father. Parr strives to listen to everything: “I don’t see that I’d ever be capable of creating anything if it weren’t for these inspirations and influences\, books and music as well as the weather and random interactions with strangers and animals. So\, the well never runs dry as long as my eyes and ears are open\,” Parr said in a 2020 interview. Before he was even 10 years old Parr was rummaging through his father’s record collection—sometimes drawing dinosaurs on the vinyl sleeves—and listening to country\, folk\, and blues legends\, many of whom are staples in the Folkways catalog. When Parr sings and plays his resonator or 12-string\, you can hear influences like Mance Lipscomb\, Charley Patton\, Spinder John Koerner\, Rev. Gary Davis\, and Dock Boggs. This is especially true in his playing\, when\, after a diagnosis of focal dystonia\, Parr turned to greats like Davis\, Doc Watson\, and Booker White for two-finger picking inspiration. Gifted a 1965 Gibson B-45 12-string by his father\, Parr has never had a formal lesson and learned by to listening records and watching musicians he admired. \n\n\n\nParr’s first album with Smithsonian Folkways\, Last of Better Days Head (2021)\, foregrounded his lyrical craftsmanship and sophisticated bluesman confidence\, with spare production highlighting Parr’s mastery of guitar and elevating his poetry. Last of Better Days Ahead is a portrait of how Parr saw the world in that moment\, reflecting on time and memories that have past while holding an enduring desire to be present. In his 2024 release\, Little Sun\, Parr weaves together stories celebrating music\, community\, and communing with nature. Putting forth an ambitious and raw album that exemplifies the best of Parr’s sound: a blend of the blues and folk traditions he continues to carry with him and the steadfast originality of a poet.
URL:https://mineralspringsbrewery.com/event/charlie-parr/
LOCATION:Mineral Springs Brewery\, 210 N Oak Ave\, Suite 1\, Owatonna\, MN\, 55060\, United States
CATEGORIES:Music
ATTACH;FMTTYPE=image/png:https://mineralspringsbrewery.com/wp-content/uploads/2025/06/Charlie-Parr-Concert.png
END:VEVENT
BEGIN:VEVENT
DTSTART;TZID=America/Chicago:20250823T180000
DTEND;TZID=America/Chicago:20250823T200000
DTSTAMP:20260422T065557
CREATED:20250729T012534Z
LAST-MODIFIED:20250729T012538Z
UID:10004045-1755972000-1755979200@mineralspringsbrewery.com
SUMMARY:Angel Val
DESCRIPTION:Angel grew up listening to her mom sing in an 80s rock band. She has a strong background and love for rock music and has grown to love country as well. Angel has taken her two favorite genre’s and mixed them into a more rock country style. Angel began playing guitar in Jr High where she found her passion for writing. \n\n\n\nAngel began working with her friend and now manager and producer\, Doug Olson in 2016 when they recorded her 1st album\, Gravel Road\, in Nashville with producer Buddy Hyatt. \n\n\n\n\nAngel puts her Mom at the top of her Influences… Growing up watching her Mom sing and perform has giving her the inspiration and drive to continue the passion for music. She also credits Miranda Lambert and the Cranberries. Angel also uses personal experiences in life to influence her writing… Such as relationships and spending time with friends. \n\n\n\n\nWhether you are looking for a solo acoustic show\, duet\, or full band\, Angel Val delivers a great performance!
URL:https://mineralspringsbrewery.com/event/angel-val-5/
LOCATION:Mineral Springs Brewery\, 210 N Oak Ave\, Suite 1\, Owatonna\, MN\, 55060\, United States
CATEGORIES:Music
ATTACH;FMTTYPE=image/jpeg:https://mineralspringsbrewery.com/wp-content/uploads/2023/11/Angel-Val-Music.jpg
END:VEVENT
BEGIN:VEVENT
DTSTART;TZID=America/Chicago:20250829T000000
DTEND;TZID=America/Chicago:20250829T235959
DTSTAMP:20260422T065557
CREATED:20250319T211249Z
LAST-MODIFIED:20250319T211254Z
UID:10003856-1756425600-1756511999@mineralspringsbrewery.com
SUMMARY:Final(ly) Friday
DESCRIPTION:Join us for the last Friday of every month through September to kick off the weekend! We’ll have live music and a fan-favorite food truck on site! The perfect end to the week and the month with something for the whole family! \n\n\n\n\n\n\n\nDetails
URL:https://mineralspringsbrewery.com/event/finally-friday-7/2025-08-29/
LOCATION:MN
CATEGORIES:Activities,Events,Music
ATTACH;FMTTYPE=image/png:https://mineralspringsbrewery.com/wp-content/uploads/2023/02/0AC096FB-5A0E-4FA8-B869-C385FF518D16.png
END:VEVENT
BEGIN:VEVENT
DTSTART;TZID=America/Chicago:20250829T180000
DTEND;TZID=America/Chicago:20250829T200000
DTSTAMP:20260422T065557
CREATED:20250729T183356Z
LAST-MODIFIED:20250729T183400Z
UID:10004053-1756490400-1756497600@mineralspringsbrewery.com
SUMMARY:Fred the Bear
DESCRIPTION:Fred the Bear is a classic rock/alternative band known for their rich harmonies\, emotive dynamics and original songs. FTB’s music reflects on life’s promises and disappointments through personal crafted lyrics and driving rhythms.  Mixed within their originals is a blend of music from other Midwest artists\, currently touring groups and classic bands.  \n\n\n\nTheir name and their drive for a great live sound is a tribute to Bruce “Fred the Bear” Eschler.  At his bar\, the “Bear’s Den”\, you could always count on a stiff drink and one heck of a party\, with the music crankin’ all night.  So they play tribute to the man who provided them a first glimpse into the true energy of live music …. Fred the Bear.
URL:https://mineralspringsbrewery.com/event/fred-the-bear-11/
LOCATION:Mineral Springs Brewery\, 210 N Oak Ave\, Suite 1\, Owatonna\, MN\, 55060\, United States
CATEGORIES:Music
ATTACH;FMTTYPE=image/jpeg:https://mineralspringsbrewery.com/wp-content/uploads/2022/04/Fred-the-Bear-scaled.jpg
END:VEVENT
BEGIN:VEVENT
DTSTART;TZID=America/Chicago:20250830T180000
DTEND;TZID=America/Chicago:20250830T200000
DTSTAMP:20260422T065557
CREATED:20250729T183516Z
LAST-MODIFIED:20250729T183520Z
UID:10004048-1756576800-1756584000@mineralspringsbrewery.com
SUMMARY:Steve Boyken
DESCRIPTION:Special solo performance by Steve Boyken\, half of Ron & Steve Unplugged. Enjoy acoustic pop and rock classics from the 70s and 80s! \n\n\n\n\n\n\n\nDetails
URL:https://mineralspringsbrewery.com/event/steve-boyken-12/
LOCATION:MN
CATEGORIES:Music
ATTACH;FMTTYPE=image/webp:https://mineralspringsbrewery.com/wp-content/uploads/2022/03/SteveBoyken.webp
END:VEVENT
END:VCALENDAR