BEGIN:VCALENDAR
VERSION:2.0
PRODID:-//Mineral Springs Brewery - ECPv6.15.20//NONSGML v1.0//EN
CALSCALE:GREGORIAN
METHOD:PUBLISH
X-ORIGINAL-URL:https://mineralspringsbrewery.com
X-WR-CALDESC:Events for Mineral Springs Brewery
REFRESH-INTERVAL;VALUE=DURATION:PT1H
X-Robots-Tag:noindex
X-PUBLISHED-TTL:PT1H
BEGIN:VTIMEZONE
TZID:America/Chicago
BEGIN:DAYLIGHT
TZOFFSETFROM:-0600
TZOFFSETTO:-0500
TZNAME:CDT
DTSTART:20240310T080000
END:DAYLIGHT
BEGIN:STANDARD
TZOFFSETFROM:-0500
TZOFFSETTO:-0600
TZNAME:CST
DTSTART:20241103T070000
END:STANDARD
BEGIN:DAYLIGHT
TZOFFSETFROM:-0600
TZOFFSETTO:-0500
TZNAME:CDT
DTSTART:20250309T080000
END:DAYLIGHT
BEGIN:STANDARD
TZOFFSETFROM:-0500
TZOFFSETTO:-0600
TZNAME:CST
DTSTART:20251102T070000
END:STANDARD
BEGIN:DAYLIGHT
TZOFFSETFROM:-0600
TZOFFSETTO:-0500
TZNAME:CDT
DTSTART:20260308T080000
END:DAYLIGHT
BEGIN:STANDARD
TZOFFSETFROM:-0500
TZOFFSETTO:-0600
TZNAME:CST
DTSTART:20261101T070000
END:STANDARD
END:VTIMEZONE
BEGIN:VEVENT
DTSTART;TZID=America/Chicago:20250905T173000
DTEND;TZID=America/Chicago:20250905T203000
DTSTAMP:20260422T052511
CREATED:20250729T184411Z
LAST-MODIFIED:20250825T004744Z
UID:10004054-1757093400-1757104200@mineralspringsbrewery.com
SUMMARY:The Gated Community
DESCRIPTION:In 2006 South Asian-American Yale graduate and political activist Sumanth Gopinath started a country/bluegrass band in Minneapolis called The Gated Community. Influenced by his dad’s classic country record collection and modern Americana bands like The Flatlanders\, the band mixes folk\, bluegrass and country music with a raw\, rock edge. \n\n\n\nBorn in Chicago\, Sumanth’s family relocated to Slidell\, Louisiana when he was nine. “At first\, my brother and I hated the place. We consciously decided not to adopt southern accents\, but we were of course surrounded by them\, and by contemporary country music\,” he recalls. Later\, as a grad student at Yale he fell under the musical mentorship of fellow graduate student and Chapel Hill\, North Carolina country/bluegrass veteran Rob Slifkin\, who introduced him to the music of classic Americana artists. Sumanth’s songwriting quickly blossomed in country music—a genre he’d shunned since his days in Slidell. “Playing a form of country and getting to ‘play southern’ became a form of therapy\, a way of dealing with all of the unpleasant bullying\, racism\, and social dislocation that I experienced while growing up in Louisiana.” \n\n\n\nIn 2005\, Sumanth moved from New Haven to Minneapolis to begin working as a professor of music theory at the University of Minnesota. There he would meet fellow faculty members and grad students with whom he would form The Gated Community – a delightfully raucous country band whose lively shows and pointed social commentary quickly gained a cult following in the Twin Cities. Although the band began as a vehicle for Sumanth’s frequently political songs\, the band has evolved over the last 19 years\, expanding in size and scope to include many roots music styles and more personal songwriting. Now featuring six singers\, the band combines professors like Sumanth (vocals\, acoustic guitar\, keyboards) and Beth Hartman (vocals\, percussion)\, and artists from various parts of the Twin Cities scene like Rosie Harris (vocals\, banjo\, cello)\, Paul Hatlelid (vocals\, drums\, acoustic guitar)\, Cody Johnson (vocals\, bass)\, and Nate Knutson (vocals\, guitars\, mandolin). This current lineup has been featured on their last two albums – The Honor and Glory of The Gated Community (2023) and Goodbye Work (2025) – showing the band “stepping out of their Marxist bluegrass novelty band box to create emotionally complex songs” (Dispatch).  \n\n\n\nAbout the interesting mix of people in the band\, Sumanth says “Even though I have strong social ties to the academic world\, I don’t like hanging out only with academics. I prefer to work with people from all walks of life—whether they be union organizers\, office workers\, or full-time artists.” Although the band members’ interests are indeed varied (kids\, dogs\, photography\, books\, cooking\, community organizing)\, they all love music\, travel and exploring historic sights while on the road. \n\n\n\nSumming up the band’s commitment to being a band of and for the people\, The Gated Community continues to stay true to its mission – to pursue the ideals of the American dream as expressed and embodied in the form of country music.
URL:https://mineralspringsbrewery.com/event/the-gated-community/
LOCATION:Mineral Springs Brewery\, 210 N Oak Ave\, Suite 1\, Owatonna\, MN\, 55060\, United States
CATEGORIES:Music
ATTACH;FMTTYPE=image/webp:https://mineralspringsbrewery.com/wp-content/uploads/2025/07/The-Gated-Community.webp
END:VEVENT
BEGIN:VEVENT
DTSTART;TZID=America/Chicago:20250906T183000
DTEND;TZID=America/Chicago:20250906T203000
DTSTAMP:20260422T052511
CREATED:20250729T185734Z
LAST-MODIFIED:20250729T185758Z
UID:10004055-1757183400-1757190600@mineralspringsbrewery.com
SUMMARY:Room For Gray
DESCRIPTION:Room For Gray is a local Southern Minnesota band with 2 albums under their belt!
URL:https://mineralspringsbrewery.com/event/room-for-gray/
LOCATION:Mineral Springs Brewery\, 210 N Oak Ave\, Suite 1\, Owatonna\, MN\, 55060\, United States
CATEGORIES:Music
ATTACH;FMTTYPE=image/png:https://mineralspringsbrewery.com/wp-content/uploads/2025/07/Room-For-Gray.png
END:VEVENT
BEGIN:VEVENT
DTSTART;TZID=America/Chicago:20250913T173000
DTEND;TZID=America/Chicago:20250913T203000
DTSTAMP:20260422T052511
CREATED:20250729T192850Z
LAST-MODIFIED:20250825T004834Z
UID:10004059-1757784600-1757795400@mineralspringsbrewery.com
SUMMARY:Adam Moe
DESCRIPTION:Adam Moe is a fiddler and singer/songwriter based in Duluth\, MN. In 2012\, he started the folky-tonk duo Pushing Chain with then partner Boyd Blomberg. For the next eight years\, Pushing Chain toured the US and Canada\, playing venues big and small and gaining fans the old-fashioned way — face to face\, one at a time. Adam has been featured on radio and television\, and played some of the biggest festivals in the country\, including the 2019 Woody Guthrie Festival and the 2019 Kerrville Folk Festival. \n\n\n\nWith the onset of the 2020 pandemic\, Adam has set out on a solo career. His unique original songs backed by his tenor guitar and delivered with his clear\, bluesy tenor make for a great show. \n\n\n\nAdam believes that good music can make strangers share a table\, and he proves it every time he plays. He’s nothing if not entertaining.
URL:https://mineralspringsbrewery.com/event/adam-moe-10/
LOCATION:Mineral Springs Brewery\, 210 N Oak Ave\, Suite 1\, Owatonna\, MN\, 55060\, United States
CATEGORIES:Music
ATTACH;FMTTYPE=image/jpeg:https://mineralspringsbrewery.com/wp-content/uploads/2022/02/Adam-Moe.jpg
END:VEVENT
BEGIN:VEVENT
DTSTART;TZID=America/Chicago:20250919T173000
DTEND;TZID=America/Chicago:20250919T213000
DTSTAMP:20260422T052511
CREATED:20250729T195346Z
LAST-MODIFIED:20250828T175149Z
UID:10004067-1758303000-1758317400@mineralspringsbrewery.com
SUMMARY:The iPolka Band
DESCRIPTION:The iPolka Band is a group of veteran musicians who love to play polkas! \n\n\n\nThe perfect compliment to our Oktoberfest activities!
URL:https://mineralspringsbrewery.com/event/the-ipolka-band-5/
LOCATION:Mineral Springs Brewery\, 210 N Oak Ave\, Suite 1\, Owatonna\, MN\, 55060\, United States
CATEGORIES:Music
ATTACH;FMTTYPE=image/jpeg:https://mineralspringsbrewery.com/wp-content/uploads/2023/08/iPolka-Band.jpg
END:VEVENT
BEGIN:VEVENT
DTSTART;TZID=America/Chicago:20250920T173000
DTEND;TZID=America/Chicago:20250920T213000
DTSTAMP:20260422T052511
CREATED:20250729T195411Z
LAST-MODIFIED:20250828T175148Z
UID:10004068-1758389400-1758403800@mineralspringsbrewery.com
SUMMARY:The iPolka Band
DESCRIPTION:The iPolka Band is a group of veteran musicians who love to play polkas! \n\n\n\nThe perfect compliment to our Oktoberfest activities!
URL:https://mineralspringsbrewery.com/event/the-ipolka-band-6/
LOCATION:Mineral Springs Brewery\, 210 N Oak Ave\, Suite 1\, Owatonna\, MN\, 55060\, United States
CATEGORIES:Music
ATTACH;FMTTYPE=image/jpeg:https://mineralspringsbrewery.com/wp-content/uploads/2023/08/iPolka-Band.jpg
END:VEVENT
BEGIN:VEVENT
DTSTART;TZID=America/Chicago:20250926T000000
DTEND;TZID=America/Chicago:20250926T235959
DTSTAMP:20260422T052511
CREATED:20250319T211249Z
LAST-MODIFIED:20250319T211254Z
UID:10003857-1758844800-1758931199@mineralspringsbrewery.com
SUMMARY:Final(ly) Friday
DESCRIPTION:Join us for the last Friday of every month through September to kick off the weekend! We’ll have live music and a fan-favorite food truck on site! The perfect end to the week and the month with something for the whole family! \n\n\n\n\n\n\n\nDetails
URL:https://mineralspringsbrewery.com/event/finally-friday-7/2025-09-26/
LOCATION:MN
CATEGORIES:Activities,Events,Music
ATTACH;FMTTYPE=image/png:https://mineralspringsbrewery.com/wp-content/uploads/2023/02/0AC096FB-5A0E-4FA8-B869-C385FF518D16.png
END:VEVENT
BEGIN:VEVENT
DTSTART;TZID=America/Chicago:20250926T173000
DTEND;TZID=America/Chicago:20250926T193000
DTSTAMP:20260422T052511
CREATED:20250825T005701Z
LAST-MODIFIED:20250825T005705Z
UID:10004084-1758907800-1758915000@mineralspringsbrewery.com
SUMMARY:Jamison Murphy
DESCRIPTION:
URL:https://mineralspringsbrewery.com/event/jamison-murphy-5/
LOCATION:Mineral Springs Brewery\, 210 N Oak Ave\, Suite 1\, Owatonna\, MN\, 55060\, United States
CATEGORIES:Music
ATTACH;FMTTYPE=image/jpeg:https://mineralspringsbrewery.com/wp-content/uploads/2024/10/JamisonMurphy-10.19-e1734405491703.jpg
END:VEVENT
BEGIN:VEVENT
DTSTART;TZID=America/Chicago:20250927T183000
DTEND;TZID=America/Chicago:20250927T203000
DTSTAMP:20260422T052511
CREATED:20250825T010217Z
LAST-MODIFIED:20250825T010220Z
UID:10004087-1758997800-1759005000@mineralspringsbrewery.com
SUMMARY:Shasta Kings
DESCRIPTION:The Shasta Kings are Scott Rogness (guitar/lead vocals) and Bruce Watts (guitars/vocals) playing a wide variety of songs from classic rock to new country.
URL:https://mineralspringsbrewery.com/event/shasta-kings-14/
LOCATION:Mineral Springs Brewery\, 210 N Oak Ave\, Suite 1\, Owatonna\, MN\, 55060\, United States
CATEGORIES:Music
ATTACH;FMTTYPE=image/jpeg:https://mineralspringsbrewery.com/wp-content/uploads/2024/04/Shasta-Kings.jpg
END:VEVENT
END:VCALENDAR