BEGIN:VCALENDAR
VERSION:2.0
PRODID:-//Mineral Springs Brewery - ECPv6.15.20//NONSGML v1.0//EN
CALSCALE:GREGORIAN
METHOD:PUBLISH
X-WR-CALNAME:Mineral Springs Brewery
X-ORIGINAL-URL:https://mineralspringsbrewery.com
X-WR-CALDESC:Events for Mineral Springs Brewery
REFRESH-INTERVAL;VALUE=DURATION:PT1H
X-Robots-Tag:noindex
X-PUBLISHED-TTL:PT1H
BEGIN:VTIMEZONE
TZID:America/Chicago
BEGIN:DAYLIGHT
TZOFFSETFROM:-0600
TZOFFSETTO:-0500
TZNAME:CDT
DTSTART:20230312T080000
END:DAYLIGHT
BEGIN:STANDARD
TZOFFSETFROM:-0500
TZOFFSETTO:-0600
TZNAME:CST
DTSTART:20231105T070000
END:STANDARD
BEGIN:DAYLIGHT
TZOFFSETFROM:-0600
TZOFFSETTO:-0500
TZNAME:CDT
DTSTART:20240310T080000
END:DAYLIGHT
BEGIN:STANDARD
TZOFFSETFROM:-0500
TZOFFSETTO:-0600
TZNAME:CST
DTSTART:20241103T070000
END:STANDARD
BEGIN:DAYLIGHT
TZOFFSETFROM:-0600
TZOFFSETTO:-0500
TZNAME:CDT
DTSTART:20250309T080000
END:DAYLIGHT
BEGIN:STANDARD
TZOFFSETFROM:-0500
TZOFFSETTO:-0600
TZNAME:CST
DTSTART:20251102T070000
END:STANDARD
END:VTIMEZONE
BEGIN:VEVENT
DTSTART;TZID=America/Chicago:20240804T170000
DTEND;TZID=America/Chicago:20240804T190000
DTSTAMP:20260423T135258
CREATED:20240731T005012Z
LAST-MODIFIED:20240731T005016Z
UID:10003192-1722790800-1722798000@mineralspringsbrewery.com
SUMMARY:Senior Moment
DESCRIPTION:Bruce Bernhart has played in several bluegrass bands at the Steele County Fair over the past 25+ years.  \n\n\n\nHaving mastered the lost art of flatpicking old time fiddle tunes on the guitar\, combined with no amplifiers and no microphones\, Bruce and his friend Tim (who plays back up rhythm guitar and who has played folk and bluegrass for as long as Bruce has) are the duo Senior Moment. \n\n\n\nSenior Moment is all about “easy listening” music softly blends in with the room. “Wallpaper” music Bruce likes to call it. You’ll be able to recognize some of the tunes played while others are less known but have beautiful melodies. There are no sharp edges to their music. It’s very melodic stuff that was written in an old-time simple style and then transposed from fiddle to guitar.  \n\n\n\nHinted at with the duo’s name\, they’re retired and simply love to play!
URL:https://mineralspringsbrewery.com/event/senior-moment-3/
LOCATION:Mineral Springs Brewery\, 210 N Oak Ave\, Suite 1\, Owatonna\, MN\, 55060\, United States
CATEGORIES:Activities,Music
END:VEVENT
BEGIN:VEVENT
DTSTART;TZID=America/Chicago:20240809T173000
DTEND;TZID=America/Chicago:20240809T193000
DTSTAMP:20260423T135258
CREATED:20240806T165130Z
LAST-MODIFIED:20240806T165133Z
UID:10003194-1723224600-1723231800@mineralspringsbrewery.com
SUMMARY:Shawn Russell
DESCRIPTION:
URL:https://mineralspringsbrewery.com/event/shawn-russell/
LOCATION:Mineral Springs Brewery\, 210 N Oak Ave\, Suite 1\, Owatonna\, MN\, 55060\, United States
CATEGORIES:Activities,Music
END:VEVENT
BEGIN:VEVENT
DTSTART;TZID=America/Chicago:20240810T183000
DTEND;TZID=America/Chicago:20240810T203000
DTSTAMP:20260423T135258
CREATED:20240423T001640Z
LAST-MODIFIED:20240618T040153Z
UID:10002943-1723314600-1723321800@mineralspringsbrewery.com
SUMMARY:Shasta Kings
DESCRIPTION:The Shasta Kings are Scott Rogness (guitar/lead vocals) and Bruce Watts (guitars/vocals) playing a wide variety of songs from classic rock to new country.
URL:https://mineralspringsbrewery.com/event/shasta-kings-8/
LOCATION:Mineral Springs Brewery\, 210 N Oak Ave\, Suite 1\, Owatonna\, MN\, 55060\, United States
CATEGORIES:Activities,Music
ATTACH;FMTTYPE=image/jpeg:https://mineralspringsbrewery.com/wp-content/uploads/2024/04/Shasta-Kings.jpg
END:VEVENT
BEGIN:VEVENT
DTSTART;TZID=America/Chicago:20240816T173000
DTEND;TZID=America/Chicago:20240816T193000
DTSTAMP:20260423T135258
CREATED:20240618T025347Z
LAST-MODIFIED:20240729T210325Z
UID:10003028-1723829400-1723836600@mineralspringsbrewery.com
SUMMARY:Leer Brothers
DESCRIPTION:
URL:https://mineralspringsbrewery.com/event/leer-brothers/
LOCATION:Mineral Springs Brewery\, 210 N Oak Ave\, Suite 1\, Owatonna\, MN\, 55060\, United States
CATEGORIES:Activities,Music
ATTACH;FMTTYPE=image/jpeg:https://mineralspringsbrewery.com/wp-content/uploads/2024/06/Leer-Bros.jpg
END:VEVENT
BEGIN:VEVENT
DTSTART;TZID=America/Chicago:20240817T183000
DTEND;TZID=America/Chicago:20240817T183000
DTSTAMP:20260423T135258
CREATED:20240423T001731Z
LAST-MODIFIED:20240423T001733Z
UID:10002945-1723919400-1723919400@mineralspringsbrewery.com
SUMMARY:Barefoot Winos
DESCRIPTION:The Barefoot Winos play their own distinctive brand of Blues. There energetic\, soulful\, live performances has captivated their audiences all over the Midwest. It’s Blues with an attitude. What makes the band so unique is their depth of talent\, blend of musical influences\, and the ability to tie it all together.
URL:https://mineralspringsbrewery.com/event/barefoot-winos-7/
LOCATION:Mineral Springs Brewery\, 210 N Oak Ave\, Suite 1\, Owatonna\, MN\, 55060\, United States
CATEGORIES:Activities,Music
ATTACH;FMTTYPE=image/jpeg:https://mineralspringsbrewery.com/wp-content/uploads/2023/08/Barefoot-Winos-2-scaled.jpg
END:VEVENT
BEGIN:VEVENT
DTSTART;TZID=America/Chicago:20240823T173000
DTEND;TZID=America/Chicago:20240823T193000
DTSTAMP:20260423T135258
CREATED:20240823T002251Z
LAST-MODIFIED:20240823T002255Z
UID:10003241-1724434200-1724441400@mineralspringsbrewery.com
SUMMARY:Shawn Russell
DESCRIPTION:
URL:https://mineralspringsbrewery.com/event/shawn-russell-2/
LOCATION:Mineral Springs Brewery\, 210 N Oak Ave\, Suite 1\, Owatonna\, MN\, 55060\, United States
CATEGORIES:Activities,Music
END:VEVENT
BEGIN:VEVENT
DTSTART;TZID=America/Chicago:20240824T183000
DTEND;TZID=America/Chicago:20240824T203000
DTSTAMP:20260423T135258
CREATED:20240423T001934Z
LAST-MODIFIED:20240423T001941Z
UID:10002950-1724524200-1724531400@mineralspringsbrewery.com
SUMMARY:Miller Denn
DESCRIPTION:Muriah Miller & Mark Denn are this Minnesota-based acoustic duo coming from family bands Miller Sisters & Country Denns. Based out of Waseca\, Minnesota.
URL:https://mineralspringsbrewery.com/event/miller-denn-6/
LOCATION:MN
CATEGORIES:Activities,Music
ATTACH;FMTTYPE=image/jpeg:https://mineralspringsbrewery.com/wp-content/uploads/2022/06/Miller-Denn.jpg
END:VEVENT
BEGIN:VEVENT
DTSTART;TZID=America/Chicago:20240830T180000
DTEND;TZID=America/Chicago:20240830T200000
DTSTAMP:20260423T135258
CREATED:20240423T002057Z
LAST-MODIFIED:20240618T040145Z
UID:10002953-1725040800-1725048000@mineralspringsbrewery.com
SUMMARY:Fred the Bear
DESCRIPTION:Fred the Bear is a classic rock/alternative band known for their rich harmonies\, emotive dynamics and original songs. FTB’s music reflects on life’s promises and disappointments through personal crafted lyrics and driving rhythms.  Mixed within their originals is a blend of music from other Midwest artists\, currently touring groups and classic bands.  \n\n\n\nTheir name and their drive for a great live sound is a tribute to Bruce “Fred the Bear” Eschler.  At his bar\, the “Bear’s Den”\, you could always count on a stiff drink and one heck of a party\, with the music crankin’ all night.  So they play tribute to the man who provided them a first glimpse into the true energy of live music …. Fred the Bear.
URL:https://mineralspringsbrewery.com/event/fred-the-bear-8/
LOCATION:Mineral Springs Brewery\, 210 N Oak Ave\, Suite 1\, Owatonna\, MN\, 55060\, United States
CATEGORIES:Activities,Music
ATTACH;FMTTYPE=image/jpeg:https://mineralspringsbrewery.com/wp-content/uploads/2022/04/Fred-the-Bear-scaled.jpg
END:VEVENT
BEGIN:VEVENT
DTSTART;TZID=America/Chicago:20240831T183000
DTEND;TZID=America/Chicago:20240831T203000
DTSTAMP:20260423T135258
CREATED:20240423T002127Z
LAST-MODIFIED:20240423T002128Z
UID:10002955-1725129000-1725136200@mineralspringsbrewery.com
SUMMARY:Jeff Reinartz
DESCRIPTION:Jeff Reinartz is a singer/songwriter from  Austin\, Minnesota. He’s been performing live for over 30 years and is a veteran of several bands. He is now a solo acoustic performer and has released two EPs that were produced by Scotty Rohr at Zension Studio in Austin. \n\n\n\n\nI believe that we’re here to use our talents and abilities to the benefit of others\, so after 22 years in the corporate world with a Fortune 300 company\, I resigned in 2019 to pursue my music interests full time. I didn’t necessarily count on a global pandemic\, but as things have loosened up I’ve been able to play more and more\, doing acoustic shows at primarily breweries and wineries in Southern Minnesota and Northern Iowa\, and building a small following organically.” \nJeff Reinartz
URL:https://mineralspringsbrewery.com/event/jeff-reinartz-16/
LOCATION:Mineral Springs Brewery\, 210 N Oak Ave\, Suite 1\, Owatonna\, MN\, 55060\, United States
CATEGORIES:Activities,Music
ATTACH;FMTTYPE=image/jpeg:https://mineralspringsbrewery.com/wp-content/uploads/2022/04/Jeff-Reinartz-scaled.jpg
END:VEVENT
BEGIN:VEVENT
DTSTART;TZID=America/Chicago:20240901T170000
DTEND;TZID=America/Chicago:20240901T180000
DTSTAMP:20260423T135258
CREATED:20240819T162816Z
LAST-MODIFIED:20240819T162819Z
UID:10003238-1725210000-1725213600@mineralspringsbrewery.com
SUMMARY:Senior Moment
DESCRIPTION:Bruce Bernhart has played in several bluegrass bands at the Steele County Fair over the past 25+ years.  \n\n\n\nHaving mastered the lost art of flatpicking old time fiddle tunes on the guitar\, combined with no amplifiers and no microphones\, Bruce and his friend Tim (who plays back up rhythm guitar and who has played folk and bluegrass for as long as Bruce has) are the duo Senior Moment. \n\n\n\nSenior Moment is all about “easy listening” music softly blends in with the room. “Wallpaper” music Bruce likes to call it. You’ll be able to recognize some of the tunes played while others are less known but have beautiful melodies. There are no sharp edges to their music. It’s very melodic stuff that was written in an old-time simple style and then transposed from fiddle to guitar.  \n\n\n\nHinted at with the duo’s name\, they’re retired and simply love to play!
URL:https://mineralspringsbrewery.com/event/senior-moment-4/
LOCATION:Mineral Springs Brewery\, 210 N Oak Ave\, Suite 1\, Owatonna\, MN\, 55060\, United States
CATEGORIES:Activities,Music
END:VEVENT
BEGIN:VEVENT
DTSTART;TZID=America/Chicago:20240905T190000
DTEND;TZID=America/Chicago:20240905T190000
DTSTAMP:20260423T135258
CREATED:20240903T221952Z
LAST-MODIFIED:20240903T221954Z
UID:10003252-1725562800-1725562800@mineralspringsbrewery.com
SUMMARY:Senior Moment
DESCRIPTION:Bruce Bernhart has played in several bluegrass bands at the Steele County Fair over the past 25+ years.  \n\n\n\nHaving mastered the lost art of flatpicking old time fiddle tunes on the guitar\, combined with no amplifiers and no microphones\, Bruce and his friend Tim (who plays back up rhythm guitar and who has played folk and bluegrass for as long as Bruce has) are the duo Senior Moment. \n\n\n\nSenior Moment is all about “easy listening” music softly blends in with the room. “Wallpaper” music Bruce likes to call it. You’ll be able to recognize some of the tunes played while others are less known but have beautiful melodies. There are no sharp edges to their music. It’s very melodic stuff that was written in an old-time simple style and then transposed from fiddle to guitar.  \n\n\n\nHinted at with the duo’s name\, they’re retired and simply love to play!
URL:https://mineralspringsbrewery.com/event/senior-moment-5/
LOCATION:Mineral Springs Brewery\, 210 N Oak Ave\, Suite 1\, Owatonna\, MN\, 55060\, United States
CATEGORIES:Activities,Music
END:VEVENT
BEGIN:VEVENT
DTSTART;TZID=America/Chicago:20240907T183000
DTEND;TZID=America/Chicago:20240907T183000
DTSTAMP:20260423T135258
CREATED:20240618T032138Z
LAST-MODIFIED:20240618T032139Z
UID:10003033-1725733800-1725733800@mineralspringsbrewery.com
SUMMARY:Barefoot Winos
DESCRIPTION:The Barefoot Winos play their own distinctive brand of Blues. There energetic\, soulful\, live performances has captivated their audiences all over the Midwest. It’s Blues with an attitude. What makes the band so unique is their depth of talent\, blend of musical influences\, and the ability to tie it all together.
URL:https://mineralspringsbrewery.com/event/barefoot-winos-8/
LOCATION:Mineral Springs Brewery\, 210 N Oak Ave\, Suite 1\, Owatonna\, MN\, 55060\, United States
CATEGORIES:Activities,Music
ATTACH;FMTTYPE=image/jpeg:https://mineralspringsbrewery.com/wp-content/uploads/2023/08/Barefoot-Winos-2-scaled.jpg
END:VEVENT
BEGIN:VEVENT
DTSTART;TZID=America/Chicago:20240914T183000
DTEND;TZID=America/Chicago:20240914T203000
DTSTAMP:20260423T135258
CREATED:20240903T224039Z
LAST-MODIFIED:20240904T014922Z
UID:10003259-1726338600-1726345800@mineralspringsbrewery.com
SUMMARY:Shasta Kings
DESCRIPTION:The Shasta Kings are Scott Rogness (guitar/lead vocals) and Bruce Watts (guitars/vocals) playing a wide variety of songs from classic rock to new country.
URL:https://mineralspringsbrewery.com/event/shasta-kings-9/
LOCATION:Mineral Springs Brewery\, 210 N Oak Ave\, Suite 1\, Owatonna\, MN\, 55060\, United States
CATEGORIES:Activities,Music
ATTACH;FMTTYPE=image/jpeg:https://mineralspringsbrewery.com/wp-content/uploads/2024/04/Shasta-Kings.jpg
END:VEVENT
BEGIN:VEVENT
DTSTART;TZID=America/Chicago:20240919T180000
DTEND;TZID=America/Chicago:20240919T180000
DTSTAMP:20260423T135258
CREATED:20240618T032231Z
LAST-MODIFIED:20240918T182321Z
UID:10003034-1726768800-1726768800@mineralspringsbrewery.com
SUMMARY:Barefoot Winos
DESCRIPTION:The Barefoot Winos play their own distinctive brand of Blues. There energetic\, soulful\, live performances has captivated their audiences all over the Midwest. It’s Blues with an attitude. What makes the band so unique is their depth of talent\, blend of musical influences\, and the ability to tie it all together.
URL:https://mineralspringsbrewery.com/event/barefoot-winos-9/
LOCATION:Mineral Springs Brewery\, 210 N Oak Ave\, Suite 1\, Owatonna\, MN\, 55060\, United States
CATEGORIES:Activities,Music
ATTACH;FMTTYPE=image/jpeg:https://mineralspringsbrewery.com/wp-content/uploads/2023/08/Barefoot-Winos-2-scaled.jpg
END:VEVENT
BEGIN:VEVENT
DTSTART;TZID=America/Chicago:20240920T143000
DTEND;TZID=America/Chicago:20240920T163000
DTSTAMP:20260423T135258
CREATED:20240618T033204Z
LAST-MODIFIED:20240618T033207Z
UID:10003040-1726842600-1726849800@mineralspringsbrewery.com
SUMMARY:Lori Lachner
DESCRIPTION:Lori Lachner of the iPolka band is booked solo with us to fulfill all your concertina favorites! \n\n\n\nThe perfect compliment to our Oktoberfest activities!
URL:https://mineralspringsbrewery.com/event/lori-lachner-3/
LOCATION:Mineral Springs Brewery\, 210 N Oak Ave\, Suite 1\, Owatonna\, MN\, 55060\, United States
CATEGORIES:Activities,Music
END:VEVENT
BEGIN:VEVENT
DTSTART;TZID=America/Chicago:20240920T173000
DTEND;TZID=America/Chicago:20240920T213000
DTSTAMP:20260423T135258
CREATED:20240618T034017Z
LAST-MODIFIED:20240618T034019Z
UID:10003047-1726853400-1726867800@mineralspringsbrewery.com
SUMMARY:The iPolka Band
DESCRIPTION:The iPolka Band is a group of veteran musicians who love to play polkas! \n\n\n\nThe perfect compliment to our Oktoberfest activities!
URL:https://mineralspringsbrewery.com/event/the-ipolka-band-3/
LOCATION:Mineral Springs Brewery\, 210 N Oak Ave\, Suite 1\, Owatonna\, MN\, 55060\, United States
CATEGORIES:Activities,Music
ATTACH;FMTTYPE=image/jpeg:https://mineralspringsbrewery.com/wp-content/uploads/2023/08/iPolka-Band.jpg
END:VEVENT
BEGIN:VEVENT
DTSTART;TZID=America/Chicago:20240921T173000
DTEND;TZID=America/Chicago:20240921T213000
DTSTAMP:20260423T135258
CREATED:20240618T034053Z
LAST-MODIFIED:20240618T034055Z
UID:10003048-1726939800-1726954200@mineralspringsbrewery.com
SUMMARY:The iPolka Band
DESCRIPTION:The iPolka Band is a group of veteran musicians who love to play polkas! \n\n\n\nThe perfect compliment to our Oktoberfest activities!
URL:https://mineralspringsbrewery.com/event/the-ipolka-band-4/
LOCATION:Mineral Springs Brewery\, 210 N Oak Ave\, Suite 1\, Owatonna\, MN\, 55060\, United States
CATEGORIES:Activities,Music
ATTACH;FMTTYPE=image/jpeg:https://mineralspringsbrewery.com/wp-content/uploads/2023/08/iPolka-Band.jpg
END:VEVENT
BEGIN:VEVENT
DTSTART;TZID=America/Chicago:20240922T170000
DTEND;TZID=America/Chicago:20240922T180000
DTSTAMP:20260423T135258
CREATED:20240904T015051Z
LAST-MODIFIED:20240904T015054Z
UID:10003260-1727024400-1727028000@mineralspringsbrewery.com
SUMMARY:Senior Moment
DESCRIPTION:Bruce Bernhart has played in several bluegrass bands at the Steele County Fair over the past 25+ years.  \n\n\n\nHaving mastered the lost art of flatpicking old time fiddle tunes on the guitar\, combined with no amplifiers and no microphones\, Bruce and his friend Tim (who plays back up rhythm guitar and who has played folk and bluegrass for as long as Bruce has) are the duo Senior Moment. \n\n\n\nSenior Moment is all about “easy listening” music softly blends in with the room. “Wallpaper” music Bruce likes to call it. You’ll be able to recognize some of the tunes played while others are less known but have beautiful melodies. There are no sharp edges to their music. It’s very melodic stuff that was written in an old-time simple style and then transposed from fiddle to guitar.  \n\n\n\nHinted at with the duo’s name\, they’re retired and simply love to play!
URL:https://mineralspringsbrewery.com/event/senior-moment-6/
LOCATION:Mineral Springs Brewery\, 210 N Oak Ave\, Suite 1\, Owatonna\, MN\, 55060\, United States
CATEGORIES:Activities,Music
END:VEVENT
BEGIN:VEVENT
DTSTART;TZID=America/Chicago:20240927T173000
DTEND;TZID=America/Chicago:20240927T193000
DTSTAMP:20260423T135258
CREATED:20240618T034431Z
LAST-MODIFIED:20240618T034434Z
UID:10003050-1727458200-1727465400@mineralspringsbrewery.com
SUMMARY:Miller Denn
DESCRIPTION:Muriah Miller & Mark Denn are this Minnesota-based acoustic duo coming from family bands Miller Sisters & Country Denns. Based out of Waseca\, Minnesota.
URL:https://mineralspringsbrewery.com/event/miller-denn-7/
LOCATION:MN
CATEGORIES:Activities,Music
ATTACH;FMTTYPE=image/jpeg:https://mineralspringsbrewery.com/wp-content/uploads/2022/06/Miller-Denn.jpg
END:VEVENT
BEGIN:VEVENT
DTSTART;TZID=America/Chicago:20240928T183000
DTEND;TZID=America/Chicago:20240928T203000
DTSTAMP:20260423T135258
CREATED:20240618T034536Z
LAST-MODIFIED:20240618T040134Z
UID:10003053-1727548200-1727555400@mineralspringsbrewery.com
SUMMARY:Whiskey Whiskers
DESCRIPTION:Southern Minnesota Band playing music you love! \n\n\n\n\n\n\n\n\n\n\n\nDetails
URL:https://mineralspringsbrewery.com/event/whiskey-whiskers-5/
LOCATION:MN
CATEGORIES:Activities,Music
ATTACH;FMTTYPE=image/jpeg:https://mineralspringsbrewery.com/wp-content/uploads/2022/04/Whiskey-Whiskers-1.jpg
END:VEVENT
BEGIN:VEVENT
DTSTART;TZID=America/Chicago:20241005T180000
DTEND;TZID=America/Chicago:20241005T200000
DTSTAMP:20260423T135258
CREATED:20240618T034626Z
LAST-MODIFIED:20240618T034628Z
UID:10003054-1728151200-1728158400@mineralspringsbrewery.com
SUMMARY:Steve Boyken
DESCRIPTION:Special solo performance by Steve Boyken\, half of Ron & Steve Unplugged. Enjoy acoustic pop and rock classics from the 70s and 80s! \n\n\n\n\n\n\n\nDetails
URL:https://mineralspringsbrewery.com/event/steve-boyken-10/
LOCATION:MN
CATEGORIES:Activities,Music
ATTACH;FMTTYPE=image/webp:https://mineralspringsbrewery.com/wp-content/uploads/2022/03/SteveBoyken.webp
END:VEVENT
BEGIN:VEVENT
DTSTART;TZID=America/Chicago:20241006T170000
DTEND;TZID=America/Chicago:20241006T180000
DTSTAMP:20260423T135258
CREATED:20240919T011600Z
LAST-MODIFIED:20240919T011604Z
UID:10003546-1728234000-1728237600@mineralspringsbrewery.com
SUMMARY:Senior Moment
DESCRIPTION:Bruce Bernhart has played in several bluegrass bands at the Steele County Fair over the past 25+ years.  \n\n\n\nHaving mastered the lost art of flatpicking old time fiddle tunes on the guitar\, combined with no amplifiers and no microphones\, Bruce and his friend Tim (who plays back up rhythm guitar and who has played folk and bluegrass for as long as Bruce has) are the duo Senior Moment. \n\n\n\nSenior Moment is all about “easy listening” music softly blends in with the room. “Wallpaper” music Bruce likes to call it. You’ll be able to recognize some of the tunes played while others are less known but have beautiful melodies. There are no sharp edges to their music. It’s very melodic stuff that was written in an old-time simple style and then transposed from fiddle to guitar.  \n\n\n\nHinted at with the duo’s name\, they’re retired and simply love to play!
URL:https://mineralspringsbrewery.com/event/senior-moment-9/
LOCATION:Mineral Springs Brewery\, 210 N Oak Ave\, Suite 1\, Owatonna\, MN\, 55060\, United States
CATEGORIES:Activities,Music
END:VEVENT
BEGIN:VEVENT
DTSTART;TZID=America/Chicago:20241011T180000
DTEND;TZID=America/Chicago:20241011T180000
DTSTAMP:20260423T135258
CREATED:20241011T140331Z
LAST-MODIFIED:20241011T140334Z
UID:10003561-1728669600-1728669600@mineralspringsbrewery.com
SUMMARY:Barefoot Winos
DESCRIPTION:The Barefoot Winos play their own distinctive brand of Blues. There energetic\, soulful\, live performances has captivated their audiences all over the Midwest. It’s Blues with an attitude. What makes the band so unique is their depth of talent\, blend of musical influences\, and the ability to tie it all together.
URL:https://mineralspringsbrewery.com/event/barefoot-winos-10/
LOCATION:Mineral Springs Brewery\, 210 N Oak Ave\, Suite 1\, Owatonna\, MN\, 55060\, United States
CATEGORIES:Activities,Music
ATTACH;FMTTYPE=image/jpeg:https://mineralspringsbrewery.com/wp-content/uploads/2023/08/Barefoot-Winos-2-scaled.jpg
END:VEVENT
BEGIN:VEVENT
DTSTART;TZID=America/Chicago:20241012T183000
DTEND;TZID=America/Chicago:20241012T203000
DTSTAMP:20260423T135258
CREATED:20240618T034844Z
LAST-MODIFIED:20240618T034845Z
UID:10003114-1728757800-1728765000@mineralspringsbrewery.com
SUMMARY:Luke Smith
DESCRIPTION:Luke Smith is a singer-songwriter and producer from Faribault\, MN. He started playing at the age of 13\, and has been writing songs ever since. He writes pop and folk on his guitar\, and EDM and hip-hop on his computer. In 2017 he was nominated for “Best Solo Performer” by Southern Minn. Scene.
URL:https://mineralspringsbrewery.com/event/luke-smith-3/
LOCATION:Mineral Springs Brewery\, 210 N Oak Ave\, Suite 1\, Owatonna\, MN\, 55060\, United States
CATEGORIES:Activities,Music
ATTACH;FMTTYPE=image/jpeg:https://mineralspringsbrewery.com/wp-content/uploads/2022/10/Luke-Smith.jpg
END:VEVENT
BEGIN:VEVENT
DTSTART;TZID=America/Chicago:20241019T180000
DTEND;TZID=America/Chicago:20241019T200000
DTSTAMP:20260423T135258
CREATED:20241019T202058Z
LAST-MODIFIED:20241019T202100Z
UID:10003562-1729360800-1729368000@mineralspringsbrewery.com
SUMMARY:Jamison Murphy
DESCRIPTION:Jamison Murphy takes the stage for the first time at MSB!
URL:https://mineralspringsbrewery.com/event/jamison-murphy/
LOCATION:MN
CATEGORIES:Activities,Music
ATTACH;FMTTYPE=image/jpeg:https://mineralspringsbrewery.com/wp-content/uploads/2024/10/JamisonMurphy-10.19-e1734405491703.jpg
END:VEVENT
BEGIN:VEVENT
DTSTART;TZID=America/Chicago:20241020T170000
DTEND;TZID=America/Chicago:20241020T180000
DTSTAMP:20260423T135258
CREATED:20240918T225204Z
LAST-MODIFIED:20240918T225207Z
UID:10003526-1729443600-1729447200@mineralspringsbrewery.com
SUMMARY:Senior Moment
DESCRIPTION:Bruce Bernhart has played in several bluegrass bands at the Steele County Fair over the past 25+ years.  \n\n\n\nHaving mastered the lost art of flatpicking old time fiddle tunes on the guitar\, combined with no amplifiers and no microphones\, Bruce and his friend Tim (who plays back up rhythm guitar and who has played folk and bluegrass for as long as Bruce has) are the duo Senior Moment. \n\n\n\nSenior Moment is all about “easy listening” music softly blends in with the room. “Wallpaper” music Bruce likes to call it. You’ll be able to recognize some of the tunes played while others are less known but have beautiful melodies. There are no sharp edges to their music. It’s very melodic stuff that was written in an old-time simple style and then transposed from fiddle to guitar.  \n\n\n\nHinted at with the duo’s name\, they’re retired and simply love to play!
URL:https://mineralspringsbrewery.com/event/senior-moment-7/
LOCATION:Mineral Springs Brewery\, 210 N Oak Ave\, Suite 1\, Owatonna\, MN\, 55060\, United States
CATEGORIES:Activities,Music
END:VEVENT
BEGIN:VEVENT
DTSTART;TZID=America/Chicago:20241026T183000
DTEND;TZID=America/Chicago:20241026T203000
DTSTAMP:20260423T135258
CREATED:20240918T231642Z
LAST-MODIFIED:20240918T231644Z
UID:10003535-1729967400-1729974600@mineralspringsbrewery.com
SUMMARY:Jeff Reinartz
DESCRIPTION:Jeff Reinartz is a singer/songwriter from  Austin\, Minnesota. He’s been performing live for over 30 years and is a veteran of several bands. He is now a solo acoustic performer and has released two EPs that were produced by Scotty Rohr at Zension Studio in Austin. \n\n\n\n\nI believe that we’re here to use our talents and abilities to the benefit of others\, so after 22 years in the corporate world with a Fortune 300 company\, I resigned in 2019 to pursue my music interests full time. I didn’t necessarily count on a global pandemic\, but as things have loosened up I’ve been able to play more and more\, doing acoustic shows at primarily breweries and wineries in Southern Minnesota and Northern Iowa\, and building a small following organically.” \nJeff Reinartz
URL:https://mineralspringsbrewery.com/event/jeff-reinartz-17/
LOCATION:Mineral Springs Brewery\, 210 N Oak Ave\, Suite 1\, Owatonna\, MN\, 55060\, United States
CATEGORIES:Activities,Music
ATTACH;FMTTYPE=image/jpeg:https://mineralspringsbrewery.com/wp-content/uploads/2022/04/Jeff-Reinartz-scaled.jpg
END:VEVENT
BEGIN:VEVENT
DTSTART;TZID=America/Chicago:20241102T183000
DTEND;TZID=America/Chicago:20241102T203000
DTSTAMP:20260423T135258
CREATED:20240618T035316Z
LAST-MODIFIED:20240618T035318Z
UID:10003176-1730572200-1730579400@mineralspringsbrewery.com
SUMMARY:Chris Bertrand
DESCRIPTION:Chris Bertrand is a seasoned singer/songwriter from Southern Minnesota who dedicates his life to music. Deeply rooted in folk and unafraid to stomp and howl\, Bertrand is currently working on his first recording effort\, ‘By The Pour.’ \n\n\n\n\n\n\n\n\n\n\n\nDetails
URL:https://mineralspringsbrewery.com/event/chris-bertrand-8/
LOCATION:Mineral Springs Brewery\, 210 N Oak Ave\, Suite 1\, Owatonna\, MN\, 55060\, United States
CATEGORIES:Activities,Music
ATTACH;FMTTYPE=image/jpeg:https://mineralspringsbrewery.com/wp-content/uploads/2022/01/ChrisBertrandMusic.jpg
END:VEVENT
BEGIN:VEVENT
DTSTART;TZID=America/Chicago:20241103T170000
DTEND;TZID=America/Chicago:20241103T180000
DTSTAMP:20260423T135258
CREATED:20240918T232129Z
LAST-MODIFIED:20240918T232152Z
UID:10003538-1730653200-1730656800@mineralspringsbrewery.com
SUMMARY:Senior Moment
DESCRIPTION:Bruce Bernhart has played in several bluegrass bands at the Steele County Fair over the past 25+ years.  \n\n\n\nHaving mastered the lost art of flatpicking old time fiddle tunes on the guitar\, combined with no amplifiers and no microphones\, Bruce and his friend Tim (who plays back up rhythm guitar and who has played folk and bluegrass for as long as Bruce has) are the duo Senior Moment. \n\n\n\nSenior Moment is all about “easy listening” music softly blends in with the room. “Wallpaper” music Bruce likes to call it. You’ll be able to recognize some of the tunes played while others are less known but have beautiful melodies. There are no sharp edges to their music. It’s very melodic stuff that was written in an old-time simple style and then transposed from fiddle to guitar.  \n\n\n\nHinted at with the duo’s name\, they’re retired and simply love to play!
URL:https://mineralspringsbrewery.com/event/senior-moment-8/
LOCATION:Mineral Springs Brewery\, 210 N Oak Ave\, Suite 1\, Owatonna\, MN\, 55060\, United States
CATEGORIES:Activities,Music
END:VEVENT
BEGIN:VEVENT
DTSTART;TZID=America/Chicago:20241109T183000
DTEND;TZID=America/Chicago:20241109T203000
DTSTAMP:20260423T135258
CREATED:20240918T232806Z
LAST-MODIFIED:20240918T232808Z
UID:10003543-1731177000-1731184200@mineralspringsbrewery.com
SUMMARY:Julia Bloom
DESCRIPTION:Half of the duo\, Cabin of Love\, Julia Bloom is performing solo on the MSB stage! \n\n\n\n\n\n\n\n\n\n\n\nDetails
URL:https://mineralspringsbrewery.com/event/julia-bloom-2/
LOCATION:Mineral Springs Brewery\, 210 N Oak Ave\, Suite 1\, Owatonna\, MN\, 55060\, United States
CATEGORIES:Activities,Music
ATTACH;FMTTYPE=image/jpeg:https://mineralspringsbrewery.com/wp-content/uploads/2024/01/Julia-Bloom-Music.jpg
END:VEVENT
END:VCALENDAR