BEGIN:VCALENDAR
VERSION:2.0
PRODID:-//Mineral Springs Brewery - ECPv6.15.20//NONSGML v1.0//EN
CALSCALE:GREGORIAN
METHOD:PUBLISH
X-WR-CALNAME:Mineral Springs Brewery
X-ORIGINAL-URL:https://mineralspringsbrewery.com
X-WR-CALDESC:Events for Mineral Springs Brewery
REFRESH-INTERVAL;VALUE=DURATION:PT1H
X-Robots-Tag:noindex
X-PUBLISHED-TTL:PT1H
BEGIN:VTIMEZONE
TZID:America/Chicago
BEGIN:DAYLIGHT
TZOFFSETFROM:-0600
TZOFFSETTO:-0500
TZNAME:CDT
DTSTART:20220313T080000
END:DAYLIGHT
BEGIN:STANDARD
TZOFFSETFROM:-0500
TZOFFSETTO:-0600
TZNAME:CST
DTSTART:20221106T070000
END:STANDARD
BEGIN:DAYLIGHT
TZOFFSETFROM:-0600
TZOFFSETTO:-0500
TZNAME:CDT
DTSTART:20230312T080000
END:DAYLIGHT
BEGIN:STANDARD
TZOFFSETFROM:-0500
TZOFFSETTO:-0600
TZNAME:CST
DTSTART:20231105T070000
END:STANDARD
BEGIN:DAYLIGHT
TZOFFSETFROM:-0600
TZOFFSETTO:-0500
TZNAME:CDT
DTSTART:20240310T080000
END:DAYLIGHT
BEGIN:STANDARD
TZOFFSETFROM:-0500
TZOFFSETTO:-0600
TZNAME:CST
DTSTART:20241103T070000
END:STANDARD
END:VTIMEZONE
BEGIN:VEVENT
DTSTART;TZID=America/Chicago:20230601T180000
DTEND;TZID=America/Chicago:20230601T200000
DTSTAMP:20260424T105234
CREATED:20230424T223610Z
LAST-MODIFIED:20230525T221948Z
UID:10001510-1685642400-1685649600@mineralspringsbrewery.com
SUMMARY:Leaving Hope
DESCRIPTION:Hailing from the North Star state\, Leaving Hope are on a mission straight through the stratosphere!
URL:https://mineralspringsbrewery.com/event/leaving-hope/
LOCATION:Mineral Springs Brewery\, 210 N Oak Ave\, Suite 1\, Owatonna\, MN\, 55060\, United States
CATEGORIES:Activities,Music
ATTACH;FMTTYPE=image/jpeg:https://mineralspringsbrewery.com/wp-content/uploads/2023/04/Leaving-Hope.jpg
END:VEVENT
BEGIN:VEVENT
DTSTART;TZID=America/Chicago:20230603T183000
DTEND;TZID=America/Chicago:20230603T203000
DTSTAMP:20260424T105234
CREATED:20230519T164542Z
LAST-MODIFIED:20230603T012749Z
UID:10001529-1685817000-1685824200@mineralspringsbrewery.com
SUMMARY:The Foragers
DESCRIPTION:Two singer/songwriters\, four friends\, and a gazillion instruments from Saint Paul\, Minnesota\, serving up Americana originals and covers that stick to your soul not your ribs.
URL:https://mineralspringsbrewery.com/event/cabin-of-love/
LOCATION:Mineral Springs Brewery\, 210 N Oak Ave\, Suite 1\, Owatonna\, MN\, 55060\, United States
CATEGORIES:Activities,Music
ATTACH;FMTTYPE=image/jpeg:https://mineralspringsbrewery.com/wp-content/uploads/2023/05/IMG_0846.jpeg
END:VEVENT
END:VCALENDAR