BEGIN:VCALENDAR
VERSION:2.0
PRODID:-//Mineral Springs Brewery - ECPv6.15.20//NONSGML v1.0//EN
CALSCALE:GREGORIAN
METHOD:PUBLISH
X-WR-CALNAME:Mineral Springs Brewery
X-ORIGINAL-URL:https://mineralspringsbrewery.com
X-WR-CALDESC:Events for Mineral Springs Brewery
REFRESH-INTERVAL;VALUE=DURATION:PT1H
X-Robots-Tag:noindex
X-PUBLISHED-TTL:PT1H
BEGIN:VTIMEZONE
TZID:America/Chicago
BEGIN:DAYLIGHT
TZOFFSETFROM:-0600
TZOFFSETTO:-0500
TZNAME:CDT
DTSTART:20230312T080000
END:DAYLIGHT
BEGIN:STANDARD
TZOFFSETFROM:-0500
TZOFFSETTO:-0600
TZNAME:CST
DTSTART:20231105T070000
END:STANDARD
BEGIN:DAYLIGHT
TZOFFSETFROM:-0600
TZOFFSETTO:-0500
TZNAME:CDT
DTSTART:20240310T080000
END:DAYLIGHT
BEGIN:STANDARD
TZOFFSETFROM:-0500
TZOFFSETTO:-0600
TZNAME:CST
DTSTART:20241103T070000
END:STANDARD
BEGIN:DAYLIGHT
TZOFFSETFROM:-0600
TZOFFSETTO:-0500
TZNAME:CDT
DTSTART:20250309T080000
END:DAYLIGHT
BEGIN:STANDARD
TZOFFSETFROM:-0500
TZOFFSETTO:-0600
TZNAME:CST
DTSTART:20251102T070000
END:STANDARD
END:VTIMEZONE
BEGIN:VEVENT
DTSTART;TZID=America/Chicago:20240621T190000
DTEND;TZID=America/Chicago:20240621T210000
DTSTAMP:20260423T152823
CREATED:20240531T211136Z
LAST-MODIFIED:20240531T211142Z
UID:10002966-1718996400-1719003600@mineralspringsbrewery.com
SUMMARY:Senior Moment
DESCRIPTION:Bruce Bernhart has played in several bluegrass bands at the Steele County Fair over the past 25+ years.  \n\n\n\nHaving mastered the lost art of flatpicking old time fiddle tunes on the guitar\, combined with no amplifiers and no microphones\, Bruce and his friend Tim (who plays back up rhythm guitar and who has played folk and bluegrass for as long as Bruce has) are the duo Senior Moment. \n\n\n\nSenior Moment is all about “easy listening” music softly blends in with the room. “Wallpaper” music Bruce likes to call it. You’ll be able to recognize some of the tunes played while others are less known but have beautiful melodies. There are no sharp edges to their music. It’s very melodic stuff that was written in an old-time simple style and then transposed from fiddle to guitar.  \n\n\n\nHinted at with the duo’s name\, they’re retired and simply love to play!
URL:https://mineralspringsbrewery.com/event/senior-moment/
LOCATION:Mineral Springs Brewery\, 210 N Oak Ave\, Suite 1\, Owatonna\, MN\, 55060\, United States
CATEGORIES:Activities,Music
END:VEVENT
BEGIN:VEVENT
DTSTART;TZID=America/Chicago:20240622T170000
DTEND;TZID=America/Chicago:20240622T210000
DTSTAMP:20260423T152823
CREATED:20240422T234715Z
LAST-MODIFIED:20240618T040232Z
UID:10002917-1719075600-1719090000@mineralspringsbrewery.com
SUMMARY:Cook County
DESCRIPTION:Cook County is an alternative folk-rock band based out of Minneapolis featuring a male-female vocal harmony duo cultivated over several years\, slick guitar licks\, and multifaceted songwriting.
URL:https://mineralspringsbrewery.com/event/cook-county/
LOCATION:Mineral Springs Brewery\, 210 N Oak Ave\, Suite 1\, Owatonna\, MN\, 55060\, United States
CATEGORIES:Activities,Music
ATTACH;FMTTYPE=image/jpeg:https://mineralspringsbrewery.com/wp-content/uploads/2024/04/Cook-County-Band.jpg
END:VEVENT
BEGIN:VEVENT
DTSTART;TZID=America/Chicago:20240622T170000
DTEND;TZID=America/Chicago:20240622T210000
DTSTAMP:20260423T152823
CREATED:20240422T234851Z
LAST-MODIFIED:20240618T040237Z
UID:10002918-1719075600-1719090000@mineralspringsbrewery.com
SUMMARY:Honeymoon Madness
DESCRIPTION:Honeymoon Madness is a Minneapolis / St. Paul based rock band.
URL:https://mineralspringsbrewery.com/event/honeymoon-madness/
LOCATION:Mineral Springs Brewery\, 210 N Oak Ave\, Suite 1\, Owatonna\, MN\, 55060\, United States
CATEGORIES:Activities,Music
ATTACH;FMTTYPE=image/jpeg:https://mineralspringsbrewery.com/wp-content/uploads/2024/04/Honeymoon-Madness-scaled.jpg
END:VEVENT
END:VCALENDAR