BEGIN:VCALENDAR
VERSION:2.0
PRODID:-//Mineral Springs Brewery - ECPv6.15.20//NONSGML v1.0//EN
CALSCALE:GREGORIAN
METHOD:PUBLISH
X-ORIGINAL-URL:https://mineralspringsbrewery.com
X-WR-CALDESC:Events for Mineral Springs Brewery
REFRESH-INTERVAL;VALUE=DURATION:PT1H
X-Robots-Tag:noindex
X-PUBLISHED-TTL:PT1H
BEGIN:VTIMEZONE
TZID:America/Chicago
BEGIN:DAYLIGHT
TZOFFSETFROM:-0600
TZOFFSETTO:-0500
TZNAME:CDT
DTSTART:20240310T080000
END:DAYLIGHT
BEGIN:STANDARD
TZOFFSETFROM:-0500
TZOFFSETTO:-0600
TZNAME:CST
DTSTART:20241103T070000
END:STANDARD
BEGIN:DAYLIGHT
TZOFFSETFROM:-0600
TZOFFSETTO:-0500
TZNAME:CDT
DTSTART:20250309T080000
END:DAYLIGHT
BEGIN:STANDARD
TZOFFSETFROM:-0500
TZOFFSETTO:-0600
TZNAME:CST
DTSTART:20251102T070000
END:STANDARD
BEGIN:DAYLIGHT
TZOFFSETFROM:-0600
TZOFFSETTO:-0500
TZNAME:CDT
DTSTART:20260308T080000
END:DAYLIGHT
BEGIN:STANDARD
TZOFFSETFROM:-0500
TZOFFSETTO:-0600
TZNAME:CST
DTSTART:20261101T070000
END:STANDARD
END:VTIMEZONE
BEGIN:VEVENT
DTSTART;TZID=America/Chicago:20250104T170000
DTEND;TZID=America/Chicago:20250104T180000
DTSTAMP:20260423T063331
CREATED:20241224T230016Z
LAST-MODIFIED:20241224T230020Z
UID:10003620-1736010000-1736013600@mineralspringsbrewery.com
SUMMARY:Senior Moment
DESCRIPTION:Bruce Bernhart has played in several bluegrass bands at the Steele County Fair over the past 25+ years.  \n\n\n\nHaving mastered the lost art of flatpicking old time fiddle tunes on the guitar\, combined with no amplifiers and no microphones\, Bruce and his friend Tim (who plays back up rhythm guitar and who has played folk and bluegrass for as long as Bruce has) are the duo Senior Moment. \n\n\n\nSenior Moment is all about “easy listening” music softly blends in with the room. “Wallpaper” music Bruce likes to call it. You’ll be able to recognize some of the tunes played while others are less known but have beautiful melodies. There are no sharp edges to their music. It’s very melodic stuff that was written in an old-time simple style and then transposed from fiddle to guitar.  \n\n\n\nHinted at with the duo’s name\, they’re retired and simply love to play!
URL:https://mineralspringsbrewery.com/event/senior-moment-11/
LOCATION:Mineral Springs Brewery\, 210 N Oak Ave\, Suite 1\, Owatonna\, MN\, 55060\, United States
CATEGORIES:Activities,Music
END:VEVENT
BEGIN:VEVENT
DTSTART;TZID=America/Chicago:20250104T183000
DTEND;TZID=America/Chicago:20250104T203000
DTSTAMP:20260423T063331
CREATED:20240919T020750Z
LAST-MODIFIED:20240919T020752Z
UID:10003557-1736015400-1736022600@mineralspringsbrewery.com
SUMMARY:Jeff Reinartz
DESCRIPTION:Jeff Reinartz is a singer/songwriter from  Austin\, Minnesota. He’s been performing live for over 30 years and is a veteran of several bands. He is now a solo acoustic performer and has released two EPs that were produced by Scotty Rohr at Zension Studio in Austin. \n\n\n\n\nI believe that we’re here to use our talents and abilities to the benefit of others\, so after 22 years in the corporate world with a Fortune 300 company\, I resigned in 2019 to pursue my music interests full time. I didn’t necessarily count on a global pandemic\, but as things have loosened up I’ve been able to play more and more\, doing acoustic shows at primarily breweries and wineries in Southern Minnesota and Northern Iowa\, and building a small following organically.” \nJeff Reinartz
URL:https://mineralspringsbrewery.com/event/jeff-reinartz-18/
LOCATION:Mineral Springs Brewery\, 210 N Oak Ave\, Suite 1\, Owatonna\, MN\, 55060\, United States
CATEGORIES:Activities,Music
ATTACH;FMTTYPE=image/jpeg:https://mineralspringsbrewery.com/wp-content/uploads/2022/04/Jeff-Reinartz-scaled.jpg
END:VEVENT
END:VCALENDAR