BEGIN:VCALENDAR
VERSION:2.0
PRODID:-//Mineral Springs Brewery - ECPv6.15.20//NONSGML v1.0//EN
CALSCALE:GREGORIAN
METHOD:PUBLISH
X-ORIGINAL-URL:https://mineralspringsbrewery.com
X-WR-CALDESC:Events for Mineral Springs Brewery
REFRESH-INTERVAL;VALUE=DURATION:PT1H
X-Robots-Tag:noindex
X-PUBLISHED-TTL:PT1H
BEGIN:VTIMEZONE
TZID:America/Chicago
BEGIN:DAYLIGHT
TZOFFSETFROM:-0600
TZOFFSETTO:-0500
TZNAME:CDT
DTSTART:20240310T080000
END:DAYLIGHT
BEGIN:STANDARD
TZOFFSETFROM:-0500
TZOFFSETTO:-0600
TZNAME:CST
DTSTART:20241103T070000
END:STANDARD
BEGIN:DAYLIGHT
TZOFFSETFROM:-0600
TZOFFSETTO:-0500
TZNAME:CDT
DTSTART:20250309T080000
END:DAYLIGHT
BEGIN:STANDARD
TZOFFSETFROM:-0500
TZOFFSETTO:-0600
TZNAME:CST
DTSTART:20251102T070000
END:STANDARD
BEGIN:DAYLIGHT
TZOFFSETFROM:-0600
TZOFFSETTO:-0500
TZNAME:CDT
DTSTART:20260308T080000
END:DAYLIGHT
BEGIN:STANDARD
TZOFFSETFROM:-0500
TZOFFSETTO:-0600
TZNAME:CST
DTSTART:20261101T070000
END:STANDARD
END:VTIMEZONE
BEGIN:VEVENT
DTSTART;TZID=America/Chicago:20250111T173000
DTEND;TZID=America/Chicago:20250111T193000
DTSTAMP:20260423T044603
CREATED:20241217T030950Z
LAST-MODIFIED:20241217T030954Z
UID:10003608-1736616600-1736623800@mineralspringsbrewery.com
SUMMARY:Adam Moe
DESCRIPTION:Adam Moe is a fiddler and singer/songwriter based in Duluth\, MN. In 2012\, he started the folky-tonk duo Pushing Chain with then partner Boyd Blomberg. For the next eight years\, Pushing Chain toured the US and Canada\, playing venues big and small and gaining fans the old-fashioned way — face to face\, one at a time. Adam has been featured on radio and television\, and played some of the biggest festivals in the country\, including the 2019 Woody Guthrie Festival and the 2019 Kerrville Folk Festival. \n\n\n\nWith the onset of the 2020 pandemic\, Adam has set out on a solo career. His unique original songs backed by his tenor guitar and delivered with his clear\, bluesy tenor make for a great show. \n\n\n\nAdam believes that good music can make strangers share a table\, and he proves it every time he plays. He’s nothing if not entertaining.
URL:https://mineralspringsbrewery.com/event/adam-moe-8/
LOCATION:Mineral Springs Brewery\, 210 N Oak Ave\, Suite 1\, Owatonna\, MN\, 55060\, United States
CATEGORIES:Activities,Music
ATTACH;FMTTYPE=image/jpeg:https://mineralspringsbrewery.com/wp-content/uploads/2022/02/Adam-Moe.jpg
END:VEVENT
END:VCALENDAR