BEGIN:VCALENDAR
VERSION:2.0
PRODID:-//Mineral Springs Brewery - ECPv6.15.20//NONSGML v1.0//EN
CALSCALE:GREGORIAN
METHOD:PUBLISH
X-WR-CALNAME:Mineral Springs Brewery
X-ORIGINAL-URL:https://mineralspringsbrewery.com
X-WR-CALDESC:Events for Mineral Springs Brewery
REFRESH-INTERVAL;VALUE=DURATION:PT1H
X-Robots-Tag:noindex
X-PUBLISHED-TTL:PT1H
BEGIN:VTIMEZONE
TZID:America/Chicago
BEGIN:DAYLIGHT
TZOFFSETFROM:-0600
TZOFFSETTO:-0500
TZNAME:CDT
DTSTART:20240310T080000
END:DAYLIGHT
BEGIN:STANDARD
TZOFFSETFROM:-0500
TZOFFSETTO:-0600
TZNAME:CST
DTSTART:20241103T070000
END:STANDARD
BEGIN:DAYLIGHT
TZOFFSETFROM:-0600
TZOFFSETTO:-0500
TZNAME:CDT
DTSTART:20250309T080000
END:DAYLIGHT
BEGIN:STANDARD
TZOFFSETFROM:-0500
TZOFFSETTO:-0600
TZNAME:CST
DTSTART:20251102T070000
END:STANDARD
BEGIN:DAYLIGHT
TZOFFSETFROM:-0600
TZOFFSETTO:-0500
TZNAME:CDT
DTSTART:20260308T080000
END:DAYLIGHT
BEGIN:STANDARD
TZOFFSETFROM:-0500
TZOFFSETTO:-0600
TZNAME:CST
DTSTART:20261101T070000
END:STANDARD
END:VTIMEZONE
BEGIN:VEVENT
DTSTART;TZID=America/Chicago:20250131T180000
DTEND;TZID=America/Chicago:20250131T180000
DTSTAMP:20260423T020713
CREATED:20241217T032431Z
LAST-MODIFIED:20241217T032435Z
UID:10003614-1738346400-1738346400@mineralspringsbrewery.com
SUMMARY:Barefoot Winos
DESCRIPTION:The Barefoot Winos play their own distinctive brand of Blues. There energetic\, soulful\, live performances has captivated their audiences all over the Midwest. It’s Blues with an attitude. What makes the band so unique is their depth of talent\, blend of musical influences\, and the ability to tie it all together.
URL:https://mineralspringsbrewery.com/event/barefoot-winos-11/
LOCATION:Mineral Springs Brewery\, 210 N Oak Ave\, Suite 1\, Owatonna\, MN\, 55060\, United States
CATEGORIES:Activities,Music
ATTACH;FMTTYPE=image/jpeg:https://mineralspringsbrewery.com/wp-content/uploads/2023/08/Barefoot-Winos-2-scaled.jpg
END:VEVENT
BEGIN:VEVENT
DTSTART;TZID=America/Chicago:20250201T160000
DTEND;TZID=America/Chicago:20250201T180000
DTSTAMP:20260423T020713
CREATED:20250119T235839Z
LAST-MODIFIED:20250119T235842Z
UID:10003687-1738425600-1738432800@mineralspringsbrewery.com
SUMMARY:Senior Moment
DESCRIPTION:Bruce Bernhart has played in several bluegrass bands at the Steele County Fair over the past 25+ years.  \n\n\n\nHaving mastered the lost art of flatpicking old time fiddle tunes on the guitar\, combined with no amplifiers and no microphones\, Bruce and his friend Tim (who plays back up rhythm guitar and who has played folk and bluegrass for as long as Bruce has) are the duo Senior Moment. \n\n\n\nSenior Moment is all about “easy listening” music softly blends in with the room. “Wallpaper” music Bruce likes to call it. You’ll be able to recognize some of the tunes played while others are less known but have beautiful melodies. There are no sharp edges to their music. It’s very melodic stuff that was written in an old-time simple style and then transposed from fiddle to guitar.  \n\n\n\nHinted at with the duo’s name\, they’re retired and simply love to play!
URL:https://mineralspringsbrewery.com/event/senior-moment-13/
LOCATION:Mineral Springs Brewery\, 210 N Oak Ave\, Suite 1\, Owatonna\, MN\, 55060\, United States
CATEGORIES:Activities,Music
END:VEVENT
BEGIN:VEVENT
DTSTART;TZID=America/Chicago:20250201T180000
DTEND;TZID=America/Chicago:20250201T200000
DTSTAMP:20260423T020713
CREATED:20250120T000818Z
LAST-MODIFIED:20250120T000821Z
UID:10003688-1738432800-1738440000@mineralspringsbrewery.com
SUMMARY:Jack Backbone & TJ Brown
DESCRIPTION:Jack Backbone was a basement band.  Years ago\, the name was coined as Jack Backbone & the Vertebrae.  I was Jack.  A lot of time passed\, the name was recycled.  Also known as Steve Pool\, or SP. Tj Brown is a real name. Tom\, Tommy\, for real.
URL:https://mineralspringsbrewery.com/event/jack-backbone-tj-brown/
LOCATION:Mineral Springs Brewery\, 210 N Oak Ave\, Suite 1\, Owatonna\, MN\, 55060\, United States
CATEGORIES:Activities,Music
ATTACH;FMTTYPE=image/jpeg:https://mineralspringsbrewery.com/wp-content/uploads/2025/01/JackBackbone-TJ-Brown.jpg
END:VEVENT
END:VCALENDAR