BEGIN:VCALENDAR
VERSION:2.0
PRODID:-//Mineral Springs Brewery - ECPv6.15.20//NONSGML v1.0//EN
CALSCALE:GREGORIAN
METHOD:PUBLISH
X-WR-CALNAME:Mineral Springs Brewery
X-ORIGINAL-URL:https://mineralspringsbrewery.com
X-WR-CALDESC:Events for Mineral Springs Brewery
REFRESH-INTERVAL;VALUE=DURATION:PT1H
X-Robots-Tag:noindex
X-PUBLISHED-TTL:PT1H
BEGIN:VTIMEZONE
TZID:America/Chicago
BEGIN:DAYLIGHT
TZOFFSETFROM:-0600
TZOFFSETTO:-0500
TZNAME:CDT
DTSTART:20240310T080000
END:DAYLIGHT
BEGIN:STANDARD
TZOFFSETFROM:-0500
TZOFFSETTO:-0600
TZNAME:CST
DTSTART:20241103T070000
END:STANDARD
BEGIN:DAYLIGHT
TZOFFSETFROM:-0600
TZOFFSETTO:-0500
TZNAME:CDT
DTSTART:20250309T080000
END:DAYLIGHT
BEGIN:STANDARD
TZOFFSETFROM:-0500
TZOFFSETTO:-0600
TZNAME:CST
DTSTART:20251102T070000
END:STANDARD
BEGIN:DAYLIGHT
TZOFFSETFROM:-0600
TZOFFSETTO:-0500
TZNAME:CDT
DTSTART:20260308T080000
END:DAYLIGHT
BEGIN:STANDARD
TZOFFSETFROM:-0500
TZOFFSETTO:-0600
TZNAME:CST
DTSTART:20261101T070000
END:STANDARD
END:VTIMEZONE
BEGIN:VEVENT
DTSTART;TZID=America/Chicago:20250805T183000
DTEND;TZID=America/Chicago:20250805T193000
DTSTAMP:20260422T103141
CREATED:20250610T102415Z
LAST-MODIFIED:20250610T102418Z
UID:10003986-1754418600-1754422200@mineralspringsbrewery.com
SUMMARY:Bruce Bernhart
DESCRIPTION:Bruce Bernhart has played in several bluegrass bands at the Steele County Fair over the past 35+ years\, plus various other county fairs across south-central Minnesota. \n\n\n\nBruce has also been featured playing mandolin on a number of CDs recorded by bands he’s been a part of since the early 90’s. Prior to the mandolin\, Bruce had been strumming the banjo and bass. Since then\, Bruce has mastered the lost art of flatpicking old time fiddle tunes on the guitar with no amplifier and no microphone.
URL:https://mineralspringsbrewery.com/event/bruce-bernhart-10/
LOCATION:Mineral Springs Brewery\, 210 N Oak Ave\, Suite 1\, Owatonna\, MN\, 55060\, United States
CATEGORIES:Music
ATTACH;FMTTYPE=image/jpeg:https://mineralspringsbrewery.com/wp-content/uploads/2025/02/Image.jpg
END:VEVENT
BEGIN:VEVENT
DTSTART;TZID=America/Chicago:20250809T183000
DTEND;TZID=America/Chicago:20250809T203000
DTSTAMP:20260422T103141
CREATED:20250610T102831Z
LAST-MODIFIED:20250610T102834Z
UID:10003989-1754764200-1754771400@mineralspringsbrewery.com
SUMMARY:Shasta Kings
DESCRIPTION:The Shasta Kings are Scott Rogness (guitar/lead vocals) and Bruce Watts (guitars/vocals) playing a wide variety of songs from classic rock to new country.
URL:https://mineralspringsbrewery.com/event/shasta-kings-13/
LOCATION:Mineral Springs Brewery\, 210 N Oak Ave\, Suite 1\, Owatonna\, MN\, 55060\, United States
CATEGORIES:Music
ATTACH;FMTTYPE=image/jpeg:https://mineralspringsbrewery.com/wp-content/uploads/2024/04/Shasta-Kings.jpg
END:VEVENT
END:VCALENDAR