BEGIN:VCALENDAR
VERSION:2.0
PRODID:-//Mineral Springs Brewery - ECPv6.15.20//NONSGML v1.0//EN
CALSCALE:GREGORIAN
METHOD:PUBLISH
X-WR-CALNAME:Mineral Springs Brewery
X-ORIGINAL-URL:https://mineralspringsbrewery.com
X-WR-CALDESC:Events for Mineral Springs Brewery
REFRESH-INTERVAL;VALUE=DURATION:PT1H
X-Robots-Tag:noindex
X-PUBLISHED-TTL:PT1H
BEGIN:VTIMEZONE
TZID:America/Chicago
BEGIN:DAYLIGHT
TZOFFSETFROM:-0600
TZOFFSETTO:-0500
TZNAME:CDT
DTSTART:20250309T080000
END:DAYLIGHT
BEGIN:STANDARD
TZOFFSETFROM:-0500
TZOFFSETTO:-0600
TZNAME:CST
DTSTART:20251102T070000
END:STANDARD
BEGIN:DAYLIGHT
TZOFFSETFROM:-0600
TZOFFSETTO:-0500
TZNAME:CDT
DTSTART:20260308T080000
END:DAYLIGHT
BEGIN:STANDARD
TZOFFSETFROM:-0500
TZOFFSETTO:-0600
TZNAME:CST
DTSTART:20261101T070000
END:STANDARD
BEGIN:DAYLIGHT
TZOFFSETFROM:-0600
TZOFFSETTO:-0500
TZNAME:CDT
DTSTART:20270314T080000
END:DAYLIGHT
BEGIN:STANDARD
TZOFFSETFROM:-0500
TZOFFSETTO:-0600
TZNAME:CST
DTSTART:20271107T070000
END:STANDARD
END:VTIMEZONE
BEGIN:VEVENT
DTSTART;TZID=America/Chicago:20260131T180000
DTEND;TZID=America/Chicago:20260131T200000
DTSTAMP:20260419T145640
CREATED:20251202T220333Z
LAST-MODIFIED:20251202T220339Z
UID:10005032-1769882400-1769889600@mineralspringsbrewery.com
SUMMARY:Todd Michael Jameson
DESCRIPTION:Todd Michael Jameson is a seasoned musician\, and Rock Steady Records recording artist\, with many years of experience. Todd performs as a solo artist playing throughout the Minneapolis/St. Paul and Tri-state area. Along with performing originals and covers as a solo artist\, Todd also plays bass in Hawt Beir (Original Rock and Roll). Playing over 175 gigs per year\, Todd travels across many genres and entertains audiences of all sizes. \n\n\n\nTodd’s influences cross many genres as well. From Waylon Jennings to Eagles to Miles Davis and everything in between. On any given night\, Todd can go from playing one of his own songs to an Otis Redding classic right into an Iron Maiden song. Nothing is off limits!
URL:https://mineralspringsbrewery.com/event/todd-michael-jameson-6/
LOCATION:Mineral Springs Brewery\, 210 N Oak Ave\, Suite 1\, Owatonna\, MN\, 55060\, United States
CATEGORIES:Music
ATTACH;FMTTYPE=image/jpeg:https://mineralspringsbrewery.com/wp-content/uploads/2023/02/Todd-Michael-Jameson-Music.jpg
END:VEVENT
END:VCALENDAR