BEGIN:VCALENDAR
VERSION:2.0
PRODID:-//Mineral Springs Brewery - ECPv6.15.20//NONSGML v1.0//EN
CALSCALE:GREGORIAN
METHOD:PUBLISH
X-ORIGINAL-URL:https://mineralspringsbrewery.com
X-WR-CALDESC:Events for Mineral Springs Brewery
REFRESH-INTERVAL;VALUE=DURATION:PT1H
X-Robots-Tag:noindex
X-PUBLISHED-TTL:PT1H
BEGIN:VTIMEZONE
TZID:America/Chicago
BEGIN:DAYLIGHT
TZOFFSETFROM:-0600
TZOFFSETTO:-0500
TZNAME:CDT
DTSTART:20250309T080000
END:DAYLIGHT
BEGIN:STANDARD
TZOFFSETFROM:-0500
TZOFFSETTO:-0600
TZNAME:CST
DTSTART:20251102T070000
END:STANDARD
BEGIN:DAYLIGHT
TZOFFSETFROM:-0600
TZOFFSETTO:-0500
TZNAME:CDT
DTSTART:20260308T080000
END:DAYLIGHT
BEGIN:STANDARD
TZOFFSETFROM:-0500
TZOFFSETTO:-0600
TZNAME:CST
DTSTART:20261101T070000
END:STANDARD
BEGIN:DAYLIGHT
TZOFFSETFROM:-0600
TZOFFSETTO:-0500
TZNAME:CDT
DTSTART:20270314T080000
END:DAYLIGHT
BEGIN:STANDARD
TZOFFSETFROM:-0500
TZOFFSETTO:-0600
TZNAME:CST
DTSTART:20271107T070000
END:STANDARD
END:VTIMEZONE
BEGIN:VEVENT
DTSTART;TZID=America/Chicago:20260303T183000
DTEND;TZID=America/Chicago:20260303T193000
DTSTAMP:20260419T113413
CREATED:20251022T005233Z
LAST-MODIFIED:20251022T005552Z
UID:10004675-1772562600-1772566200@mineralspringsbrewery.com
SUMMARY:Bruce Bernhart
DESCRIPTION:Bruce Bernhart has played in several bluegrass bands at the Steele County Fair over the past 35+ years\, plus various other county fairs across south-central Minnesota. \n\n\n\nBruce has also been featured playing mandolin on a number of CDs recorded by bands he’s been a part of since the early 90’s. Prior to the mandolin\, Bruce had been strumming the banjo and bass. Since then\, Bruce has mastered the lost art of flatpicking old time fiddle tunes on the guitar with no amplifier and no microphone.
URL:https://mineralspringsbrewery.com/event/bruce-bernhart-12/2026-03-03/
LOCATION:Mineral Springs Brewery\, 210 N Oak Ave\, Suite 1\, Owatonna\, MN\, 55060\, United States
CATEGORIES:Music
ATTACH;FMTTYPE=image/jpeg:https://mineralspringsbrewery.com/wp-content/uploads/2025/02/Image.jpg
END:VEVENT
BEGIN:VEVENT
DTSTART;TZID=America/Chicago:20260307T173000
DTEND;TZID=America/Chicago:20260307T203000
DTSTAMP:20260419T113413
CREATED:20250902T193230Z
LAST-MODIFIED:20260114T214958Z
UID:10004471-1772904600-1772915400@mineralspringsbrewery.com
SUMMARY:Adam Moe
DESCRIPTION:Adam Moe is a fiddler and singer/songwriter based in Duluth\, MN. In 2012\, he started the folky-tonk duo Pushing Chain with then partner Boyd Blomberg. For the next eight years\, Pushing Chain toured the US and Canada\, playing venues big and small and gaining fans the old-fashioned way — face to face\, one at a time. Adam has been featured on radio and television\, and played some of the biggest festivals in the country\, including the 2019 Woody Guthrie Festival and the 2019 Kerrville Folk Festival. \n\n\n\nWith the onset of the 2020 pandemic\, Adam has set out on a solo career. His unique original songs backed by his tenor guitar and delivered with his clear\, bluesy tenor make for a great show. \n\n\n\nAdam believes that good music can make strangers share a table\, and he proves it every time he plays. He’s nothing if not entertaining.
URL:https://mineralspringsbrewery.com/event/adam-moe-11/
LOCATION:Mineral Springs Brewery\, 210 N Oak Ave\, Suite 1\, Owatonna\, MN\, 55060\, United States
CATEGORIES:Music
ATTACH;FMTTYPE=image/jpeg:https://mineralspringsbrewery.com/wp-content/uploads/2022/02/Adam-Moe.jpg
END:VEVENT
END:VCALENDAR