BEGIN:VCALENDAR
VERSION:2.0
PRODID:-//Mineral Springs Brewery - ECPv6.15.20//NONSGML v1.0//EN
CALSCALE:GREGORIAN
METHOD:PUBLISH
X-ORIGINAL-URL:https://mineralspringsbrewery.com
X-WR-CALDESC:Events for Mineral Springs Brewery
REFRESH-INTERVAL;VALUE=DURATION:PT1H
X-Robots-Tag:noindex
X-PUBLISHED-TTL:PT1H
BEGIN:VTIMEZONE
TZID:America/Chicago
BEGIN:DAYLIGHT
TZOFFSETFROM:-0600
TZOFFSETTO:-0500
TZNAME:CDT
DTSTART:20250309T080000
END:DAYLIGHT
BEGIN:STANDARD
TZOFFSETFROM:-0500
TZOFFSETTO:-0600
TZNAME:CST
DTSTART:20251102T070000
END:STANDARD
BEGIN:DAYLIGHT
TZOFFSETFROM:-0600
TZOFFSETTO:-0500
TZNAME:CDT
DTSTART:20260308T080000
END:DAYLIGHT
BEGIN:STANDARD
TZOFFSETFROM:-0500
TZOFFSETTO:-0600
TZNAME:CST
DTSTART:20261101T070000
END:STANDARD
BEGIN:DAYLIGHT
TZOFFSETFROM:-0600
TZOFFSETTO:-0500
TZNAME:CDT
DTSTART:20270314T080000
END:DAYLIGHT
BEGIN:STANDARD
TZOFFSETFROM:-0500
TZOFFSETTO:-0600
TZNAME:CST
DTSTART:20271107T070000
END:STANDARD
END:VTIMEZONE
BEGIN:VEVENT
DTSTART;TZID=America/Chicago:20260326T183000
DTEND;TZID=America/Chicago:20260326T193000
DTSTAMP:20260419T141600
CREATED:20260204T173648Z
LAST-MODIFIED:20260222T161427Z
UID:10005104-1774549800-1774553400@mineralspringsbrewery.com
SUMMARY:Bruce Bernhart
DESCRIPTION:Owatonna-based Bruce Bernhart has been playing in local and regional bands for nearly 40 years. He was a regular performer at the Steele County Fair for decades with his own bluegrass band\, and played bass for the popular and highly acclaimed “Tuition Daddies” jazz trio that entertained audiences in Owatonna for more than 10 years and performed at the Minnesota State Fair. Bruce says the highlight of his musical career came when he played in Branson MO while touring with Dick Kimmel and Company. His work can be heard on many CD’s that he’s recorded with his past bands and as a contributor to other artists. These days Bruce is a solo performer with a unique style- a pure instrumentalist on acoustic guitar and mandolin\, playing a wide selection of songs and musical styles on both instruments ranging from traditional fiddle tunes to jazz standards to movie themes. He has been playing at MSB for nearly two years and appears regularly at other local venues and events. He also entertains residents at many retirement homes and assisted living centers throughout the region.
URL:https://mineralspringsbrewery.com/event/bruce-bernhart-14/2026-03-26/
LOCATION:Mineral Springs Brewery\, 210 N Oak Ave\, Suite 1\, Owatonna\, MN\, 55060\, United States
CATEGORIES:Music
ATTACH;FMTTYPE=image/jpeg:https://mineralspringsbrewery.com/wp-content/uploads/2025/02/Image.jpg
END:VEVENT
BEGIN:VEVENT
DTSTART;TZID=America/Chicago:20260328T183000
DTEND;TZID=America/Chicago:20260328T203000
DTSTAMP:20260419T141600
CREATED:20260114T220003Z
LAST-MODIFIED:20260114T220009Z
UID:10005068-1774722600-1774729800@mineralspringsbrewery.com
SUMMARY:Mike Fugazzi (The Real Spooky Mike)
DESCRIPTION:Mike Fugazzi is a dynamic harmonica player and vocalist with over 20 years of experience pushing the instrument beyond its traditional role. Known for his lyrical phrasing\, soulful tone\, and technical precision\, he seamlessly blends harmonica into rock\, blues\, and country music—whether as a melodic lead\, a rhythmic accent\, or an atmospheric texture. A seasoned live performer and recording artist\, Mike has built a strong reputation across the Midwest and online\, showcasing harmonica’s power in modern rock settings. His innovative approach often replaces traditional guitar or horn parts\, making him a go-to collaborator for artists seeking a fresh\, expressive sound. \n\n\n\n\nhttps://www.tiktok.com/@harpninjamike\n\n\n\n\nDM him to collab!
URL:https://mineralspringsbrewery.com/event/mike-fugazzi-the-real-spooky-mike-3/
LOCATION:Mineral Springs Brewery\, 210 N Oak Ave\, Suite 1\, Owatonna\, MN\, 55060\, United States
CATEGORIES:Music
ATTACH;FMTTYPE=image/png:https://mineralspringsbrewery.com/wp-content/uploads/2025/05/Mike-Fugazzi-Harmonica.png
END:VEVENT
END:VCALENDAR