BEGIN:VCALENDAR
VERSION:2.0
PRODID:-//Mineral Springs Brewery - ECPv6.15.20//NONSGML v1.0//EN
CALSCALE:GREGORIAN
METHOD:PUBLISH
X-ORIGINAL-URL:https://mineralspringsbrewery.com
X-WR-CALDESC:Events for Mineral Springs Brewery
REFRESH-INTERVAL;VALUE=DURATION:PT1H
X-Robots-Tag:noindex
X-PUBLISHED-TTL:PT1H
BEGIN:VTIMEZONE
TZID:America/Chicago
BEGIN:DAYLIGHT
TZOFFSETFROM:-0600
TZOFFSETTO:-0500
TZNAME:CDT
DTSTART:20240310T080000
END:DAYLIGHT
BEGIN:STANDARD
TZOFFSETFROM:-0500
TZOFFSETTO:-0600
TZNAME:CST
DTSTART:20241103T070000
END:STANDARD
BEGIN:DAYLIGHT
TZOFFSETFROM:-0600
TZOFFSETTO:-0500
TZNAME:CDT
DTSTART:20250309T080000
END:DAYLIGHT
BEGIN:STANDARD
TZOFFSETFROM:-0500
TZOFFSETTO:-0600
TZNAME:CST
DTSTART:20251102T070000
END:STANDARD
BEGIN:DAYLIGHT
TZOFFSETFROM:-0600
TZOFFSETTO:-0500
TZNAME:CDT
DTSTART:20260308T080000
END:DAYLIGHT
BEGIN:STANDARD
TZOFFSETFROM:-0500
TZOFFSETTO:-0600
TZNAME:CST
DTSTART:20261101T070000
END:STANDARD
END:VTIMEZONE
BEGIN:VEVENT
DTSTART;TZID=America/Chicago:20250215T183000
DTEND;TZID=America/Chicago:20250215T203000
DTSTAMP:20260419T121521
CREATED:20250211T163303Z
LAST-MODIFIED:20250211T163306Z
UID:10003694-1739644200-1739651400@mineralspringsbrewery.com
SUMMARY:Jeff Reinartz
DESCRIPTION:Jeff Reinartz is a singer/songwriter from  Austin\, Minnesota. He’s been performing live for over 30 years and is a veteran of several bands. He is now a solo acoustic performer and has released two EPs that were produced by Scotty Rohr at Zension Studio in Austin. \n\n\n\n\nI believe that we’re here to use our talents and abilities to the benefit of others\, so after 22 years in the corporate world with a Fortune 300 company\, I resigned in 2019 to pursue my music interests full time. I didn’t necessarily count on a global pandemic\, but as things have loosened up I’ve been able to play more and more\, doing acoustic shows at primarily breweries and wineries in Southern Minnesota and Northern Iowa\, and building a small following organically.” \nJeff Reinartz
URL:https://mineralspringsbrewery.com/event/jeff-reinartz-19/
LOCATION:Mineral Springs Brewery\, 210 N Oak Ave\, Suite 1\, Owatonna\, MN\, 55060\, United States
CATEGORIES:Activities,Music
ATTACH;FMTTYPE=image/jpeg:https://mineralspringsbrewery.com/wp-content/uploads/2025/02/Jeff-Reinartz-Day-by-Day.jpg
END:VEVENT
BEGIN:VEVENT
DTSTART;TZID=America/Chicago:20250215T183000
DTEND;TZID=America/Chicago:20250215T203000
DTSTAMP:20260419T121521
CREATED:20250305T215623Z
LAST-MODIFIED:20250305T215627Z
UID:10003815-1739644200-1739651400@mineralspringsbrewery.com
SUMMARY:Jeff Reinartz
DESCRIPTION:Jeff Reinartz is a singer/songwriter from  Austin\, Minnesota. He’s been performing live for over 30 years and is a veteran of several bands. He is now a solo acoustic performer and has released two EPs that were produced by Scotty Rohr at Zension Studio in Austin. \n\n\n\n\nI believe that we’re here to use our talents and abilities to the benefit of others\, so after 22 years in the corporate world with a Fortune 300 company\, I resigned in 2019 to pursue my music interests full time. I didn’t necessarily count on a global pandemic\, but as things have loosened up I’ve been able to play more and more\, doing acoustic shows at primarily breweries and wineries in Southern Minnesota and Northern Iowa\, and building a small following organically.” \nJeff Reinartz
URL:https://mineralspringsbrewery.com/event/jeff-reinartz-20/
LOCATION:Mineral Springs Brewery\, 210 N Oak Ave\, Suite 1\, Owatonna\, MN\, 55060\, United States
CATEGORIES:Music
ATTACH;FMTTYPE=image/jpeg:https://mineralspringsbrewery.com/wp-content/uploads/2025/02/Jeff-Reinartz-Day-by-Day.jpg
END:VEVENT
BEGIN:VEVENT
DTSTART;TZID=America/Chicago:20250216T150000
DTEND;TZID=America/Chicago:20250216T150000
DTSTAMP:20260419T121521
CREATED:20230822T225107Z
LAST-MODIFIED:20230822T225109Z
UID:10002394-1739718000-1739718000@mineralspringsbrewery.com
SUMMARY:MSBGO
DESCRIPTION:On Sundays\, we’ll be hosting a free and fun game of chance! Come on down to play along and win FREE BEER!
URL:https://mineralspringsbrewery.com/event/msbgo-7/2025-02-16/
LOCATION:Mineral Springs Brewery\, 210 N Oak Ave\, Suite 1\, Owatonna\, MN\, 55060\, United States
CATEGORIES:Activities
ATTACH;FMTTYPE=image/png:https://mineralspringsbrewery.com/wp-content/uploads/2022/04/Bingo.png
END:VEVENT
BEGIN:VEVENT
DTSTART;TZID=America/Chicago:20250219T180000
DTEND;TZID=America/Chicago:20250219T180000
DTSTAMP:20260419T121521
CREATED:20250103T010259Z
LAST-MODIFIED:20250103T013858Z
UID:10002138-1739988000-1739988000@mineralspringsbrewery.com
SUMMARY:Trivia Night
DESCRIPTION:MSB Trivia Night!!
URL:https://mineralspringsbrewery.com/event/trivia-night-31/2025-02-19/
LOCATION:Mineral Springs Brewery\, 210 N Oak Ave\, Suite 1\, Owatonna\, MN\, 55060\, United States
CATEGORIES:Activities
ATTACH;FMTTYPE=image/png:https://mineralspringsbrewery.com/wp-content/uploads/2022/02/MSB-Trivia-Night.png
END:VEVENT
BEGIN:VEVENT
DTSTART;TZID=America/Chicago:20250219T180000
DTEND;TZID=America/Chicago:20250219T180000
DTSTAMP:20260419T121521
CREATED:20250108T000456Z
LAST-MODIFIED:20250108T010457Z
UID:10003681-1739988000-1739988000@mineralspringsbrewery.com
SUMMARY:Frontal Cortex Freeze - Trivia Tournament
DESCRIPTION:This is our annual 6-week winter trivia tournament! You and up to 5 teammates will register to take part and win prizes! \n\n\n\n1 point will be recorded for every correct answer submitted throughout the 6 weeks (20 questions per night) The team with the most points at the conclusion of trivia on February 19th wins! \n\n\n\nPrizes: \n\n\n\n\nOne full growler to each winning team member\n\n\n\nA plaque with the winning team’s name and photo placed in the MSB taproom\n\n\n\nOne of a kind Frontal Cortex Freeze Tournament t-shirt\n\n\n\nBragging rights until next year’s tournament!\n\n\n\n\nOur weekly trivia will continue as normal\, with teams participating in the tournament also able to win weekly trivia! \n\n\n\n(No new team members once game play begins on 1/15)
URL:https://mineralspringsbrewery.com/event/frontal-cortex-freeze-trivia-tournament-2/2025-02-19/
LOCATION:Mineral Springs Brewery\, 210 N Oak Ave\, Suite 1\, Owatonna\, MN\, 55060\, United States
CATEGORIES:Activities
ATTACH;FMTTYPE=image/jpeg:https://mineralspringsbrewery.com/wp-content/uploads/2025/01/Add-a-heading-Real-Estate-Flyer.png-scaled.jpeg
END:VEVENT
BEGIN:VEVENT
DTSTART;TZID=America/Chicago:20250220T180000
DTEND;TZID=America/Chicago:20250220T180000
DTSTAMP:20260419T121521
CREATED:20240423T001709Z
LAST-MODIFIED:20240618T034946Z
UID:10003716-1740074400-1740074400@mineralspringsbrewery.com
SUMMARY:Name that Tune
DESCRIPTION:Just like it sounds! \n\n\n\nWe play clips of songs\, and your team tries to guess the correct song title and group/artist! \n\n\n\nFREE To PlayCrowlers for the winning team as well as prizes given away throughout!Up To 6 People per Team
URL:https://mineralspringsbrewery.com/event/name-that-tune-7/2025-02-20/
LOCATION:Mineral Springs Brewery\, 210 N Oak Ave\, Suite 1\, Owatonna\, MN\, 55060\, United States
CATEGORIES:Activities
ATTACH;FMTTYPE=image/jpeg:https://mineralspringsbrewery.com/wp-content/uploads/2024/03/Black-White-Coming-Soon-Instagram-Post-Real-Estate-Flyer-scaled.jpeg
END:VEVENT
BEGIN:VEVENT
DTSTART;TZID=America/Chicago:20250222T160000
DTEND;TZID=America/Chicago:20250222T180000
DTSTAMP:20260419T121521
CREATED:20250211T165000Z
LAST-MODIFIED:20250211T165004Z
UID:10003696-1740240000-1740247200@mineralspringsbrewery.com
SUMMARY:Senior Moment
DESCRIPTION:Bruce Bernhart has played in several bluegrass bands at the Steele County Fair over the past 25+ years.  \n\n\n\nHaving mastered the lost art of flatpicking old time fiddle tunes on the guitar\, combined with no amplifiers and no microphones\, Bruce and his friend Tim (who plays back up rhythm guitar and who has played folk and bluegrass for as long as Bruce has) are the duo Senior Moment. \n\n\n\nSenior Moment is all about “easy listening” music softly blends in with the room. “Wallpaper” music Bruce likes to call it. You’ll be able to recognize some of the tunes played while others are less known but have beautiful melodies. There are no sharp edges to their music. It’s very melodic stuff that was written in an old-time simple style and then transposed from fiddle to guitar.  \n\n\n\nHinted at with the duo’s name\, they’re retired and simply love to play!
URL:https://mineralspringsbrewery.com/event/senior-moment-16/
LOCATION:Mineral Springs Brewery\, 210 N Oak Ave\, Suite 1\, Owatonna\, MN\, 55060\, United States
CATEGORIES:Activities,Music
ATTACH;FMTTYPE=image/jpeg:https://mineralspringsbrewery.com/wp-content/uploads/2025/02/Image.jpg
END:VEVENT
BEGIN:VEVENT
DTSTART;TZID=America/Chicago:20250222T180000
DTEND;TZID=America/Chicago:20250222T200000
DTSTAMP:20260419T121521
CREATED:20250211T165036Z
LAST-MODIFIED:20250211T165039Z
UID:10003697-1740247200-1740254400@mineralspringsbrewery.com
SUMMARY:Todd Michael Jameson
DESCRIPTION:Todd Michael Jameson is a seasoned musician\, and Rock Steady Records recording artist\, with many years of experience. Todd performs as a solo artist playing throughout the Minneapolis/St. Paul and Tri-state area. Along with performing originals and covers as a solo artist\, Todd also plays bass in Hawt Beir (Original Rock and Roll). Playing over 175 gigs per year\, Todd travels across many genres and entertains audiences of all sizes. \n\n\n\nTodd’s influences cross many genres as well. From Waylon Jennings to Eagles to Miles Davis and everything in between. On any given night\, Todd can go from playing one of his own songs to an Otis Redding classic right into an Iron Maiden song. Nothing is off limits!
URL:https://mineralspringsbrewery.com/event/todd-michael-jameson-4/
LOCATION:Mineral Springs Brewery\, 210 N Oak Ave\, Suite 1\, Owatonna\, MN\, 55060\, United States
CATEGORIES:Activities,Music
ATTACH;FMTTYPE=image/jpeg:https://mineralspringsbrewery.com/wp-content/uploads/2023/02/Todd-Michael-Jameson-Music.jpg
END:VEVENT
BEGIN:VEVENT
DTSTART;TZID=America/Chicago:20250223T150000
DTEND;TZID=America/Chicago:20250223T150000
DTSTAMP:20260419T121521
CREATED:20230822T225107Z
LAST-MODIFIED:20230822T225109Z
UID:10002395-1740322800-1740322800@mineralspringsbrewery.com
SUMMARY:MSBGO
DESCRIPTION:On Sundays\, we’ll be hosting a free and fun game of chance! Come on down to play along and win FREE BEER!
URL:https://mineralspringsbrewery.com/event/msbgo-7/2025-02-23/
LOCATION:Mineral Springs Brewery\, 210 N Oak Ave\, Suite 1\, Owatonna\, MN\, 55060\, United States
CATEGORIES:Activities
ATTACH;FMTTYPE=image/png:https://mineralspringsbrewery.com/wp-content/uploads/2022/04/Bingo.png
END:VEVENT
BEGIN:VEVENT
DTSTART;TZID=America/Chicago:20250226T180000
DTEND;TZID=America/Chicago:20250226T180000
DTSTAMP:20260419T121521
CREATED:20250103T010259Z
LAST-MODIFIED:20250103T013858Z
UID:10002139-1740592800-1740592800@mineralspringsbrewery.com
SUMMARY:Trivia Night
DESCRIPTION:MSB Trivia Night!!
URL:https://mineralspringsbrewery.com/event/trivia-night-31/2025-02-26/
LOCATION:Mineral Springs Brewery\, 210 N Oak Ave\, Suite 1\, Owatonna\, MN\, 55060\, United States
CATEGORIES:Activities
ATTACH;FMTTYPE=image/png:https://mineralspringsbrewery.com/wp-content/uploads/2022/02/MSB-Trivia-Night.png
END:VEVENT
BEGIN:VEVENT
DTSTART;TZID=America/Chicago:20250228T173000
DTEND;TZID=America/Chicago:20250228T193000
DTSTAMP:20260419T121521
CREATED:20250211T165148Z
LAST-MODIFIED:20250223T161211Z
UID:10003698-1740763800-1740771000@mineralspringsbrewery.com
SUMMARY:Chris Bertrand
DESCRIPTION:Chris Bertrand is a seasoned singer/songwriter from Southern Minnesota who dedicates his life to music. Deeply rooted in folk and unafraid to stomp and howl\, Bertrand is currently working on his first recording effort\, ‘By The Pour.’ \n\n\n\n\n\n\n\n\n\n\n\nDetails
URL:https://mineralspringsbrewery.com/event/chris-bertrand-10/
LOCATION:Mineral Springs Brewery\, 210 N Oak Ave\, Suite 1\, Owatonna\, MN\, 55060\, United States
CATEGORIES:Activities,Music
ATTACH;FMTTYPE=image/jpeg:https://mineralspringsbrewery.com/wp-content/uploads/2022/01/ChrisBertrandMusic.jpg
END:VEVENT
BEGIN:VEVENT
DTSTART;TZID=America/Chicago:20250301T183000
DTEND;TZID=America/Chicago:20250301T203000
DTSTAMP:20260419T121521
CREATED:20250211T165341Z
LAST-MODIFIED:20250305T202959Z
UID:10003699-1740853800-1740861000@mineralspringsbrewery.com
SUMMARY:Fred the Bear
DESCRIPTION:Fred the Bear is a classic rock/alternative band known for their rich harmonies\, emotive dynamics and original songs. FTB’s music reflects on life’s promises and disappointments through personal crafted lyrics and driving rhythms.  Mixed within their originals is a blend of music from other Midwest artists\, currently touring groups and classic bands.  \n\n\n\nTheir name and their drive for a great live sound is a tribute to Bruce “Fred the Bear” Eschler.  At his bar\, the “Bear’s Den”\, you could always count on a stiff drink and one heck of a party\, with the music crankin’ all night.  So they play tribute to the man who provided them a first glimpse into the true energy of live music …. Fred the Bear.
URL:https://mineralspringsbrewery.com/event/fred-the-bear-9/
LOCATION:Mineral Springs Brewery\, 210 N Oak Ave\, Suite 1\, Owatonna\, MN\, 55060\, United States
CATEGORIES:Music
ATTACH;FMTTYPE=image/jpeg:https://mineralspringsbrewery.com/wp-content/uploads/2022/04/Fred-the-Bear-scaled.jpg
END:VEVENT
BEGIN:VEVENT
DTSTART;TZID=America/Chicago:20250302T150000
DTEND;TZID=America/Chicago:20250302T150000
DTSTAMP:20260419T121521
CREATED:20230822T225107Z
LAST-MODIFIED:20230822T225109Z
UID:10002396-1740927600-1740927600@mineralspringsbrewery.com
SUMMARY:MSBGO
DESCRIPTION:On Sundays\, we’ll be hosting a free and fun game of chance! Come on down to play along and win FREE BEER!
URL:https://mineralspringsbrewery.com/event/msbgo-7/2025-03-02/
LOCATION:Mineral Springs Brewery\, 210 N Oak Ave\, Suite 1\, Owatonna\, MN\, 55060\, United States
CATEGORIES:Activities
ATTACH;FMTTYPE=image/png:https://mineralspringsbrewery.com/wp-content/uploads/2022/04/Bingo.png
END:VEVENT
BEGIN:VEVENT
DTSTART;TZID=America/Chicago:20250305T180000
DTEND;TZID=America/Chicago:20250305T180000
DTSTAMP:20260419T121521
CREATED:20250305T203954Z
LAST-MODIFIED:20250305T203959Z
UID:10002140-1741197600-1741197600@mineralspringsbrewery.com
SUMMARY:Trivia Night
DESCRIPTION:MSB Trivia Night!!
URL:https://mineralspringsbrewery.com/event/trivia-night-32/2025-03-05/
LOCATION:Mineral Springs Brewery\, 210 N Oak Ave\, Suite 1\, Owatonna\, MN\, 55060\, United States
CATEGORIES:Events
ATTACH;FMTTYPE=image/png:https://mineralspringsbrewery.com/wp-content/uploads/2022/02/MSB-Trivia-Night.png
END:VEVENT
BEGIN:VEVENT
DTSTART;TZID=America/Chicago:20250306T180000
DTEND;TZID=America/Chicago:20250306T200000
DTSTAMP:20260419T121521
CREATED:20250223T161833Z
LAST-MODIFIED:20250305T205441Z
UID:10003711-1741284000-1741291200@mineralspringsbrewery.com
SUMMARY:The Office Trivia
DESCRIPTION:Join us for a special edition of trivia – test your knowledge of The Office! Whether you are superstitious or just a little stitious\, we hope to see you from 6-8 answering questions about everyone’s favorite Dunder-Mifflin employees! Free to play to win MSB beer and other prizes!
URL:https://mineralspringsbrewery.com/event/the-office-trivia/
LOCATION:Mineral Springs Brewery\, 210 N Oak Ave\, Suite 1\, Owatonna\, MN\, 55060\, United States
CATEGORIES:Events
ATTACH;FMTTYPE=image/png:https://mineralspringsbrewery.com/wp-content/uploads/2025/02/Trivia.png
END:VEVENT
BEGIN:VEVENT
DTSTART;TZID=America/Chicago:20250308T183000
DTEND;TZID=America/Chicago:20250308T203000
DTSTAMP:20260419T121521
CREATED:20240618T032356Z
LAST-MODIFIED:20250309T011445Z
UID:10003036-1741458600-1741465800@mineralspringsbrewery.com
SUMMARY:Leer Brothers
DESCRIPTION:
URL:https://mineralspringsbrewery.com/event/leer-brothers-2/
LOCATION:Mineral Springs Brewery\, 210 N Oak Ave\, Suite 1\, Owatonna\, MN\, 55060\, United States
CATEGORIES:Music
ATTACH;FMTTYPE=image/jpeg:https://mineralspringsbrewery.com/wp-content/uploads/2024/06/7D9A4353-scaled.jpeg
END:VEVENT
BEGIN:VEVENT
DTSTART;TZID=America/Chicago:20250309T150000
DTEND;TZID=America/Chicago:20250309T150000
DTSTAMP:20260419T121521
CREATED:20250305T203948Z
LAST-MODIFIED:20250305T203954Z
UID:10002397-1741532400-1741532400@mineralspringsbrewery.com
SUMMARY:MSBGO
DESCRIPTION:On Sundays\, we’ll be hosting a free and fun game of chance! Come on down to play along and win FREE BEER!
URL:https://mineralspringsbrewery.com/event/msbgo-8/2025-03-09/
LOCATION:Mineral Springs Brewery\, 210 N Oak Ave\, Suite 1\, Owatonna\, MN\, 55060\, United States
CATEGORIES:Events
ATTACH;FMTTYPE=image/png:https://mineralspringsbrewery.com/wp-content/uploads/2022/04/Bingo.png
END:VEVENT
BEGIN:VEVENT
DTSTART;TZID=America/Chicago:20250312T180000
DTEND;TZID=America/Chicago:20250312T180000
DTSTAMP:20260419T121521
CREATED:20250305T203954Z
LAST-MODIFIED:20250305T203959Z
UID:10002141-1741802400-1741802400@mineralspringsbrewery.com
SUMMARY:Trivia Night
DESCRIPTION:MSB Trivia Night!!
URL:https://mineralspringsbrewery.com/event/trivia-night-32/2025-03-12/
LOCATION:Mineral Springs Brewery\, 210 N Oak Ave\, Suite 1\, Owatonna\, MN\, 55060\, United States
CATEGORIES:Events
ATTACH;FMTTYPE=image/png:https://mineralspringsbrewery.com/wp-content/uploads/2022/02/MSB-Trivia-Night.png
END:VEVENT
BEGIN:VEVENT
DTSTART;TZID=America/Chicago:20250313T173000
DTEND;TZID=America/Chicago:20250313T190000
DTSTAMP:20260419T121521
CREATED:20250305T203841Z
LAST-MODIFIED:20250305T203847Z
UID:10003061-1741887000-1741892400@mineralspringsbrewery.com
SUMMARY:News & Brews
DESCRIPTION:Annie Harman\, the Owatonna People’s Press editor\, will be with us to discuss all things having to do with the OPP newspaper\, answer questions\, hear your news tips and more. Learn more about giveaways from both MSB and OPP when you check in at the event!
URL:https://mineralspringsbrewery.com/event/news-brews-7/2025-03-13/
LOCATION:Mineral Springs Brewery\, 210 N Oak Ave\, Suite 1\, Owatonna\, MN\, 55060\, United States
CATEGORIES:Events
ATTACH;FMTTYPE=image/jpeg:https://mineralspringsbrewery.com/wp-content/uploads/2024/06/News-and-Brews-spec-3x6.25.jpg
END:VEVENT
BEGIN:VEVENT
DTSTART;TZID=America/Chicago:20250315T160000
DTEND;TZID=America/Chicago:20250315T180000
DTSTAMP:20260419T121521
CREATED:20250211T165817Z
LAST-MODIFIED:20250305T202627Z
UID:10003701-1742054400-1742061600@mineralspringsbrewery.com
SUMMARY:Senior Moment
DESCRIPTION:Bruce Bernhart has played in several bluegrass bands at the Steele County Fair over the past 25+ years.  \n\n\n\nHaving mastered the lost art of flatpicking old time fiddle tunes on the guitar\, combined with no amplifiers and no microphones\, Bruce and his friend Tim (who plays back up rhythm guitar and who has played folk and bluegrass for as long as Bruce has) are the duo Senior Moment. \n\n\n\nSenior Moment is all about “easy listening” music softly blends in with the room. “Wallpaper” music Bruce likes to call it. You’ll be able to recognize some of the tunes played while others are less known but have beautiful melodies. There are no sharp edges to their music. It’s very melodic stuff that was written in an old-time simple style and then transposed from fiddle to guitar.  \n\n\n\nHinted at with the duo’s name\, they’re retired and simply love to play!
URL:https://mineralspringsbrewery.com/event/senior-moment-17/
LOCATION:Mineral Springs Brewery\, 210 N Oak Ave\, Suite 1\, Owatonna\, MN\, 55060\, United States
CATEGORIES:Music
ATTACH;FMTTYPE=image/jpeg:https://mineralspringsbrewery.com/wp-content/uploads/2025/02/Image.jpg
END:VEVENT
BEGIN:VEVENT
DTSTART;TZID=America/Chicago:20250315T180000
DTEND;TZID=America/Chicago:20250315T200000
DTSTAMP:20260419T121521
CREATED:20250211T165759Z
LAST-MODIFIED:20250305T202631Z
UID:10003700-1742061600-1742068800@mineralspringsbrewery.com
SUMMARY:Todd Michael Jameson
DESCRIPTION:Todd Michael Jameson is a seasoned musician\, and Rock Steady Records recording artist\, with many years of experience. Todd performs as a solo artist playing throughout the Minneapolis/St. Paul and Tri-state area. Along with performing originals and covers as a solo artist\, Todd also plays bass in Hawt Beir (Original Rock and Roll). Playing over 175 gigs per year\, Todd travels across many genres and entertains audiences of all sizes. \n\n\n\nTodd’s influences cross many genres as well. From Waylon Jennings to Eagles to Miles Davis and everything in between. On any given night\, Todd can go from playing one of his own songs to an Otis Redding classic right into an Iron Maiden song. Nothing is off limits!
URL:https://mineralspringsbrewery.com/event/todd-michael-jameson-5/
LOCATION:Mineral Springs Brewery\, 210 N Oak Ave\, Suite 1\, Owatonna\, MN\, 55060\, United States
CATEGORIES:Music
ATTACH;FMTTYPE=image/jpeg:https://mineralspringsbrewery.com/wp-content/uploads/2023/02/Todd-Michael-Jameson-Music.jpg
END:VEVENT
BEGIN:VEVENT
DTSTART;TZID=America/Chicago:20250316T150000
DTEND;TZID=America/Chicago:20250316T150000
DTSTAMP:20260419T121521
CREATED:20250305T203948Z
LAST-MODIFIED:20250305T203954Z
UID:10002398-1742137200-1742137200@mineralspringsbrewery.com
SUMMARY:MSBGO
DESCRIPTION:On Sundays\, we’ll be hosting a free and fun game of chance! Come on down to play along and win FREE BEER!
URL:https://mineralspringsbrewery.com/event/msbgo-8/2025-03-16/
LOCATION:Mineral Springs Brewery\, 210 N Oak Ave\, Suite 1\, Owatonna\, MN\, 55060\, United States
CATEGORIES:Events
ATTACH;FMTTYPE=image/png:https://mineralspringsbrewery.com/wp-content/uploads/2022/04/Bingo.png
END:VEVENT
BEGIN:VEVENT
DTSTART;TZID=America/Chicago:20250319T180000
DTEND;TZID=America/Chicago:20250319T180000
DTSTAMP:20260419T121521
CREATED:20250305T203954Z
LAST-MODIFIED:20250305T203959Z
UID:10002142-1742407200-1742407200@mineralspringsbrewery.com
SUMMARY:Trivia Night
DESCRIPTION:MSB Trivia Night!!
URL:https://mineralspringsbrewery.com/event/trivia-night-32/2025-03-19/
LOCATION:Mineral Springs Brewery\, 210 N Oak Ave\, Suite 1\, Owatonna\, MN\, 55060\, United States
CATEGORIES:Events
ATTACH;FMTTYPE=image/png:https://mineralspringsbrewery.com/wp-content/uploads/2022/02/MSB-Trivia-Night.png
END:VEVENT
BEGIN:VEVENT
DTSTART;TZID=America/Chicago:20250320T180000
DTEND;TZID=America/Chicago:20250320T180000
DTSTAMP:20260419T121521
CREATED:20250305T201412Z
LAST-MODIFIED:20250314T003404Z
UID:10003121-1742493600-1742493600@mineralspringsbrewery.com
SUMMARY:Name that Tune
DESCRIPTION:Just like it sounds! \n\n\n\nWe play clips of songs\, and your team tries to guess the correct song title and group/artist! \n\n\n\nFREE To PlayCrowlers for the winning team as well as prizes given away throughout!Up To 6 People per Team
URL:https://mineralspringsbrewery.com/event/name-that-tune-13/
LOCATION:Mineral Springs Brewery\, 210 N Oak Ave\, Suite 1\, Owatonna\, MN\, 55060\, United States
CATEGORIES:Events
ATTACH;FMTTYPE=image/png:https://mineralspringsbrewery.com/wp-content/uploads/2025/03/NAME-THAT-TUNE-POSTER-1.png
END:VEVENT
BEGIN:VEVENT
DTSTART;TZID=America/Chicago:20250321T190000
DTEND;TZID=America/Chicago:20250321T210000
DTSTAMP:20260419T121521
CREATED:20250211T165933Z
LAST-MODIFIED:20250319T203357Z
UID:10003702-1742583600-1742590800@mineralspringsbrewery.com
SUMMARY:Little Fish Improv
DESCRIPTION:Little Fish Improv is a group of local actors and comedians that bring Improv to life! \n\n\n\nNo two shows are the same; please join us as this troupe brings comedy to life through the art of improv. \n\n\n\nTheir improv is family friendly for people of all ages. The evening guarantees to be FULL of laughter for all!
URL:https://mineralspringsbrewery.com/event/little-fish-improv/
LOCATION:Mineral Springs Brewery\, 210 N Oak Ave\, Suite 1\, Owatonna\, MN\, 55060\, United States
CATEGORIES:Events
ATTACH;FMTTYPE=image/jpeg:https://mineralspringsbrewery.com/wp-content/uploads/2025/01/Little-Fish-Improv.jpg
END:VEVENT
BEGIN:VEVENT
DTSTART;TZID=America/Chicago:20250322T183000
DTEND;TZID=America/Chicago:20250322T203000
DTSTAMP:20260419T121521
CREATED:20250211T170006Z
LAST-MODIFIED:20250305T202635Z
UID:10003703-1742668200-1742675400@mineralspringsbrewery.com
SUMMARY:Shasta Kings
DESCRIPTION:The Shasta Kings are Scott Rogness (guitar/lead vocals) and Bruce Watts (guitars/vocals) playing a wide variety of songs from classic rock to new country.
URL:https://mineralspringsbrewery.com/event/shasta-kings-10/
LOCATION:Mineral Springs Brewery\, 210 N Oak Ave\, Suite 1\, Owatonna\, MN\, 55060\, United States
CATEGORIES:Music
ATTACH;FMTTYPE=image/jpeg:https://mineralspringsbrewery.com/wp-content/uploads/2024/04/Shasta-Kings.jpg
END:VEVENT
BEGIN:VEVENT
DTSTART;TZID=America/Chicago:20250323T150000
DTEND;TZID=America/Chicago:20250323T150000
DTSTAMP:20260419T121521
CREATED:20250305T203948Z
LAST-MODIFIED:20250305T203954Z
UID:10002399-1742742000-1742742000@mineralspringsbrewery.com
SUMMARY:MSBGO
DESCRIPTION:On Sundays\, we’ll be hosting a free and fun game of chance! Come on down to play along and win FREE BEER!
URL:https://mineralspringsbrewery.com/event/msbgo-8/2025-03-23/
LOCATION:Mineral Springs Brewery\, 210 N Oak Ave\, Suite 1\, Owatonna\, MN\, 55060\, United States
CATEGORIES:Events
ATTACH;FMTTYPE=image/png:https://mineralspringsbrewery.com/wp-content/uploads/2022/04/Bingo.png
END:VEVENT
BEGIN:VEVENT
DTSTART;TZID=America/Chicago:20250326T180000
DTEND;TZID=America/Chicago:20250326T180000
DTSTAMP:20260419T121521
CREATED:20250305T203954Z
LAST-MODIFIED:20250305T203959Z
UID:10002143-1743012000-1743012000@mineralspringsbrewery.com
SUMMARY:Trivia Night
DESCRIPTION:MSB Trivia Night!!
URL:https://mineralspringsbrewery.com/event/trivia-night-32/2025-03-26/
LOCATION:Mineral Springs Brewery\, 210 N Oak Ave\, Suite 1\, Owatonna\, MN\, 55060\, United States
CATEGORIES:Events
ATTACH;FMTTYPE=image/png:https://mineralspringsbrewery.com/wp-content/uploads/2022/02/MSB-Trivia-Night.png
END:VEVENT
BEGIN:VEVENT
DTSTART;TZID=America/Chicago:20250328T173000
DTEND;TZID=America/Chicago:20250328T193000
DTSTAMP:20260419T121521
CREATED:20250319T203057Z
LAST-MODIFIED:20250319T205940Z
UID:10003830-1743183000-1743190200@mineralspringsbrewery.com
SUMMARY:HoldFast
DESCRIPTION:HoldFast is a local vocal trio from Waterville!
URL:https://mineralspringsbrewery.com/event/holdfast/
LOCATION:Mineral Springs Brewery\, 210 N Oak Ave\, Suite 1\, Owatonna\, MN\, 55060\, United States
CATEGORIES:Music
ATTACH;FMTTYPE=image/jpeg:https://mineralspringsbrewery.com/wp-content/uploads/2025/03/HoldFast-Music.jpg
END:VEVENT
BEGIN:VEVENT
DTSTART;TZID=America/Chicago:20250329T160000
DTEND;TZID=America/Chicago:20250329T180000
DTSTAMP:20260419T121521
CREATED:20250211T170331Z
LAST-MODIFIED:20250305T202658Z
UID:10003704-1743264000-1743271200@mineralspringsbrewery.com
SUMMARY:Senior Moment
DESCRIPTION:Bruce Bernhart has played in several bluegrass bands at the Steele County Fair over the past 25+ years.  \n\n\n\nHaving mastered the lost art of flatpicking old time fiddle tunes on the guitar\, combined with no amplifiers and no microphones\, Bruce and his friend Tim (who plays back up rhythm guitar and who has played folk and bluegrass for as long as Bruce has) are the duo Senior Moment. \n\n\n\nSenior Moment is all about “easy listening” music softly blends in with the room. “Wallpaper” music Bruce likes to call it. You’ll be able to recognize some of the tunes played while others are less known but have beautiful melodies. There are no sharp edges to their music. It’s very melodic stuff that was written in an old-time simple style and then transposed from fiddle to guitar.  \n\n\n\nHinted at with the duo’s name\, they’re retired and simply love to play!
URL:https://mineralspringsbrewery.com/event/senior-moment-18/
LOCATION:Mineral Springs Brewery\, 210 N Oak Ave\, Suite 1\, Owatonna\, MN\, 55060\, United States
CATEGORIES:Music
ATTACH;FMTTYPE=image/jpeg:https://mineralspringsbrewery.com/wp-content/uploads/2025/02/Image.jpg
END:VEVENT
END:VCALENDAR