BEGIN:VCALENDAR
VERSION:2.0
PRODID:-//Mineral Springs Brewery - ECPv6.15.20//NONSGML v1.0//EN
CALSCALE:GREGORIAN
METHOD:PUBLISH
X-WR-CALNAME:Mineral Springs Brewery
X-ORIGINAL-URL:https://mineralspringsbrewery.com
X-WR-CALDESC:Events for Mineral Springs Brewery
REFRESH-INTERVAL;VALUE=DURATION:PT1H
X-Robots-Tag:noindex
X-PUBLISHED-TTL:PT1H
BEGIN:VTIMEZONE
TZID:America/Chicago
BEGIN:DAYLIGHT
TZOFFSETFROM:-0600
TZOFFSETTO:-0500
TZNAME:CDT
DTSTART:20290311T080000
END:DAYLIGHT
BEGIN:STANDARD
TZOFFSETFROM:-0500
TZOFFSETTO:-0600
TZNAME:CST
DTSTART:20291104T070000
END:STANDARD
BEGIN:DAYLIGHT
TZOFFSETFROM:-0600
TZOFFSETTO:-0500
TZNAME:CDT
DTSTART:20300310T080000
END:DAYLIGHT
BEGIN:STANDARD
TZOFFSETFROM:-0500
TZOFFSETTO:-0600
TZNAME:CST
DTSTART:20301103T070000
END:STANDARD
BEGIN:DAYLIGHT
TZOFFSETFROM:-0600
TZOFFSETTO:-0500
TZNAME:CDT
DTSTART:20310309T080000
END:DAYLIGHT
BEGIN:STANDARD
TZOFFSETFROM:-0500
TZOFFSETTO:-0600
TZNAME:CST
DTSTART:20311102T070000
END:STANDARD
END:VTIMEZONE
BEGIN:VEVENT
DTSTART;TZID=America/Chicago:20300817T130000
DTEND;TZID=America/Chicago:20300817T150000
DTSTAMP:20260424T014326
CREATED:20260204T181733Z
LAST-MODIFIED:20260204T181743Z
UID:10004997-1913202000-1913209200@mineralspringsbrewery.com
SUMMARY:Owatonna Board Game Crew - Weekly Game Meetup
DESCRIPTION:Saturday afternoons we’re hosting the Owatonna Board Games Crew for a few hours\, welcome to all gamers! Check out the Facebook event page\, linked below\, to learn more about the specifics of the week!
URL:https://mineralspringsbrewery.com/event/owatonna-board-game-crew-weekly-game-meetup-2/2030-08-17/
LOCATION:Mineral Springs Brewery\, 210 N Oak Ave\, Suite 1\, Owatonna\, MN\, 55060\, United States
CATEGORIES:Events
ATTACH;FMTTYPE=image/png:https://mineralspringsbrewery.com/wp-content/uploads/2025/11/owatonna-board-game-crew-flier-3.png
END:VEVENT
BEGIN:VEVENT
DTSTART;TZID=America/Chicago:20300818T150000
DTEND;TZID=America/Chicago:20300818T150000
DTSTAMP:20260424T014326
CREATED:20250305T203948Z
LAST-MODIFIED:20250305T203954Z
UID:10004538-1913295600-1913295600@mineralspringsbrewery.com
SUMMARY:MSBGO
DESCRIPTION:On Sundays\, we’ll be hosting a free and fun game of chance! Come on down to play along and win FREE BEER!
URL:https://mineralspringsbrewery.com/event/msbgo-8/2030-08-18/
LOCATION:Mineral Springs Brewery\, 210 N Oak Ave\, Suite 1\, Owatonna\, MN\, 55060\, United States
CATEGORIES:Events
ATTACH;FMTTYPE=image/png:https://mineralspringsbrewery.com/wp-content/uploads/2022/04/Bingo.png
END:VEVENT
BEGIN:VEVENT
DTSTART;TZID=America/Chicago:20300821T180000
DTEND;TZID=America/Chicago:20300821T180000
DTSTAMP:20260424T014326
CREATED:20250902T165904Z
LAST-MODIFIED:20250902T165916Z
UID:10004437-1913565600-1913565600@mineralspringsbrewery.com
SUMMARY:Trivia Mafia
DESCRIPTION:Trivia Mafia is a bar and brewery trivia operation based in Minneapolis\, Minnesota. They produce the highest-quality trivia nights in bars\, taprooms\, distilleries\, and private events every night of the week throughout the Midwest (and beyond!).  \n\n\n\nIf you’ve ever thought\, “I love trivia nights\, I just wish they were… I don’t know… better?” You’ve come to the right place!
URL:https://mineralspringsbrewery.com/event/trivia-night-20/2030-08-21/
LOCATION:Mineral Springs Brewery\, 210 N Oak Ave\, Suite 1\, Owatonna\, MN\, 55060\, United States
CATEGORIES:Events
ATTACH;FMTTYPE=image/png:https://mineralspringsbrewery.com/wp-content/uploads/2025/03/Mineral-Springs-Brewery_TMC_2025_IG.png
END:VEVENT
BEGIN:VEVENT
DTSTART;TZID=America/Chicago:20300822T183000
DTEND;TZID=America/Chicago:20300822T193000
DTSTAMP:20260424T014326
CREATED:20260204T173648Z
LAST-MODIFIED:20260222T161427Z
UID:10005157-1913653800-1913657400@mineralspringsbrewery.com
SUMMARY:Bruce Bernhart
DESCRIPTION:Owatonna-based Bruce Bernhart has been playing in local and regional bands for nearly 40 years. He was a regular performer at the Steele County Fair for decades with his own bluegrass band\, and played bass for the popular and highly acclaimed “Tuition Daddies” jazz trio that entertained audiences in Owatonna for more than 10 years and performed at the Minnesota State Fair. Bruce says the highlight of his musical career came when he played in Branson MO while touring with Dick Kimmel and Company. His work can be heard on many CD’s that he’s recorded with his past bands and as a contributor to other artists. These days Bruce is a solo performer with a unique style- a pure instrumentalist on acoustic guitar and mandolin\, playing a wide selection of songs and musical styles on both instruments ranging from traditional fiddle tunes to jazz standards to movie themes. He has been playing at MSB for nearly two years and appears regularly at other local venues and events. He also entertains residents at many retirement homes and assisted living centers throughout the region.
URL:https://mineralspringsbrewery.com/event/bruce-bernhart-14/2030-08-22/
LOCATION:Mineral Springs Brewery\, 210 N Oak Ave\, Suite 1\, Owatonna\, MN\, 55060\, United States
CATEGORIES:Music
ATTACH;FMTTYPE=image/jpeg:https://mineralspringsbrewery.com/wp-content/uploads/2025/02/Image.jpg
END:VEVENT
BEGIN:VEVENT
DTSTART;TZID=America/Chicago:20300824T130000
DTEND;TZID=America/Chicago:20300824T150000
DTSTAMP:20260424T014326
CREATED:20260204T181733Z
LAST-MODIFIED:20260204T181743Z
UID:10004998-1913806800-1913814000@mineralspringsbrewery.com
SUMMARY:Owatonna Board Game Crew - Weekly Game Meetup
DESCRIPTION:Saturday afternoons we’re hosting the Owatonna Board Games Crew for a few hours\, welcome to all gamers! Check out the Facebook event page\, linked below\, to learn more about the specifics of the week!
URL:https://mineralspringsbrewery.com/event/owatonna-board-game-crew-weekly-game-meetup-2/2030-08-24/
LOCATION:Mineral Springs Brewery\, 210 N Oak Ave\, Suite 1\, Owatonna\, MN\, 55060\, United States
CATEGORIES:Events
ATTACH;FMTTYPE=image/png:https://mineralspringsbrewery.com/wp-content/uploads/2025/11/owatonna-board-game-crew-flier-3.png
END:VEVENT
BEGIN:VEVENT
DTSTART;TZID=America/Chicago:20300825T150000
DTEND;TZID=America/Chicago:20300825T150000
DTSTAMP:20260424T014326
CREATED:20250305T203948Z
LAST-MODIFIED:20250305T203954Z
UID:10004539-1913900400-1913900400@mineralspringsbrewery.com
SUMMARY:MSBGO
DESCRIPTION:On Sundays\, we’ll be hosting a free and fun game of chance! Come on down to play along and win FREE BEER!
URL:https://mineralspringsbrewery.com/event/msbgo-8/2030-08-25/
LOCATION:Mineral Springs Brewery\, 210 N Oak Ave\, Suite 1\, Owatonna\, MN\, 55060\, United States
CATEGORIES:Events
ATTACH;FMTTYPE=image/png:https://mineralspringsbrewery.com/wp-content/uploads/2022/04/Bingo.png
END:VEVENT
BEGIN:VEVENT
DTSTART;TZID=America/Chicago:20300828T180000
DTEND;TZID=America/Chicago:20300828T180000
DTSTAMP:20260424T014326
CREATED:20250902T165904Z
LAST-MODIFIED:20250902T165916Z
UID:10004438-1914170400-1914170400@mineralspringsbrewery.com
SUMMARY:Trivia Mafia
DESCRIPTION:Trivia Mafia is a bar and brewery trivia operation based in Minneapolis\, Minnesota. They produce the highest-quality trivia nights in bars\, taprooms\, distilleries\, and private events every night of the week throughout the Midwest (and beyond!).  \n\n\n\nIf you’ve ever thought\, “I love trivia nights\, I just wish they were… I don’t know… better?” You’ve come to the right place!
URL:https://mineralspringsbrewery.com/event/trivia-night-20/2030-08-28/
LOCATION:Mineral Springs Brewery\, 210 N Oak Ave\, Suite 1\, Owatonna\, MN\, 55060\, United States
CATEGORIES:Events
ATTACH;FMTTYPE=image/png:https://mineralspringsbrewery.com/wp-content/uploads/2025/03/Mineral-Springs-Brewery_TMC_2025_IG.png
END:VEVENT
BEGIN:VEVENT
DTSTART;TZID=America/Chicago:20300831T130000
DTEND;TZID=America/Chicago:20300831T150000
DTSTAMP:20260424T014326
CREATED:20260204T181733Z
LAST-MODIFIED:20260204T181743Z
UID:10004999-1914411600-1914418800@mineralspringsbrewery.com
SUMMARY:Owatonna Board Game Crew - Weekly Game Meetup
DESCRIPTION:Saturday afternoons we’re hosting the Owatonna Board Games Crew for a few hours\, welcome to all gamers! Check out the Facebook event page\, linked below\, to learn more about the specifics of the week!
URL:https://mineralspringsbrewery.com/event/owatonna-board-game-crew-weekly-game-meetup-2/2030-08-31/
LOCATION:Mineral Springs Brewery\, 210 N Oak Ave\, Suite 1\, Owatonna\, MN\, 55060\, United States
CATEGORIES:Events
ATTACH;FMTTYPE=image/png:https://mineralspringsbrewery.com/wp-content/uploads/2025/11/owatonna-board-game-crew-flier-3.png
END:VEVENT
BEGIN:VEVENT
DTSTART;TZID=America/Chicago:20300901T150000
DTEND;TZID=America/Chicago:20300901T150000
DTSTAMP:20260424T014326
CREATED:20250305T203948Z
LAST-MODIFIED:20250305T203954Z
UID:10004540-1914505200-1914505200@mineralspringsbrewery.com
SUMMARY:MSBGO
DESCRIPTION:On Sundays\, we’ll be hosting a free and fun game of chance! Come on down to play along and win FREE BEER!
URL:https://mineralspringsbrewery.com/event/msbgo-8/2030-09-01/
LOCATION:Mineral Springs Brewery\, 210 N Oak Ave\, Suite 1\, Owatonna\, MN\, 55060\, United States
CATEGORIES:Events
ATTACH;FMTTYPE=image/png:https://mineralspringsbrewery.com/wp-content/uploads/2022/04/Bingo.png
END:VEVENT
BEGIN:VEVENT
DTSTART;TZID=America/Chicago:20300903T183000
DTEND;TZID=America/Chicago:20300903T193000
DTSTAMP:20260424T014326
CREATED:20251022T005233Z
LAST-MODIFIED:20251022T005552Z
UID:10004729-1914690600-1914694200@mineralspringsbrewery.com
SUMMARY:Bruce Bernhart
DESCRIPTION:Bruce Bernhart has played in several bluegrass bands at the Steele County Fair over the past 35+ years\, plus various other county fairs across south-central Minnesota. \n\n\n\nBruce has also been featured playing mandolin on a number of CDs recorded by bands he’s been a part of since the early 90’s. Prior to the mandolin\, Bruce had been strumming the banjo and bass. Since then\, Bruce has mastered the lost art of flatpicking old time fiddle tunes on the guitar with no amplifier and no microphone.
URL:https://mineralspringsbrewery.com/event/bruce-bernhart-12/2030-09-03/
LOCATION:Mineral Springs Brewery\, 210 N Oak Ave\, Suite 1\, Owatonna\, MN\, 55060\, United States
CATEGORIES:Music
ATTACH;FMTTYPE=image/jpeg:https://mineralspringsbrewery.com/wp-content/uploads/2025/02/Image.jpg
END:VEVENT
BEGIN:VEVENT
DTSTART;TZID=America/Chicago:20300907T130000
DTEND;TZID=America/Chicago:20300907T150000
DTSTAMP:20260424T014326
CREATED:20260204T181733Z
LAST-MODIFIED:20260204T181743Z
UID:10005000-1915016400-1915023600@mineralspringsbrewery.com
SUMMARY:Owatonna Board Game Crew - Weekly Game Meetup
DESCRIPTION:Saturday afternoons we’re hosting the Owatonna Board Games Crew for a few hours\, welcome to all gamers! Check out the Facebook event page\, linked below\, to learn more about the specifics of the week!
URL:https://mineralspringsbrewery.com/event/owatonna-board-game-crew-weekly-game-meetup-2/2030-09-07/
LOCATION:Mineral Springs Brewery\, 210 N Oak Ave\, Suite 1\, Owatonna\, MN\, 55060\, United States
CATEGORIES:Events
ATTACH;FMTTYPE=image/png:https://mineralspringsbrewery.com/wp-content/uploads/2025/11/owatonna-board-game-crew-flier-3.png
END:VEVENT
BEGIN:VEVENT
DTSTART;TZID=America/Chicago:20300908T150000
DTEND;TZID=America/Chicago:20300908T150000
DTSTAMP:20260424T014326
CREATED:20250305T203948Z
LAST-MODIFIED:20250305T203954Z
UID:10004541-1915110000-1915110000@mineralspringsbrewery.com
SUMMARY:MSBGO
DESCRIPTION:On Sundays\, we’ll be hosting a free and fun game of chance! Come on down to play along and win FREE BEER!
URL:https://mineralspringsbrewery.com/event/msbgo-8/2030-09-08/
LOCATION:Mineral Springs Brewery\, 210 N Oak Ave\, Suite 1\, Owatonna\, MN\, 55060\, United States
CATEGORIES:Events
ATTACH;FMTTYPE=image/png:https://mineralspringsbrewery.com/wp-content/uploads/2022/04/Bingo.png
END:VEVENT
BEGIN:VEVENT
DTSTART;TZID=America/Chicago:20300914T130000
DTEND;TZID=America/Chicago:20300914T150000
DTSTAMP:20260424T014326
CREATED:20260204T181733Z
LAST-MODIFIED:20260204T181743Z
UID:10005001-1915621200-1915628400@mineralspringsbrewery.com
SUMMARY:Owatonna Board Game Crew - Weekly Game Meetup
DESCRIPTION:Saturday afternoons we’re hosting the Owatonna Board Games Crew for a few hours\, welcome to all gamers! Check out the Facebook event page\, linked below\, to learn more about the specifics of the week!
URL:https://mineralspringsbrewery.com/event/owatonna-board-game-crew-weekly-game-meetup-2/2030-09-14/
LOCATION:Mineral Springs Brewery\, 210 N Oak Ave\, Suite 1\, Owatonna\, MN\, 55060\, United States
CATEGORIES:Events
ATTACH;FMTTYPE=image/png:https://mineralspringsbrewery.com/wp-content/uploads/2025/11/owatonna-board-game-crew-flier-3.png
END:VEVENT
BEGIN:VEVENT
DTSTART;TZID=America/Chicago:20300915T150000
DTEND;TZID=America/Chicago:20300915T150000
DTSTAMP:20260424T014326
CREATED:20250305T203948Z
LAST-MODIFIED:20250305T203954Z
UID:10004542-1915714800-1915714800@mineralspringsbrewery.com
SUMMARY:MSBGO
DESCRIPTION:On Sundays\, we’ll be hosting a free and fun game of chance! Come on down to play along and win FREE BEER!
URL:https://mineralspringsbrewery.com/event/msbgo-8/2030-09-15/
LOCATION:Mineral Springs Brewery\, 210 N Oak Ave\, Suite 1\, Owatonna\, MN\, 55060\, United States
CATEGORIES:Events
ATTACH;FMTTYPE=image/png:https://mineralspringsbrewery.com/wp-content/uploads/2022/04/Bingo.png
END:VEVENT
BEGIN:VEVENT
DTSTART;TZID=America/Chicago:20300919T180000
DTEND;TZID=America/Chicago:20300919T180000
DTSTAMP:20260424T014326
CREATED:20250828T185654Z
LAST-MODIFIED:20250828T185703Z
UID:10004514-1916071200-1916071200@mineralspringsbrewery.com
SUMMARY:Name that Tune
DESCRIPTION:Just like it sounds! \n\n\n\nWe play clips of songs\, and your team tries to guess the correct song title and group/artist! \n\n\n\nFREE To PlayCrowlers or a gift card for the winning team as well as prizes given away throughout!Up To 6 People per Team
URL:https://mineralspringsbrewery.com/event/name-that-tune-19/2030-09-19/
LOCATION:Mineral Springs Brewery\, 210 N Oak Ave\, Suite 1\, Owatonna\, MN\, 55060\, United States
CATEGORIES:Events
ATTACH;FMTTYPE=image/jpeg:https://mineralspringsbrewery.com/wp-content/uploads/2024/03/Black-White-Coming-Soon-Instagram-Post-Real-Estate-Flyer-scaled.jpeg
END:VEVENT
BEGIN:VEVENT
DTSTART;TZID=America/Chicago:20300921T130000
DTEND;TZID=America/Chicago:20300921T150000
DTSTAMP:20260424T014326
CREATED:20260204T181733Z
LAST-MODIFIED:20260204T181743Z
UID:10005002-1916226000-1916233200@mineralspringsbrewery.com
SUMMARY:Owatonna Board Game Crew - Weekly Game Meetup
DESCRIPTION:Saturday afternoons we’re hosting the Owatonna Board Games Crew for a few hours\, welcome to all gamers! Check out the Facebook event page\, linked below\, to learn more about the specifics of the week!
URL:https://mineralspringsbrewery.com/event/owatonna-board-game-crew-weekly-game-meetup-2/2030-09-21/
LOCATION:Mineral Springs Brewery\, 210 N Oak Ave\, Suite 1\, Owatonna\, MN\, 55060\, United States
CATEGORIES:Events
ATTACH;FMTTYPE=image/png:https://mineralspringsbrewery.com/wp-content/uploads/2025/11/owatonna-board-game-crew-flier-3.png
END:VEVENT
BEGIN:VEVENT
DTSTART;TZID=America/Chicago:20300922T150000
DTEND;TZID=America/Chicago:20300922T150000
DTSTAMP:20260424T014326
CREATED:20250305T203948Z
LAST-MODIFIED:20250305T203954Z
UID:10004543-1916319600-1916319600@mineralspringsbrewery.com
SUMMARY:MSBGO
DESCRIPTION:On Sundays\, we’ll be hosting a free and fun game of chance! Come on down to play along and win FREE BEER!
URL:https://mineralspringsbrewery.com/event/msbgo-8/2030-09-22/
LOCATION:Mineral Springs Brewery\, 210 N Oak Ave\, Suite 1\, Owatonna\, MN\, 55060\, United States
CATEGORIES:Events
ATTACH;FMTTYPE=image/png:https://mineralspringsbrewery.com/wp-content/uploads/2022/04/Bingo.png
END:VEVENT
BEGIN:VEVENT
DTSTART;TZID=America/Chicago:20300926T183000
DTEND;TZID=America/Chicago:20300926T193000
DTSTAMP:20260424T014326
CREATED:20260204T173648Z
LAST-MODIFIED:20260222T161427Z
UID:10005158-1916677800-1916681400@mineralspringsbrewery.com
SUMMARY:Bruce Bernhart
DESCRIPTION:Owatonna-based Bruce Bernhart has been playing in local and regional bands for nearly 40 years. He was a regular performer at the Steele County Fair for decades with his own bluegrass band\, and played bass for the popular and highly acclaimed “Tuition Daddies” jazz trio that entertained audiences in Owatonna for more than 10 years and performed at the Minnesota State Fair. Bruce says the highlight of his musical career came when he played in Branson MO while touring with Dick Kimmel and Company. His work can be heard on many CD’s that he’s recorded with his past bands and as a contributor to other artists. These days Bruce is a solo performer with a unique style- a pure instrumentalist on acoustic guitar and mandolin\, playing a wide selection of songs and musical styles on both instruments ranging from traditional fiddle tunes to jazz standards to movie themes. He has been playing at MSB for nearly two years and appears regularly at other local venues and events. He also entertains residents at many retirement homes and assisted living centers throughout the region.
URL:https://mineralspringsbrewery.com/event/bruce-bernhart-14/2030-09-26/
LOCATION:Mineral Springs Brewery\, 210 N Oak Ave\, Suite 1\, Owatonna\, MN\, 55060\, United States
CATEGORIES:Music
ATTACH;FMTTYPE=image/jpeg:https://mineralspringsbrewery.com/wp-content/uploads/2025/02/Image.jpg
END:VEVENT
BEGIN:VEVENT
DTSTART;TZID=America/Chicago:20300928T130000
DTEND;TZID=America/Chicago:20300928T150000
DTSTAMP:20260424T014326
CREATED:20260204T181733Z
LAST-MODIFIED:20260204T181743Z
UID:10005003-1916830800-1916838000@mineralspringsbrewery.com
SUMMARY:Owatonna Board Game Crew - Weekly Game Meetup
DESCRIPTION:Saturday afternoons we’re hosting the Owatonna Board Games Crew for a few hours\, welcome to all gamers! Check out the Facebook event page\, linked below\, to learn more about the specifics of the week!
URL:https://mineralspringsbrewery.com/event/owatonna-board-game-crew-weekly-game-meetup-2/2030-09-28/
LOCATION:Mineral Springs Brewery\, 210 N Oak Ave\, Suite 1\, Owatonna\, MN\, 55060\, United States
CATEGORIES:Events
ATTACH;FMTTYPE=image/png:https://mineralspringsbrewery.com/wp-content/uploads/2025/11/owatonna-board-game-crew-flier-3.png
END:VEVENT
BEGIN:VEVENT
DTSTART;TZID=America/Chicago:20300929T150000
DTEND;TZID=America/Chicago:20300929T150000
DTSTAMP:20260424T014326
CREATED:20250305T203948Z
LAST-MODIFIED:20250305T203954Z
UID:10004544-1916924400-1916924400@mineralspringsbrewery.com
SUMMARY:MSBGO
DESCRIPTION:On Sundays\, we’ll be hosting a free and fun game of chance! Come on down to play along and win FREE BEER!
URL:https://mineralspringsbrewery.com/event/msbgo-8/2030-09-29/
LOCATION:Mineral Springs Brewery\, 210 N Oak Ave\, Suite 1\, Owatonna\, MN\, 55060\, United States
CATEGORIES:Events
ATTACH;FMTTYPE=image/png:https://mineralspringsbrewery.com/wp-content/uploads/2022/04/Bingo.png
END:VEVENT
BEGIN:VEVENT
DTSTART;TZID=America/Chicago:20301001T183000
DTEND;TZID=America/Chicago:20301001T193000
DTSTAMP:20260424T014326
CREATED:20251022T005233Z
LAST-MODIFIED:20251022T005552Z
UID:10004730-1917109800-1917113400@mineralspringsbrewery.com
SUMMARY:Bruce Bernhart
DESCRIPTION:Bruce Bernhart has played in several bluegrass bands at the Steele County Fair over the past 35+ years\, plus various other county fairs across south-central Minnesota. \n\n\n\nBruce has also been featured playing mandolin on a number of CDs recorded by bands he’s been a part of since the early 90’s. Prior to the mandolin\, Bruce had been strumming the banjo and bass. Since then\, Bruce has mastered the lost art of flatpicking old time fiddle tunes on the guitar with no amplifier and no microphone.
URL:https://mineralspringsbrewery.com/event/bruce-bernhart-12/2030-10-01/
LOCATION:Mineral Springs Brewery\, 210 N Oak Ave\, Suite 1\, Owatonna\, MN\, 55060\, United States
CATEGORIES:Music
ATTACH;FMTTYPE=image/jpeg:https://mineralspringsbrewery.com/wp-content/uploads/2025/02/Image.jpg
END:VEVENT
BEGIN:VEVENT
DTSTART;TZID=America/Chicago:20301005T130000
DTEND;TZID=America/Chicago:20301005T150000
DTSTAMP:20260424T014326
CREATED:20260204T181733Z
LAST-MODIFIED:20260204T181743Z
UID:10005004-1917435600-1917442800@mineralspringsbrewery.com
SUMMARY:Owatonna Board Game Crew - Weekly Game Meetup
DESCRIPTION:Saturday afternoons we’re hosting the Owatonna Board Games Crew for a few hours\, welcome to all gamers! Check out the Facebook event page\, linked below\, to learn more about the specifics of the week!
URL:https://mineralspringsbrewery.com/event/owatonna-board-game-crew-weekly-game-meetup-2/2030-10-05/
LOCATION:Mineral Springs Brewery\, 210 N Oak Ave\, Suite 1\, Owatonna\, MN\, 55060\, United States
CATEGORIES:Events
ATTACH;FMTTYPE=image/png:https://mineralspringsbrewery.com/wp-content/uploads/2025/11/owatonna-board-game-crew-flier-3.png
END:VEVENT
BEGIN:VEVENT
DTSTART;TZID=America/Chicago:20301006T150000
DTEND;TZID=America/Chicago:20301006T150000
DTSTAMP:20260424T014326
CREATED:20250305T203948Z
LAST-MODIFIED:20250305T203954Z
UID:10004545-1917529200-1917529200@mineralspringsbrewery.com
SUMMARY:MSBGO
DESCRIPTION:On Sundays\, we’ll be hosting a free and fun game of chance! Come on down to play along and win FREE BEER!
URL:https://mineralspringsbrewery.com/event/msbgo-8/2030-10-06/
LOCATION:Mineral Springs Brewery\, 210 N Oak Ave\, Suite 1\, Owatonna\, MN\, 55060\, United States
CATEGORIES:Events
ATTACH;FMTTYPE=image/png:https://mineralspringsbrewery.com/wp-content/uploads/2022/04/Bingo.png
END:VEVENT
BEGIN:VEVENT
DTSTART;TZID=America/Chicago:20301012T130000
DTEND;TZID=America/Chicago:20301012T150000
DTSTAMP:20260424T014326
CREATED:20260204T181733Z
LAST-MODIFIED:20260204T181743Z
UID:10005005-1918040400-1918047600@mineralspringsbrewery.com
SUMMARY:Owatonna Board Game Crew - Weekly Game Meetup
DESCRIPTION:Saturday afternoons we’re hosting the Owatonna Board Games Crew for a few hours\, welcome to all gamers! Check out the Facebook event page\, linked below\, to learn more about the specifics of the week!
URL:https://mineralspringsbrewery.com/event/owatonna-board-game-crew-weekly-game-meetup-2/2030-10-12/
LOCATION:Mineral Springs Brewery\, 210 N Oak Ave\, Suite 1\, Owatonna\, MN\, 55060\, United States
CATEGORIES:Events
ATTACH;FMTTYPE=image/png:https://mineralspringsbrewery.com/wp-content/uploads/2025/11/owatonna-board-game-crew-flier-3.png
END:VEVENT
BEGIN:VEVENT
DTSTART;TZID=America/Chicago:20301013T150000
DTEND;TZID=America/Chicago:20301013T150000
DTSTAMP:20260424T014326
CREATED:20250305T203948Z
LAST-MODIFIED:20250305T203954Z
UID:10004546-1918134000-1918134000@mineralspringsbrewery.com
SUMMARY:MSBGO
DESCRIPTION:On Sundays\, we’ll be hosting a free and fun game of chance! Come on down to play along and win FREE BEER!
URL:https://mineralspringsbrewery.com/event/msbgo-8/2030-10-13/
LOCATION:Mineral Springs Brewery\, 210 N Oak Ave\, Suite 1\, Owatonna\, MN\, 55060\, United States
CATEGORIES:Events
ATTACH;FMTTYPE=image/png:https://mineralspringsbrewery.com/wp-content/uploads/2022/04/Bingo.png
END:VEVENT
BEGIN:VEVENT
DTSTART;TZID=America/Chicago:20301017T180000
DTEND;TZID=America/Chicago:20301017T180000
DTSTAMP:20260424T014326
CREATED:20250828T185654Z
LAST-MODIFIED:20250828T185703Z
UID:10005039-1918490400-1918490400@mineralspringsbrewery.com
SUMMARY:Name that Tune
DESCRIPTION:Just like it sounds! \n\n\n\nWe play clips of songs\, and your team tries to guess the correct song title and group/artist! \n\n\n\nFREE To PlayCrowlers or a gift card for the winning team as well as prizes given away throughout!Up To 6 People per Team
URL:https://mineralspringsbrewery.com/event/name-that-tune-19/2030-10-17/
LOCATION:Mineral Springs Brewery\, 210 N Oak Ave\, Suite 1\, Owatonna\, MN\, 55060\, United States
CATEGORIES:Events
ATTACH;FMTTYPE=image/jpeg:https://mineralspringsbrewery.com/wp-content/uploads/2024/03/Black-White-Coming-Soon-Instagram-Post-Real-Estate-Flyer-scaled.jpeg
END:VEVENT
BEGIN:VEVENT
DTSTART;TZID=America/Chicago:20301019T130000
DTEND;TZID=America/Chicago:20301019T150000
DTSTAMP:20260424T014326
CREATED:20260204T181733Z
LAST-MODIFIED:20260204T181743Z
UID:10005006-1918645200-1918652400@mineralspringsbrewery.com
SUMMARY:Owatonna Board Game Crew - Weekly Game Meetup
DESCRIPTION:Saturday afternoons we’re hosting the Owatonna Board Games Crew for a few hours\, welcome to all gamers! Check out the Facebook event page\, linked below\, to learn more about the specifics of the week!
URL:https://mineralspringsbrewery.com/event/owatonna-board-game-crew-weekly-game-meetup-2/2030-10-19/
LOCATION:Mineral Springs Brewery\, 210 N Oak Ave\, Suite 1\, Owatonna\, MN\, 55060\, United States
CATEGORIES:Events
ATTACH;FMTTYPE=image/png:https://mineralspringsbrewery.com/wp-content/uploads/2025/11/owatonna-board-game-crew-flier-3.png
END:VEVENT
BEGIN:VEVENT
DTSTART;TZID=America/Chicago:20301024T183000
DTEND;TZID=America/Chicago:20301024T193000
DTSTAMP:20260424T014327
CREATED:20260204T173648Z
LAST-MODIFIED:20260222T161427Z
UID:10005159-1919097000-1919100600@mineralspringsbrewery.com
SUMMARY:Bruce Bernhart
DESCRIPTION:Owatonna-based Bruce Bernhart has been playing in local and regional bands for nearly 40 years. He was a regular performer at the Steele County Fair for decades with his own bluegrass band\, and played bass for the popular and highly acclaimed “Tuition Daddies” jazz trio that entertained audiences in Owatonna for more than 10 years and performed at the Minnesota State Fair. Bruce says the highlight of his musical career came when he played in Branson MO while touring with Dick Kimmel and Company. His work can be heard on many CD’s that he’s recorded with his past bands and as a contributor to other artists. These days Bruce is a solo performer with a unique style- a pure instrumentalist on acoustic guitar and mandolin\, playing a wide selection of songs and musical styles on both instruments ranging from traditional fiddle tunes to jazz standards to movie themes. He has been playing at MSB for nearly two years and appears regularly at other local venues and events. He also entertains residents at many retirement homes and assisted living centers throughout the region.
URL:https://mineralspringsbrewery.com/event/bruce-bernhart-14/2030-10-24/
LOCATION:Mineral Springs Brewery\, 210 N Oak Ave\, Suite 1\, Owatonna\, MN\, 55060\, United States
CATEGORIES:Music
ATTACH;FMTTYPE=image/jpeg:https://mineralspringsbrewery.com/wp-content/uploads/2025/02/Image.jpg
END:VEVENT
BEGIN:VEVENT
DTSTART;TZID=America/Chicago:20301026T130000
DTEND;TZID=America/Chicago:20301026T150000
DTSTAMP:20260424T014327
CREATED:20260204T181733Z
LAST-MODIFIED:20260204T181743Z
UID:10005007-1919250000-1919257200@mineralspringsbrewery.com
SUMMARY:Owatonna Board Game Crew - Weekly Game Meetup
DESCRIPTION:Saturday afternoons we’re hosting the Owatonna Board Games Crew for a few hours\, welcome to all gamers! Check out the Facebook event page\, linked below\, to learn more about the specifics of the week!
URL:https://mineralspringsbrewery.com/event/owatonna-board-game-crew-weekly-game-meetup-2/2030-10-26/
LOCATION:Mineral Springs Brewery\, 210 N Oak Ave\, Suite 1\, Owatonna\, MN\, 55060\, United States
CATEGORIES:Events
ATTACH;FMTTYPE=image/png:https://mineralspringsbrewery.com/wp-content/uploads/2025/11/owatonna-board-game-crew-flier-3.png
END:VEVENT
BEGIN:VEVENT
DTSTART;TZID=America/Chicago:20301102T130000
DTEND;TZID=America/Chicago:20301102T150000
DTSTAMP:20260424T014327
CREATED:20260204T181733Z
LAST-MODIFIED:20260204T181743Z
UID:10005008-1919854800-1919862000@mineralspringsbrewery.com
SUMMARY:Owatonna Board Game Crew - Weekly Game Meetup
DESCRIPTION:Saturday afternoons we’re hosting the Owatonna Board Games Crew for a few hours\, welcome to all gamers! Check out the Facebook event page\, linked below\, to learn more about the specifics of the week!
URL:https://mineralspringsbrewery.com/event/owatonna-board-game-crew-weekly-game-meetup-2/2030-11-02/
LOCATION:Mineral Springs Brewery\, 210 N Oak Ave\, Suite 1\, Owatonna\, MN\, 55060\, United States
CATEGORIES:Events
ATTACH;FMTTYPE=image/png:https://mineralspringsbrewery.com/wp-content/uploads/2025/11/owatonna-board-game-crew-flier-3.png
END:VEVENT
END:VCALENDAR