BEGIN:VCALENDAR
VERSION:2.0
PRODID:-//Mineral Springs Brewery - ECPv6.15.20//NONSGML v1.0//EN
CALSCALE:GREGORIAN
METHOD:PUBLISH
X-ORIGINAL-URL:https://mineralspringsbrewery.com
X-WR-CALDESC:Events for Mineral Springs Brewery
REFRESH-INTERVAL;VALUE=DURATION:PT1H
X-Robots-Tag:noindex
X-PUBLISHED-TTL:PT1H
BEGIN:VTIMEZONE
TZID:America/Chicago
BEGIN:DAYLIGHT
TZOFFSETFROM:-0600
TZOFFSETTO:-0500
TZNAME:CDT
DTSTART:20240310T080000
END:DAYLIGHT
BEGIN:STANDARD
TZOFFSETFROM:-0500
TZOFFSETTO:-0600
TZNAME:CST
DTSTART:20241103T070000
END:STANDARD
BEGIN:DAYLIGHT
TZOFFSETFROM:-0600
TZOFFSETTO:-0500
TZNAME:CDT
DTSTART:20250309T080000
END:DAYLIGHT
BEGIN:STANDARD
TZOFFSETFROM:-0500
TZOFFSETTO:-0600
TZNAME:CST
DTSTART:20251102T070000
END:STANDARD
BEGIN:DAYLIGHT
TZOFFSETFROM:-0600
TZOFFSETTO:-0500
TZNAME:CDT
DTSTART:20260308T080000
END:DAYLIGHT
BEGIN:STANDARD
TZOFFSETFROM:-0500
TZOFFSETTO:-0600
TZNAME:CST
DTSTART:20261101T070000
END:STANDARD
END:VTIMEZONE
BEGIN:VEVENT
DTSTART;TZID=America/Chicago:20250119T150000
DTEND;TZID=America/Chicago:20250119T150000
DTSTAMP:20260419T084103
CREATED:20230822T225107Z
LAST-MODIFIED:20230822T225109Z
UID:10002390-1737298800-1737298800@mineralspringsbrewery.com
SUMMARY:MSBGO
DESCRIPTION:On Sundays\, we’ll be hosting a free and fun game of chance! Come on down to play along and win FREE BEER!
URL:https://mineralspringsbrewery.com/event/msbgo-7/2025-01-19/
LOCATION:Mineral Springs Brewery\, 210 N Oak Ave\, Suite 1\, Owatonna\, MN\, 55060\, United States
CATEGORIES:Activities
ATTACH;FMTTYPE=image/png:https://mineralspringsbrewery.com/wp-content/uploads/2022/04/Bingo.png
END:VEVENT
BEGIN:VEVENT
DTSTART;TZID=America/Chicago:20250122T180000
DTEND;TZID=America/Chicago:20250122T180000
DTSTAMP:20260419T084103
CREATED:20250103T010259Z
LAST-MODIFIED:20250103T013858Z
UID:10002134-1737568800-1737568800@mineralspringsbrewery.com
SUMMARY:Trivia Night
DESCRIPTION:MSB Trivia Night!!
URL:https://mineralspringsbrewery.com/event/trivia-night-31/2025-01-22/
LOCATION:Mineral Springs Brewery\, 210 N Oak Ave\, Suite 1\, Owatonna\, MN\, 55060\, United States
CATEGORIES:Activities
ATTACH;FMTTYPE=image/png:https://mineralspringsbrewery.com/wp-content/uploads/2022/02/MSB-Trivia-Night.png
END:VEVENT
BEGIN:VEVENT
DTSTART;TZID=America/Chicago:20250122T180000
DTEND;TZID=America/Chicago:20250122T180000
DTSTAMP:20260419T084103
CREATED:20250108T000456Z
LAST-MODIFIED:20250108T010457Z
UID:10003677-1737568800-1737568800@mineralspringsbrewery.com
SUMMARY:Frontal Cortex Freeze - Trivia Tournament
DESCRIPTION:This is our annual 6-week winter trivia tournament! You and up to 5 teammates will register to take part and win prizes! \n\n\n\n1 point will be recorded for every correct answer submitted throughout the 6 weeks (20 questions per night) The team with the most points at the conclusion of trivia on February 19th wins! \n\n\n\nPrizes: \n\n\n\n\nOne full growler to each winning team member\n\n\n\nA plaque with the winning team’s name and photo placed in the MSB taproom\n\n\n\nOne of a kind Frontal Cortex Freeze Tournament t-shirt\n\n\n\nBragging rights until next year’s tournament!\n\n\n\n\nOur weekly trivia will continue as normal\, with teams participating in the tournament also able to win weekly trivia! \n\n\n\n(No new team members once game play begins on 1/15)
URL:https://mineralspringsbrewery.com/event/frontal-cortex-freeze-trivia-tournament-2/2025-01-22/
LOCATION:Mineral Springs Brewery\, 210 N Oak Ave\, Suite 1\, Owatonna\, MN\, 55060\, United States
CATEGORIES:Activities
ATTACH;FMTTYPE=image/jpeg:https://mineralspringsbrewery.com/wp-content/uploads/2025/01/Add-a-heading-Real-Estate-Flyer.png-scaled.jpeg
END:VEVENT
BEGIN:VEVENT
DTSTART;TZID=America/Chicago:20250124T173000
DTEND;TZID=America/Chicago:20250124T193000
DTSTAMP:20260419T084103
CREATED:20241217T031840Z
LAST-MODIFIED:20241217T032259Z
UID:10003612-1737739800-1737747000@mineralspringsbrewery.com
SUMMARY:Jamison Murphy
DESCRIPTION:Jamison Murphy makes his return to the MSB stage!
URL:https://mineralspringsbrewery.com/event/jamison-murphy-2/
LOCATION:Mineral Springs Brewery\, 210 N Oak Ave\, Suite 1\, Owatonna\, MN\, 55060\, United States
CATEGORIES:Activities,Music
ATTACH;FMTTYPE=image/jpeg:https://mineralspringsbrewery.com/wp-content/uploads/2024/10/JamisonMurphy-10.19-e1734405491703.jpg
END:VEVENT
BEGIN:VEVENT
DTSTART;TZID=America/Chicago:20250125T183000
DTEND;TZID=America/Chicago:20250125T203000
DTSTAMP:20260419T084103
CREATED:20241217T032049Z
LAST-MODIFIED:20241217T032054Z
UID:10003613-1737829800-1737837000@mineralspringsbrewery.com
SUMMARY:Andy Hughes
DESCRIPTION:Andy Hughes is an award-winning songwriter. As a live performer\, he has been a staple of the Midwest music scene for over 20 years. Andy is a difficult artist/performer to categorize. He is a member of many acts/groups. Although the styles of music have a wide range\, one thing is consistent; MUSIC is Andy’s life source. No matter the delivery or vehicle\, the music leads and drives the way.
URL:https://mineralspringsbrewery.com/event/andy-hughes-10/
LOCATION:Mineral Springs Brewery\, 210 N Oak Ave\, Suite 1\, Owatonna\, MN\, 55060\, United States
CATEGORIES:Activities,Music
ATTACH;FMTTYPE=image/jpeg:https://mineralspringsbrewery.com/wp-content/uploads/2022/08/AndyHughes2.jpg
END:VEVENT
END:VCALENDAR