BEGIN:VCALENDAR
VERSION:2.0
PRODID:-//Mineral Springs Brewery - ECPv6.15.20//NONSGML v1.0//EN
CALSCALE:GREGORIAN
METHOD:PUBLISH
X-WR-CALNAME:Mineral Springs Brewery
X-ORIGINAL-URL:https://mineralspringsbrewery.com
X-WR-CALDESC:Events for Mineral Springs Brewery
REFRESH-INTERVAL;VALUE=DURATION:PT1H
X-Robots-Tag:noindex
X-PUBLISHED-TTL:PT1H
BEGIN:VTIMEZONE
TZID:America/Chicago
BEGIN:DAYLIGHT
TZOFFSETFROM:-0600
TZOFFSETTO:-0500
TZNAME:CDT
DTSTART:20240310T080000
END:DAYLIGHT
BEGIN:STANDARD
TZOFFSETFROM:-0500
TZOFFSETTO:-0600
TZNAME:CST
DTSTART:20241103T070000
END:STANDARD
BEGIN:DAYLIGHT
TZOFFSETFROM:-0600
TZOFFSETTO:-0500
TZNAME:CDT
DTSTART:20250309T080000
END:DAYLIGHT
BEGIN:STANDARD
TZOFFSETFROM:-0500
TZOFFSETTO:-0600
TZNAME:CST
DTSTART:20251102T070000
END:STANDARD
BEGIN:DAYLIGHT
TZOFFSETFROM:-0600
TZOFFSETTO:-0500
TZNAME:CDT
DTSTART:20260308T080000
END:DAYLIGHT
BEGIN:STANDARD
TZOFFSETFROM:-0500
TZOFFSETTO:-0600
TZNAME:CST
DTSTART:20261101T070000
END:STANDARD
END:VTIMEZONE
BEGIN:VEVENT
DTSTART;TZID=America/Chicago:20250413T150000
DTEND;TZID=America/Chicago:20250413T150000
DTSTAMP:20260419T151407
CREATED:20250305T203948Z
LAST-MODIFIED:20250305T203954Z
UID:10002402-1744556400-1744556400@mineralspringsbrewery.com
SUMMARY:MSBGO
DESCRIPTION:On Sundays\, we’ll be hosting a free and fun game of chance! Come on down to play along and win FREE BEER!
URL:https://mineralspringsbrewery.com/event/msbgo-8/2025-04-13/
LOCATION:Mineral Springs Brewery\, 210 N Oak Ave\, Suite 1\, Owatonna\, MN\, 55060\, United States
CATEGORIES:Events
ATTACH;FMTTYPE=image/png:https://mineralspringsbrewery.com/wp-content/uploads/2022/04/Bingo.png
END:VEVENT
BEGIN:VEVENT
DTSTART;TZID=America/Chicago:20250416T180000
DTEND;TZID=America/Chicago:20250416T180000
DTSTAMP:20260419T151407
CREATED:20250305T203954Z
LAST-MODIFIED:20250305T203959Z
UID:10002146-1744826400-1744826400@mineralspringsbrewery.com
SUMMARY:Trivia Night
DESCRIPTION:MSB Trivia Night!!
URL:https://mineralspringsbrewery.com/event/trivia-night-32/2025-04-16/
LOCATION:Mineral Springs Brewery\, 210 N Oak Ave\, Suite 1\, Owatonna\, MN\, 55060\, United States
CATEGORIES:Events
ATTACH;FMTTYPE=image/png:https://mineralspringsbrewery.com/wp-content/uploads/2022/02/MSB-Trivia-Night.png
END:VEVENT
BEGIN:VEVENT
DTSTART;TZID=America/Chicago:20250417T000000
DTEND;TZID=America/Chicago:20250417T235959
DTSTAMP:20260419T151407
CREATED:20250319T205721Z
LAST-MODIFIED:20250319T205738Z
UID:10003841-1744848000-1744934399@mineralspringsbrewery.com
SUMMARY:Closed
DESCRIPTION:We’re closed to the public today. \n\n\n\nWe’re sorry! We promise this isn’t a regular occurrence! \n\n\n\nWe’ll get back to our regularly scheduled beer brewing/pouring tomorrow!
URL:https://mineralspringsbrewery.com/event/closed/
LOCATION:Mineral Springs Brewery\, 210 N Oak Ave\, Suite 1\, Owatonna\, MN\, 55060\, United States
CATEGORIES:Activities,Events
END:VEVENT
BEGIN:VEVENT
DTSTART;TZID=America/Chicago:20250419T090000
DTEND;TZID=America/Chicago:20250419T120000
DTSTAMP:20260419T151407
CREATED:20250415T003119Z
LAST-MODIFIED:20250415T003127Z
UID:10003890-1745053200-1745064000@mineralspringsbrewery.com
SUMMARY:Pre-Easter Brunch
DESCRIPTION:We’re open early and we’ve got brunch! Blake’s BETtor Spread has brunch covered for you while you sip on one of our bloody beers or a seltzer mimosa! \n\n\n\n\n\n\nOur MimoSeltzer or a mimosa seltzer or a mimosa with seltzer as its base instead of champagne\, however you prefer to call it!\n\n\n\nBlake’s BETtor Spread pre-Easter brunch menu
URL:https://mineralspringsbrewery.com/event/pre-easter-brunch/
LOCATION:Mineral Springs Brewery\, 210 N Oak Ave\, Suite 1\, Owatonna\, MN\, 55060\, United States
CATEGORIES:Events
ATTACH;FMTTYPE=image/jpeg:https://mineralspringsbrewery.com/wp-content/uploads/2025/04/03BB9711-6767-46CE-978C-7B2F533060B5.jpg
END:VEVENT
BEGIN:VEVENT
DTSTART;TZID=America/Chicago:20250419T180000
DTEND;TZID=America/Chicago:20250419T200000
DTSTAMP:20260419T151407
CREATED:20250413T214701Z
LAST-MODIFIED:20250413T214703Z
UID:10003882-1745085600-1745092800@mineralspringsbrewery.com
SUMMARY:Todd Michael Jameson
DESCRIPTION:Todd Michael Jameson is a seasoned musician\, and Rock Steady Records recording artist\, with many years of experience. Todd performs as a solo artist playing throughout the Minneapolis/St. Paul and Tri-state area. Along with performing originals and covers as a solo artist\, Todd also plays bass in Hawt Beir (Original Rock and Roll). Playing over 175 gigs per year\, Todd travels across many genres and entertains audiences of all sizes. \n\n\n\nTodd’s influences cross many genres as well. From Waylon Jennings to Eagles to Miles Davis and everything in between. On any given night\, Todd can go from playing one of his own songs to an Otis Redding classic right into an Iron Maiden song. Nothing is off limits!
URL:https://mineralspringsbrewery.com/event/todd-michael-jameson-7/
LOCATION:Mineral Springs Brewery\, 210 N Oak Ave\, Suite 1\, Owatonna\, MN\, 55060\, United States
CATEGORIES:Music
ATTACH;FMTTYPE=image/jpeg:https://mineralspringsbrewery.com/wp-content/uploads/2023/02/Todd-Michael-Jameson-Music.jpg
END:VEVENT
END:VCALENDAR