BEGIN:VCALENDAR
VERSION:2.0
PRODID:-//Mineral Springs Brewery - ECPv6.15.20//NONSGML v1.0//EN
CALSCALE:GREGORIAN
METHOD:PUBLISH
X-ORIGINAL-URL:https://mineralspringsbrewery.com
X-WR-CALDESC:Events for Mineral Springs Brewery
REFRESH-INTERVAL;VALUE=DURATION:PT1H
X-Robots-Tag:noindex
X-PUBLISHED-TTL:PT1H
BEGIN:VTIMEZONE
TZID:America/Chicago
BEGIN:DAYLIGHT
TZOFFSETFROM:-0600
TZOFFSETTO:-0500
TZNAME:CDT
DTSTART:20240310T080000
END:DAYLIGHT
BEGIN:STANDARD
TZOFFSETFROM:-0500
TZOFFSETTO:-0600
TZNAME:CST
DTSTART:20241103T070000
END:STANDARD
BEGIN:DAYLIGHT
TZOFFSETFROM:-0600
TZOFFSETTO:-0500
TZNAME:CDT
DTSTART:20250309T080000
END:DAYLIGHT
BEGIN:STANDARD
TZOFFSETFROM:-0500
TZOFFSETTO:-0600
TZNAME:CST
DTSTART:20251102T070000
END:STANDARD
BEGIN:DAYLIGHT
TZOFFSETFROM:-0600
TZOFFSETTO:-0500
TZNAME:CDT
DTSTART:20260308T080000
END:DAYLIGHT
BEGIN:STANDARD
TZOFFSETFROM:-0500
TZOFFSETTO:-0600
TZNAME:CST
DTSTART:20261101T070000
END:STANDARD
END:VTIMEZONE
BEGIN:VEVENT
DTSTART;TZID=America/Chicago:20250504T150000
DTEND;TZID=America/Chicago:20250504T150000
DTSTAMP:20260419T165615
CREATED:20250305T203948Z
LAST-MODIFIED:20250305T203954Z
UID:10002405-1746370800-1746370800@mineralspringsbrewery.com
SUMMARY:MSBGO
DESCRIPTION:On Sundays\, we’ll be hosting a free and fun game of chance! Come on down to play along and win FREE BEER!
URL:https://mineralspringsbrewery.com/event/msbgo-8/2025-05-04/
LOCATION:Mineral Springs Brewery\, 210 N Oak Ave\, Suite 1\, Owatonna\, MN\, 55060\, United States
CATEGORIES:Events
ATTACH;FMTTYPE=image/png:https://mineralspringsbrewery.com/wp-content/uploads/2022/04/Bingo.png
END:VEVENT
BEGIN:VEVENT
DTSTART;TZID=America/Chicago:20250506T183000
DTEND;TZID=America/Chicago:20250506T210000
DTSTAMP:20260419T165615
CREATED:20250504T224828Z
LAST-MODIFIED:20250504T224833Z
UID:10003894-1746556200-1746565200@mineralspringsbrewery.com
SUMMARY:Bruce Bernhart
DESCRIPTION:Bruce Bernhart has played in several bluegrass bands at the Steele County Fair over the past 35+ years\, plus various other county fairs across south-central Minnesota. \n\n\n\nBruce has also been featured playing mandolin on a number of CDs recorded by bands he’s been a part of since the early 90’s. Prior to the mandolin\, Bruce had been strumming the banjo and bass. Since then\, Bruce has mastered the lost art of flatpicking old time fiddle tunes on the guitar with no amplifier and no microphone.
URL:https://mineralspringsbrewery.com/event/bruce-bernhart-3/
LOCATION:Mineral Springs Brewery\, 210 N Oak Ave\, Suite 1\, Owatonna\, MN\, 55060\, United States
CATEGORIES:Music
ATTACH;FMTTYPE=image/jpeg:https://mineralspringsbrewery.com/wp-content/uploads/2025/02/Image.jpg
END:VEVENT
BEGIN:VEVENT
DTSTART;TZID=America/Chicago:20250506T203000
DTEND;TZID=America/Chicago:20250506T223000
DTSTAMP:20260419T165615
CREATED:20250506T183053Z
LAST-MODIFIED:20250506T185227Z
UID:10003895-1746563400-1746570600@mineralspringsbrewery.com
SUMMARY:Wolves Watch Party
DESCRIPTION:We’re staying open late\, and we’ve got the Wolves playing on all screens! Let’s hear you howl!
URL:https://mineralspringsbrewery.com/event/wolves-watch-party/
LOCATION:Mineral Springs Brewery\, 210 N Oak Ave\, Suite 1\, Owatonna\, MN\, 55060\, United States
CATEGORIES:Events
ATTACH;FMTTYPE=image/jpeg:https://mineralspringsbrewery.com/wp-content/uploads/2025/05/WolvesWatchParty.jpg
END:VEVENT
BEGIN:VEVENT
DTSTART;TZID=America/Chicago:20250507T180000
DTEND;TZID=America/Chicago:20250507T180000
DTSTAMP:20260419T165615
CREATED:20250305T203954Z
LAST-MODIFIED:20250305T203959Z
UID:10002149-1746640800-1746640800@mineralspringsbrewery.com
SUMMARY:Trivia Night
DESCRIPTION:MSB Trivia Night!!
URL:https://mineralspringsbrewery.com/event/trivia-night-32/2025-05-07/
LOCATION:Mineral Springs Brewery\, 210 N Oak Ave\, Suite 1\, Owatonna\, MN\, 55060\, United States
CATEGORIES:Events
ATTACH;FMTTYPE=image/png:https://mineralspringsbrewery.com/wp-content/uploads/2022/02/MSB-Trivia-Night.png
END:VEVENT
BEGIN:VEVENT
DTSTART;TZID=America/Chicago:20250508T173000
DTEND;TZID=America/Chicago:20250508T190000
DTSTAMP:20260419T165615
CREATED:20250305T203841Z
LAST-MODIFIED:20250305T203847Z
UID:10003063-1746725400-1746730800@mineralspringsbrewery.com
SUMMARY:News & Brews
DESCRIPTION:Annie Harman\, the Owatonna People’s Press editor\, will be with us to discuss all things having to do with the OPP newspaper\, answer questions\, hear your news tips and more. Learn more about giveaways from both MSB and OPP when you check in at the event!
URL:https://mineralspringsbrewery.com/event/news-brews-7/2025-05-08/
LOCATION:Mineral Springs Brewery\, 210 N Oak Ave\, Suite 1\, Owatonna\, MN\, 55060\, United States
CATEGORIES:Events
ATTACH;FMTTYPE=image/jpeg:https://mineralspringsbrewery.com/wp-content/uploads/2024/06/News-and-Brews-spec-3x6.25.jpg
END:VEVENT
BEGIN:VEVENT
DTSTART;TZID=America/Chicago:20250508T193000
DTEND;TZID=America/Chicago:20250508T213000
DTSTAMP:20260419T165615
CREATED:20250506T183340Z
LAST-MODIFIED:20250506T185204Z
UID:10003896-1746732600-1746739800@mineralspringsbrewery.com
SUMMARY:Wolves Watch Party
DESCRIPTION:We’re staying open late because we’ve got the Wolves playing on all screens! Let’s hear you howl!
URL:https://mineralspringsbrewery.com/event/wolves-watch-party-2/
LOCATION:Mineral Springs Brewery\, 210 N Oak Ave\, Suite 1\, Owatonna\, MN\, 55060\, United States
CATEGORIES:Events
ATTACH;FMTTYPE=image/jpeg:https://mineralspringsbrewery.com/wp-content/uploads/2025/05/WolvesWatchParty.jpg
END:VEVENT
BEGIN:VEVENT
DTSTART;TZID=America/Chicago:20250510T160000
DTEND;TZID=America/Chicago:20250510T180000
DTSTAMP:20260419T165615
CREATED:20250430T164524Z
LAST-MODIFIED:20250430T164527Z
UID:10003891-1746892800-1746900000@mineralspringsbrewery.com
SUMMARY:Bruce Bernhart
DESCRIPTION:Bruce Bernhart has played in several bluegrass bands at the Steele County Fair over the past 35+ years\, plus various other county fairs across south-central Minnesota. \n\n\n\nBruce has also been featured playing mandolin on a number of CDs recorded by bands he’s been a part of since the early 90’s. Prior to the mandolin\, Bruce had been strumming the banjo and bass. Since then\, Bruce has mastered the lost art of flatpicking old time fiddle tunes on the guitar with no amplifier and no microphone.
URL:https://mineralspringsbrewery.com/event/bruce-bernhart/
LOCATION:Mineral Springs Brewery\, 210 N Oak Ave\, Suite 1\, Owatonna\, MN\, 55060\, United States
CATEGORIES:Music
ATTACH;FMTTYPE=image/jpeg:https://mineralspringsbrewery.com/wp-content/uploads/2025/02/Image.jpg
END:VEVENT
BEGIN:VEVENT
DTSTART;TZID=America/Chicago:20250510T173000
DTEND;TZID=America/Chicago:20250510T193000
DTSTAMP:20260419T165615
CREATED:20250319T212554Z
LAST-MODIFIED:20250415T000135Z
UID:10003868-1746898200-1746905400@mineralspringsbrewery.com
SUMMARY:Adam Moe
DESCRIPTION:Adam Moe is a fiddler and singer/songwriter based in Duluth\, MN. In 2012\, he started the folky-tonk duo Pushing Chain with then partner Boyd Blomberg. For the next eight years\, Pushing Chain toured the US and Canada\, playing venues big and small and gaining fans the old-fashioned way — face to face\, one at a time. Adam has been featured on radio and television\, and played some of the biggest festivals in the country\, including the 2019 Woody Guthrie Festival and the 2019 Kerrville Folk Festival. \n\n\n\nWith the onset of the 2020 pandemic\, Adam has set out on a solo career. His unique original songs backed by his tenor guitar and delivered with his clear\, bluesy tenor make for a great show. \n\n\n\nAdam believes that good music can make strangers share a table\, and he proves it every time he plays. He’s nothing if not entertaining.
URL:https://mineralspringsbrewery.com/event/adam-moe-9/
LOCATION:Mineral Springs Brewery\, 210 N Oak Ave\, Suite 1\, Owatonna\, MN\, 55060\, United States
CATEGORIES:Music
ATTACH;FMTTYPE=image/jpeg:https://mineralspringsbrewery.com/wp-content/uploads/2022/02/Adam-Moe.jpg
END:VEVENT
BEGIN:VEVENT
DTSTART;TZID=America/Chicago:20250510T193000
DTEND;TZID=America/Chicago:20250510T220000
DTSTAMP:20260419T165615
CREATED:20250506T183447Z
LAST-MODIFIED:20250506T185128Z
UID:10003897-1746905400-1746914400@mineralspringsbrewery.com
SUMMARY:Wolves Watch Party
DESCRIPTION:We’ve got the Wolves playing on all screens! Let’s hear you howl!
URL:https://mineralspringsbrewery.com/event/wolves-watch-party-3/
LOCATION:Mineral Springs Brewery\, 210 N Oak Ave\, Suite 1\, Owatonna\, MN\, 55060\, United States
CATEGORIES:Events
ATTACH;FMTTYPE=image/jpeg:https://mineralspringsbrewery.com/wp-content/uploads/2025/05/WolvesWatchParty.jpg
END:VEVENT
END:VCALENDAR