BEGIN:VCALENDAR
VERSION:2.0
PRODID:-//Mineral Springs Brewery - ECPv6.15.20//NONSGML v1.0//EN
CALSCALE:GREGORIAN
METHOD:PUBLISH
X-WR-CALNAME:Mineral Springs Brewery
X-ORIGINAL-URL:https://mineralspringsbrewery.com
X-WR-CALDESC:Events for Mineral Springs Brewery
REFRESH-INTERVAL;VALUE=DURATION:PT1H
X-Robots-Tag:noindex
X-PUBLISHED-TTL:PT1H
BEGIN:VTIMEZONE
TZID:America/Chicago
BEGIN:DAYLIGHT
TZOFFSETFROM:-0600
TZOFFSETTO:-0500
TZNAME:CDT
DTSTART:20240310T080000
END:DAYLIGHT
BEGIN:STANDARD
TZOFFSETFROM:-0500
TZOFFSETTO:-0600
TZNAME:CST
DTSTART:20241103T070000
END:STANDARD
BEGIN:DAYLIGHT
TZOFFSETFROM:-0600
TZOFFSETTO:-0500
TZNAME:CDT
DTSTART:20250309T080000
END:DAYLIGHT
BEGIN:STANDARD
TZOFFSETFROM:-0500
TZOFFSETTO:-0600
TZNAME:CST
DTSTART:20251102T070000
END:STANDARD
BEGIN:DAYLIGHT
TZOFFSETFROM:-0600
TZOFFSETTO:-0500
TZNAME:CDT
DTSTART:20260308T080000
END:DAYLIGHT
BEGIN:STANDARD
TZOFFSETFROM:-0500
TZOFFSETTO:-0600
TZNAME:CST
DTSTART:20261101T070000
END:STANDARD
END:VTIMEZONE
BEGIN:VEVENT
DTSTART;TZID=America/Chicago:20250601T120000
DTEND;TZID=America/Chicago:20250601T150000
DTSTAMP:20260419T151408
CREATED:20250513T212422Z
LAST-MODIFIED:20250513T212429Z
UID:10003919-1748779200-1748790000@mineralspringsbrewery.com
SUMMARY:JT (of JT & The Gunslingers)
DESCRIPTION:JT & The Gunslingers are a Midwest band influenced by Country music with a Southern Rock edge.
URL:https://mineralspringsbrewery.com/event/jt-of-jt-the-gunslingers/
LOCATION:Mineral Springs Brewery\, 210 N Oak Ave\, Suite 1\, Owatonna\, MN\, 55060\, United States
CATEGORIES:Music
ATTACH;FMTTYPE=image/jpeg:https://mineralspringsbrewery.com/wp-content/uploads/2024/04/JTandTheGunslingers.jpg
END:VEVENT
BEGIN:VEVENT
DTSTART;TZID=America/Chicago:20250601T120000
DTEND;TZID=America/Chicago:20250601T180000
DTSTAMP:20260419T151408
CREATED:20250513T212219Z
LAST-MODIFIED:20250528T221930Z
UID:10003917-1748779200-1748800800@mineralspringsbrewery.com
SUMMARY:Beyond the Yellow Ribbon Fundraiser
DESCRIPTION:We’ll be hosting our third annual fundraiser for Beyond the Yellow Ribbon Owatonna! We’ll be open at 12pm and have a couple of our favorite food trucks: Whiskey Creek BBQ\, OTB Chocolate Shoppe Ice Cream\, & Twisted Chicken! We’ll have live music from JT of JT and the Gunslingers and we’ll also be doing MSBGO per our weekly schedule! There will be a variety of raffle items available all afternoon that will benefit BTYR! Plus we’ll have our Company G Lager on tap for the event.
URL:https://mineralspringsbrewery.com/event/beyond-the-yellow-ribbon-fundraiser-2/
LOCATION:Mineral Springs Brewery\, 210 N Oak Ave\, Suite 1\, Owatonna\, MN\, 55060\, United States
CATEGORIES:Events
ATTACH;FMTTYPE=image/png:https://mineralspringsbrewery.com/wp-content/uploads/2025/05/2025-BTYR-Updated.png
END:VEVENT
BEGIN:VEVENT
DTSTART;TZID=America/Chicago:20250601T150000
DTEND;TZID=America/Chicago:20250601T150000
DTSTAMP:20260419T151408
CREATED:20250305T203948Z
LAST-MODIFIED:20250305T203954Z
UID:10002409-1748790000-1748790000@mineralspringsbrewery.com
SUMMARY:MSBGO
DESCRIPTION:On Sundays\, we’ll be hosting a free and fun game of chance! Come on down to play along and win FREE BEER!
URL:https://mineralspringsbrewery.com/event/msbgo-8/2025-06-01/
LOCATION:Mineral Springs Brewery\, 210 N Oak Ave\, Suite 1\, Owatonna\, MN\, 55060\, United States
CATEGORIES:Events
ATTACH;FMTTYPE=image/png:https://mineralspringsbrewery.com/wp-content/uploads/2022/04/Bingo.png
END:VEVENT
BEGIN:VEVENT
DTSTART;TZID=America/Chicago:20250603T160000
DTEND;TZID=America/Chicago:20250603T190000
DTSTAMP:20260419T151408
CREATED:20250603T152536Z
LAST-MODIFIED:20250603T152631Z
UID:10003920-1748966400-1748977200@mineralspringsbrewery.com
SUMMARY:Canceled (Weather) - Classic Car Roll-In
DESCRIPTION:MSB is home to the Classic Car Roll In! \n\n\n\nSpring/Summer/Fall weather is perfect for both showing off and admiring these southern Minnesota classic cars!
URL:https://mineralspringsbrewery.com/event/classic-car-roll-in-3/
LOCATION:Mineral Springs Brewery\, 210 N Oak Ave\, Suite 1\, Owatonna\, MN\, 55060\, United States
CATEGORIES:Events
ATTACH;FMTTYPE=image/png:https://mineralspringsbrewery.com/wp-content/uploads/2022/05/Classic-Car-Roll-IN-1.png
END:VEVENT
BEGIN:VEVENT
DTSTART;TZID=America/Chicago:20250603T183000
DTEND;TZID=America/Chicago:20250603T193000
DTSTAMP:20260419T151408
CREATED:20250528T222646Z
LAST-MODIFIED:20250528T222650Z
UID:10003934-1748975400-1748979000@mineralspringsbrewery.com
SUMMARY:Bruce Bernhart
DESCRIPTION:Bruce Bernhart has played in several bluegrass bands at the Steele County Fair over the past 35+ years\, plus various other county fairs across south-central Minnesota. \n\n\n\nBruce has also been featured playing mandolin on a number of CDs recorded by bands he’s been a part of since the early 90’s. Prior to the mandolin\, Bruce had been strumming the banjo and bass. Since then\, Bruce has mastered the lost art of flatpicking old time fiddle tunes on the guitar with no amplifier and no microphone.
URL:https://mineralspringsbrewery.com/event/bruce-bernhart-6/
LOCATION:Mineral Springs Brewery\, 210 N Oak Ave\, Suite 1\, Owatonna\, MN\, 55060\, United States
CATEGORIES:Music
ATTACH;FMTTYPE=image/jpeg:https://mineralspringsbrewery.com/wp-content/uploads/2025/02/Image.jpg
END:VEVENT
BEGIN:VEVENT
DTSTART;TZID=America/Chicago:20250604T180000
DTEND;TZID=America/Chicago:20250604T180000
DTSTAMP:20260419T151408
CREATED:20250305T203954Z
LAST-MODIFIED:20250305T203959Z
UID:10002153-1749060000-1749060000@mineralspringsbrewery.com
SUMMARY:Trivia Night
DESCRIPTION:MSB Trivia Night!!
URL:https://mineralspringsbrewery.com/event/trivia-night-32/2025-06-04/
LOCATION:Mineral Springs Brewery\, 210 N Oak Ave\, Suite 1\, Owatonna\, MN\, 55060\, United States
CATEGORIES:Events
ATTACH;FMTTYPE=image/png:https://mineralspringsbrewery.com/wp-content/uploads/2022/02/MSB-Trivia-Night.png
END:VEVENT
BEGIN:VEVENT
DTSTART;TZID=America/Chicago:20250605T160000
DTEND;TZID=America/Chicago:20250605T203000
DTSTAMP:20260419T151408
CREATED:20250528T230005Z
LAST-MODIFIED:20250528T230109Z
UID:10003952-1749139200-1749155400@mineralspringsbrewery.com
SUMMARY:Downtown Thursday
DESCRIPTION:We’re downtown! We’ve got space set up for Downtown Thursdays all summer! \n\n\n\nStop into the taproom to get the full range of variety and then head up to downtown for some live music and a couple refreshing MSB beers in central park!
URL:https://mineralspringsbrewery.com/event/downtown-thursday/
LOCATION:Central Park\, 100 E Main St\, Owatonna\, Minnesota\, 55060\, United States
CATEGORIES:Events
END:VEVENT
BEGIN:VEVENT
DTSTART;TZID=America/Chicago:20250605T160000
DTEND;TZID=America/Chicago:20250605T210000
DTSTAMP:20260419T151408
CREATED:20250513T214054Z
LAST-MODIFIED:20250520T221629Z
UID:10003925-1749139200-1749157200@mineralspringsbrewery.com
SUMMARY:Tips and Taps Takeover - Steele County Humane Society Benefit
DESCRIPTION:Owatonna Y-Pro volunteers will be pouring beers from 4-9\, with 100% of tips and 10% of MSB tap sales going to the benefit of the Steele County Humane Society!
URL:https://mineralspringsbrewery.com/event/tips-and-taps-takeover-steele-county-humane-society-benefit-2/
LOCATION:MN
CATEGORIES:Events
ATTACH;FMTTYPE=image/png:https://mineralspringsbrewery.com/wp-content/uploads/2025/05/Takeover-2025-1.png
END:VEVENT
BEGIN:VEVENT
DTSTART;TZID=America/Chicago:20250606T160000
DTEND;TZID=America/Chicago:20250606T210000
DTSTAMP:20260419T151408
CREATED:20250513T214340Z
LAST-MODIFIED:20250513T214345Z
UID:10003926-1749225600-1749243600@mineralspringsbrewery.com
SUMMARY:Tips and Taps Takeover - Steele County Humane Society Benefit
DESCRIPTION:Owatonna Y-Pro volunteers will be pouring beers from 4-9\, with 100% of tips and 10% of MSB tap sales going to the benefit of the Steele County Humane Society!
URL:https://mineralspringsbrewery.com/event/tips-and-taps-takeover-steele-county-humane-society-benefit-3/
LOCATION:MN
CATEGORIES:Events
ATTACH;FMTTYPE=image/png:https://mineralspringsbrewery.com/wp-content/uploads/2025/05/Takeover-2025-1.png
END:VEVENT
BEGIN:VEVENT
DTSTART;TZID=America/Chicago:20250606T173000
DTEND;TZID=America/Chicago:20250606T193000
DTSTAMP:20260419T151408
CREATED:20250506T190007Z
LAST-MODIFIED:20250506T191120Z
UID:10003901-1749231000-1749238200@mineralspringsbrewery.com
SUMMARY:Curt Copeland
DESCRIPTION:
URL:https://mineralspringsbrewery.com/event/curt-copeland-3/
LOCATION:Mineral Springs Brewery\, 210 N Oak Ave\, Suite 1\, Owatonna\, MN\, 55060\, United States
CATEGORIES:Music
ATTACH;FMTTYPE=image/jpeg:https://mineralspringsbrewery.com/wp-content/uploads/2022/04/Curt-Copeland.jpg
END:VEVENT
BEGIN:VEVENT
DTSTART;TZID=America/Chicago:20250607T180000
DTEND;TZID=America/Chicago:20250607T200000
DTSTAMP:20260419T151408
CREATED:20250506T191047Z
LAST-MODIFIED:20250506T191050Z
UID:10003904-1749319200-1749326400@mineralspringsbrewery.com
SUMMARY:Chris Mims
DESCRIPTION:From the soulful rhythms of blues to the electrifying melodies of rock and country\, Chris Mims is a versatile guitarist and singer with over 30 years of experience.
URL:https://mineralspringsbrewery.com/event/chris-mims-8/
LOCATION:Mineral Springs Brewery\, 210 N Oak Ave\, Suite 1\, Owatonna\, MN\, 55060\, United States
CATEGORIES:Music
ATTACH;FMTTYPE=image/jpeg:https://mineralspringsbrewery.com/wp-content/uploads/2024/04/ChrisMims.jpg
END:VEVENT
END:VCALENDAR