BEGIN:VCALENDAR
VERSION:2.0
PRODID:-//Mineral Springs Brewery - ECPv6.15.20//NONSGML v1.0//EN
CALSCALE:GREGORIAN
METHOD:PUBLISH
X-ORIGINAL-URL:https://mineralspringsbrewery.com
X-WR-CALDESC:Events for Mineral Springs Brewery
REFRESH-INTERVAL;VALUE=DURATION:PT1H
X-Robots-Tag:noindex
X-PUBLISHED-TTL:PT1H
BEGIN:VTIMEZONE
TZID:America/Chicago
BEGIN:DAYLIGHT
TZOFFSETFROM:-0600
TZOFFSETTO:-0500
TZNAME:CDT
DTSTART:20240310T080000
END:DAYLIGHT
BEGIN:STANDARD
TZOFFSETFROM:-0500
TZOFFSETTO:-0600
TZNAME:CST
DTSTART:20241103T070000
END:STANDARD
BEGIN:DAYLIGHT
TZOFFSETFROM:-0600
TZOFFSETTO:-0500
TZNAME:CDT
DTSTART:20250309T080000
END:DAYLIGHT
BEGIN:STANDARD
TZOFFSETFROM:-0500
TZOFFSETTO:-0600
TZNAME:CST
DTSTART:20251102T070000
END:STANDARD
BEGIN:DAYLIGHT
TZOFFSETFROM:-0600
TZOFFSETTO:-0500
TZNAME:CDT
DTSTART:20260308T080000
END:DAYLIGHT
BEGIN:STANDARD
TZOFFSETFROM:-0500
TZOFFSETTO:-0600
TZNAME:CST
DTSTART:20261101T070000
END:STANDARD
END:VTIMEZONE
BEGIN:VEVENT
DTSTART;TZID=America/Chicago:20250831T150000
DTEND;TZID=America/Chicago:20250831T150000
DTSTAMP:20260420T012952
CREATED:20250305T203948Z
LAST-MODIFIED:20250305T203954Z
UID:10002422-1756652400-1756652400@mineralspringsbrewery.com
SUMMARY:MSBGO
DESCRIPTION:On Sundays\, we’ll be hosting a free and fun game of chance! Come on down to play along and win FREE BEER!
URL:https://mineralspringsbrewery.com/event/msbgo-8/2025-08-31/
LOCATION:Mineral Springs Brewery\, 210 N Oak Ave\, Suite 1\, Owatonna\, MN\, 55060\, United States
CATEGORIES:Events
ATTACH;FMTTYPE=image/png:https://mineralspringsbrewery.com/wp-content/uploads/2022/04/Bingo.png
END:VEVENT
BEGIN:VEVENT
DTSTART;TZID=America/Chicago:20250902T160000
DTEND;TZID=America/Chicago:20250902T190000
DTSTAMP:20260420T012952
CREATED:20250513T213407Z
LAST-MODIFIED:20250513T213609Z
UID:10003923-1756828800-1756839600@mineralspringsbrewery.com
SUMMARY:Classic Car Roll-In
DESCRIPTION:MSB is home to the Classic Car Roll In! \n\n\n\nSpring/Summer/Fall weather is perfect for both showing off and admiring these southern Minnesota classic cars!
URL:https://mineralspringsbrewery.com/event/classic-car-roll-in-4/2025-09-02/
LOCATION:Mineral Springs Brewery\, 210 N Oak Ave\, Suite 1\, Owatonna\, MN\, 55060\, United States
CATEGORIES:Events
ATTACH;FMTTYPE=image/png:https://mineralspringsbrewery.com/wp-content/uploads/2022/05/Classic-Car-Roll-IN-1.png
END:VEVENT
BEGIN:VEVENT
DTSTART;TZID=America/Chicago:20250903T180000
DTEND;TZID=America/Chicago:20250903T180000
DTSTAMP:20260420T012952
CREATED:20250902T165904Z
LAST-MODIFIED:20250902T165916Z
UID:10002166-1756922400-1756922400@mineralspringsbrewery.com
SUMMARY:Trivia Mafia
DESCRIPTION:Trivia Mafia is a bar and brewery trivia operation based in Minneapolis\, Minnesota. They produce the highest-quality trivia nights in bars\, taprooms\, distilleries\, and private events every night of the week throughout the Midwest (and beyond!).  \n\n\n\nIf you’ve ever thought\, “I love trivia nights\, I just wish they were… I don’t know… better?” You’ve come to the right place!
URL:https://mineralspringsbrewery.com/event/trivia-night-20/2025-09-03/
LOCATION:Mineral Springs Brewery\, 210 N Oak Ave\, Suite 1\, Owatonna\, MN\, 55060\, United States
CATEGORIES:Events
ATTACH;FMTTYPE=image/png:https://mineralspringsbrewery.com/wp-content/uploads/2025/03/Mineral-Springs-Brewery_TMC_2025_IG.png
END:VEVENT
BEGIN:VEVENT
DTSTART;TZID=America/Chicago:20250904T160000
DTEND;TZID=America/Chicago:20250904T203000
DTSTAMP:20260420T012952
CREATED:20250825T003801Z
LAST-MODIFIED:20250825T003805Z
UID:10004079-1757001600-1757017800@mineralspringsbrewery.com
SUMMARY:Downtown Thursday
DESCRIPTION:We’re downtown! We’ve got space set up for Downtown Thursdays all summer! \n\n\n\nStop into the taproom to get the full range of variety and then head up to downtown for some live music and a couple refreshing MSB beers in central park!
URL:https://mineralspringsbrewery.com/event/downtown-thursday-3/
LOCATION:Central Park\, 100 E Main St\, Owatonna\, Minnesota\, 55060\, United States
CATEGORIES:Events
END:VEVENT
BEGIN:VEVENT
DTSTART;TZID=America/Chicago:20250905T173000
DTEND;TZID=America/Chicago:20250905T203000
DTSTAMP:20260420T012952
CREATED:20250729T184411Z
LAST-MODIFIED:20250825T004744Z
UID:10004054-1757093400-1757104200@mineralspringsbrewery.com
SUMMARY:The Gated Community
DESCRIPTION:In 2006 South Asian-American Yale graduate and political activist Sumanth Gopinath started a country/bluegrass band in Minneapolis called The Gated Community. Influenced by his dad’s classic country record collection and modern Americana bands like The Flatlanders\, the band mixes folk\, bluegrass and country music with a raw\, rock edge. \n\n\n\nBorn in Chicago\, Sumanth’s family relocated to Slidell\, Louisiana when he was nine. “At first\, my brother and I hated the place. We consciously decided not to adopt southern accents\, but we were of course surrounded by them\, and by contemporary country music\,” he recalls. Later\, as a grad student at Yale he fell under the musical mentorship of fellow graduate student and Chapel Hill\, North Carolina country/bluegrass veteran Rob Slifkin\, who introduced him to the music of classic Americana artists. Sumanth’s songwriting quickly blossomed in country music—a genre he’d shunned since his days in Slidell. “Playing a form of country and getting to ‘play southern’ became a form of therapy\, a way of dealing with all of the unpleasant bullying\, racism\, and social dislocation that I experienced while growing up in Louisiana.” \n\n\n\nIn 2005\, Sumanth moved from New Haven to Minneapolis to begin working as a professor of music theory at the University of Minnesota. There he would meet fellow faculty members and grad students with whom he would form The Gated Community – a delightfully raucous country band whose lively shows and pointed social commentary quickly gained a cult following in the Twin Cities. Although the band began as a vehicle for Sumanth’s frequently political songs\, the band has evolved over the last 19 years\, expanding in size and scope to include many roots music styles and more personal songwriting. Now featuring six singers\, the band combines professors like Sumanth (vocals\, acoustic guitar\, keyboards) and Beth Hartman (vocals\, percussion)\, and artists from various parts of the Twin Cities scene like Rosie Harris (vocals\, banjo\, cello)\, Paul Hatlelid (vocals\, drums\, acoustic guitar)\, Cody Johnson (vocals\, bass)\, and Nate Knutson (vocals\, guitars\, mandolin). This current lineup has been featured on their last two albums – The Honor and Glory of The Gated Community (2023) and Goodbye Work (2025) – showing the band “stepping out of their Marxist bluegrass novelty band box to create emotionally complex songs” (Dispatch).  \n\n\n\nAbout the interesting mix of people in the band\, Sumanth says “Even though I have strong social ties to the academic world\, I don’t like hanging out only with academics. I prefer to work with people from all walks of life—whether they be union organizers\, office workers\, or full-time artists.” Although the band members’ interests are indeed varied (kids\, dogs\, photography\, books\, cooking\, community organizing)\, they all love music\, travel and exploring historic sights while on the road. \n\n\n\nSumming up the band’s commitment to being a band of and for the people\, The Gated Community continues to stay true to its mission – to pursue the ideals of the American dream as expressed and embodied in the form of country music.
URL:https://mineralspringsbrewery.com/event/the-gated-community/
LOCATION:Mineral Springs Brewery\, 210 N Oak Ave\, Suite 1\, Owatonna\, MN\, 55060\, United States
CATEGORIES:Music
ATTACH;FMTTYPE=image/webp:https://mineralspringsbrewery.com/wp-content/uploads/2025/07/The-Gated-Community.webp
END:VEVENT
BEGIN:VEVENT
DTSTART;TZID=America/Chicago:20250906T090000
DTEND;TZID=America/Chicago:20250906T110000
DTSTAMP:20260420T012952
CREATED:20250825T004616Z
LAST-MODIFIED:20250827T192803Z
UID:10004082-1757149200-1757156400@mineralspringsbrewery.com
SUMMARY:Pints & Poses
DESCRIPTION:Join us for morning yoga lead by VIBES Owatonna followed by a free craft beverage as a part of the Crafting A Brighter Future corporate sponsorship of United Way Steele County! \n\n\n\nTickets are available for purchase through the link below!
URL:https://mineralspringsbrewery.com/event/pints-poses/
LOCATION:Mineral Springs Brewery\, 210 N Oak Ave\, Suite 1\, Owatonna\, MN\, 55060\, United States
CATEGORIES:Events
ATTACH;FMTTYPE=image/jpeg:https://mineralspringsbrewery.com/wp-content/uploads/2025/08/IMG_2572.jpeg
END:VEVENT
BEGIN:VEVENT
DTSTART;TZID=America/Chicago:20250906T183000
DTEND;TZID=America/Chicago:20250906T203000
DTSTAMP:20260420T012952
CREATED:20250729T185734Z
LAST-MODIFIED:20250729T185758Z
UID:10004055-1757183400-1757190600@mineralspringsbrewery.com
SUMMARY:Room For Gray
DESCRIPTION:Room For Gray is a local Southern Minnesota band with 2 albums under their belt!
URL:https://mineralspringsbrewery.com/event/room-for-gray/
LOCATION:Mineral Springs Brewery\, 210 N Oak Ave\, Suite 1\, Owatonna\, MN\, 55060\, United States
CATEGORIES:Music
ATTACH;FMTTYPE=image/png:https://mineralspringsbrewery.com/wp-content/uploads/2025/07/Room-For-Gray.png
END:VEVENT
END:VCALENDAR