BEGIN:VCALENDAR
VERSION:2.0
PRODID:-//Mineral Springs Brewery - ECPv6.15.20//NONSGML v1.0//EN
CALSCALE:GREGORIAN
METHOD:PUBLISH
X-WR-CALNAME:Mineral Springs Brewery
X-ORIGINAL-URL:https://mineralspringsbrewery.com
X-WR-CALDESC:Events for Mineral Springs Brewery
REFRESH-INTERVAL;VALUE=DURATION:PT1H
X-Robots-Tag:noindex
X-PUBLISHED-TTL:PT1H
BEGIN:VTIMEZONE
TZID:America/Chicago
BEGIN:DAYLIGHT
TZOFFSETFROM:-0600
TZOFFSETTO:-0500
TZNAME:CDT
DTSTART:20240310T080000
END:DAYLIGHT
BEGIN:STANDARD
TZOFFSETFROM:-0500
TZOFFSETTO:-0600
TZNAME:CST
DTSTART:20241103T070000
END:STANDARD
BEGIN:DAYLIGHT
TZOFFSETFROM:-0600
TZOFFSETTO:-0500
TZNAME:CDT
DTSTART:20250309T080000
END:DAYLIGHT
BEGIN:STANDARD
TZOFFSETFROM:-0500
TZOFFSETTO:-0600
TZNAME:CST
DTSTART:20251102T070000
END:STANDARD
BEGIN:DAYLIGHT
TZOFFSETFROM:-0600
TZOFFSETTO:-0500
TZNAME:CDT
DTSTART:20260308T080000
END:DAYLIGHT
BEGIN:STANDARD
TZOFFSETFROM:-0500
TZOFFSETTO:-0600
TZNAME:CST
DTSTART:20261101T070000
END:STANDARD
END:VTIMEZONE
BEGIN:VEVENT
DTSTART;TZID=America/Chicago:20250928T150000
DTEND;TZID=America/Chicago:20250928T150000
DTSTAMP:20260419T234834
CREATED:20250305T203948Z
LAST-MODIFIED:20250305T203954Z
UID:10002426-1759071600-1759071600@mineralspringsbrewery.com
SUMMARY:MSBGO
DESCRIPTION:On Sundays\, we’ll be hosting a free and fun game of chance! Come on down to play along and win FREE BEER!
URL:https://mineralspringsbrewery.com/event/msbgo-8/2025-09-28/
LOCATION:Mineral Springs Brewery\, 210 N Oak Ave\, Suite 1\, Owatonna\, MN\, 55060\, United States
CATEGORIES:Events
ATTACH;FMTTYPE=image/png:https://mineralspringsbrewery.com/wp-content/uploads/2022/04/Bingo.png
END:VEVENT
BEGIN:VEVENT
DTSTART;TZID=America/Chicago:20251001T180000
DTEND;TZID=America/Chicago:20251001T180000
DTSTAMP:20260419T234834
CREATED:20250902T165904Z
LAST-MODIFIED:20250902T165916Z
UID:10002170-1759341600-1759341600@mineralspringsbrewery.com
SUMMARY:Trivia Mafia
DESCRIPTION:Trivia Mafia is a bar and brewery trivia operation based in Minneapolis\, Minnesota. They produce the highest-quality trivia nights in bars\, taprooms\, distilleries\, and private events every night of the week throughout the Midwest (and beyond!).  \n\n\n\nIf you’ve ever thought\, “I love trivia nights\, I just wish they were… I don’t know… better?” You’ve come to the right place!
URL:https://mineralspringsbrewery.com/event/trivia-night-20/2025-10-01/
LOCATION:Mineral Springs Brewery\, 210 N Oak Ave\, Suite 1\, Owatonna\, MN\, 55060\, United States
CATEGORIES:Events
ATTACH;FMTTYPE=image/png:https://mineralspringsbrewery.com/wp-content/uploads/2025/03/Mineral-Springs-Brewery_TMC_2025_IG.png
END:VEVENT
BEGIN:VEVENT
DTSTART;TZID=America/Chicago:20251004T120000
DTEND;TZID=America/Chicago:20251004T190000
DTSTAMP:20260419T234834
CREATED:20250902T175457Z
LAST-MODIFIED:20250902T175730Z
UID:10004442-1759579200-1759604400@mineralspringsbrewery.com
SUMMARY:Oktoberfest - Owatonna Foundation
DESCRIPTION:We’re keeping the Oktoberfest celebration going with the help of the Owatonna Foundation! \n\n\n\nThis Oktoberfest celebration will have face painting\, kid’s axe throwing (plastic) a band and more!  Plus\, the trustees will do a tap takeover!
URL:https://mineralspringsbrewery.com/event/oktoberfest-owatonna-foundation/
LOCATION:Mineral Springs Brewery\, 210 N Oak Ave\, Suite 1\, Owatonna\, MN\, 55060\, United States
CATEGORIES:Events
ATTACH;FMTTYPE=image/avif:https://mineralspringsbrewery.com/wp-content/uploads/2025/09/Owatonna-Foundation-2023.avif
END:VEVENT
BEGIN:VEVENT
DTSTART;TZID=America/Chicago:20251004T140000
DTEND;TZID=America/Chicago:20251004T170000
DTSTAMP:20260419T234834
CREATED:20250902T174957Z
LAST-MODIFIED:20251004T165639Z
UID:10004441-1759586400-1759597200@mineralspringsbrewery.com
SUMMARY:Polkarioty
DESCRIPTION:Richie Yurkovich and his band have been playing professionally for almost 50 years. Their performances have taken them throughout the United States where they have performed at numerous festivals\, Oktoberfests\, clubs\, personal engagements\, TV and radio shows and other events. Among those being several appearances in Branson\, MO. They have also performed in Europe and have hosted many bus trips in the mid-west. The band members are composed of veteran musicians who bring their best to each performance. \n\n\n\nRichie is also owner and recording engineer at his recording studio\, RY Productions. More than 375 projects have been recorded and released from his studio. Many on his own RY Productions label. \n\n\n\nRichie was elected to the Ironworld Polka Hall of Fame in 2001. \n\n\n\nThey have recorded more than 30 albums and Richie has written almost 100 songs. They play a variety of music including polkas\, waltzes\, big band\, country\, older rock\, latin and many specialty songs. The band always has a fun time performing to give the dancer and listener an enjoyable experience. \n\n\n\nBand Members:\n\n\n\nRichie Yurkovich: Accordion\, button box\, vocals\, midi effects.  He has had his own band\, for over 50 years\, recorded 30 albums\, owns his own recording studio\, hosted many tours in the U.S. and abroad and has performed across the United States including more than 70 shows in Branson\, MO.  In 2001 he was inducted into the Ironworld Polka Hall of Fame.  With his accordion\, bass and midi effects\, he gives the band the sound for which they are known. \n\n\n\nGabe Yurkovich:  Drums\, Vocals.  Gabe (Gabrielle) has been a member of our band since the 1970’s as either the full time drummer or filling in when needed.  Her main instrument in high school was the saxophone and played that many times in the early years of the band.  Her out-going personality\, solid beat and pleasing vocals make her a crowd favorite whenever she performs.She has also released her own CD titled “Beatin’ It Up”.  It features some of her favorite songs and is available on our orderform page. \n\n\n\nScott Benson: Guitar\, banjo\, drums\, vocals. 2025 marks Scott’s 48th year as a performing musician and he has been performing with Rich since 1977. He has a versatile music background and has played with several polka bands including Richie Yurkovich\, Scott Koehn\, Frankie Bucar\, Ray Ahlgren\, and Mike McIntyre. Scott’s played with show bands\, roots- and rock bands\, country-rock bands\, and variety bands such as Whoz Playing?\, The Atomic Tailfins\, Redwing\, The Marshall Star Band\, TravAce & The Generators\, Chevy Van\, The Kristmas Kookies\, and The Tinglers. Scott’s performed with Chuck Berry\, Greg Koch\, multi-Grammy winner Bill Miller\, and Minneapolis-based musician/songwriter Javier Trejo. \n\n\n\nThe perfect compliment to our Oktoberfest activities!
URL:https://mineralspringsbrewery.com/event/polkarioty/
LOCATION:Mineral Springs Brewery\, 210 N Oak Ave\, Suite 1\, Owatonna\, MN\, 55060\, United States
CATEGORIES:Music
ATTACH;FMTTYPE=image/webp:https://mineralspringsbrewery.com/wp-content/uploads/2025/09/Polkarioty.webp
END:VEVENT
BEGIN:VEVENT
DTSTART;TZID=America/Chicago:20251004T183000
DTEND;TZID=America/Chicago:20251004T203000
DTSTAMP:20260419T234834
CREATED:20250729T200215Z
LAST-MODIFIED:20250729T200730Z
UID:10004070-1759602600-1759609800@mineralspringsbrewery.com
SUMMARY:The Shifties
DESCRIPTION:The Shifties’ first gig was at MSB and they’re back to rock the taproom!
URL:https://mineralspringsbrewery.com/event/the-shifties/
LOCATION:Mineral Springs Brewery\, 210 N Oak Ave\, Suite 1\, Owatonna\, MN\, 55060\, United States
CATEGORIES:Music
ATTACH;FMTTYPE=image/jpeg:https://mineralspringsbrewery.com/wp-content/uploads/2024/09/The-Shifties.jpg
END:VEVENT
END:VCALENDAR