BEGIN:VCALENDAR
VERSION:2.0
PRODID:-//Mineral Springs Brewery - ECPv6.15.20//NONSGML v1.0//EN
CALSCALE:GREGORIAN
METHOD:PUBLISH
X-ORIGINAL-URL:https://mineralspringsbrewery.com
X-WR-CALDESC:Events for Mineral Springs Brewery
REFRESH-INTERVAL;VALUE=DURATION:PT1H
X-Robots-Tag:noindex
X-PUBLISHED-TTL:PT1H
BEGIN:VTIMEZONE
TZID:America/Chicago
BEGIN:DAYLIGHT
TZOFFSETFROM:-0600
TZOFFSETTO:-0500
TZNAME:CDT
DTSTART:20240310T080000
END:DAYLIGHT
BEGIN:STANDARD
TZOFFSETFROM:-0500
TZOFFSETTO:-0600
TZNAME:CST
DTSTART:20241103T070000
END:STANDARD
BEGIN:DAYLIGHT
TZOFFSETFROM:-0600
TZOFFSETTO:-0500
TZNAME:CDT
DTSTART:20250309T080000
END:DAYLIGHT
BEGIN:STANDARD
TZOFFSETFROM:-0500
TZOFFSETTO:-0600
TZNAME:CST
DTSTART:20251102T070000
END:STANDARD
BEGIN:DAYLIGHT
TZOFFSETFROM:-0600
TZOFFSETTO:-0500
TZNAME:CDT
DTSTART:20260308T080000
END:DAYLIGHT
BEGIN:STANDARD
TZOFFSETFROM:-0500
TZOFFSETTO:-0600
TZNAME:CST
DTSTART:20261101T070000
END:STANDARD
END:VTIMEZONE
BEGIN:VEVENT
DTSTART;TZID=America/Chicago:20251026T150000
DTEND;TZID=America/Chicago:20251026T150000
DTSTAMP:20260420T024115
CREATED:20250305T203948Z
LAST-MODIFIED:20250305T203954Z
UID:10002430-1761490800-1761490800@mineralspringsbrewery.com
SUMMARY:MSBGO
DESCRIPTION:On Sundays\, we’ll be hosting a free and fun game of chance! Come on down to play along and win FREE BEER!
URL:https://mineralspringsbrewery.com/event/msbgo-8/2025-10-26/
LOCATION:Mineral Springs Brewery\, 210 N Oak Ave\, Suite 1\, Owatonna\, MN\, 55060\, United States
CATEGORIES:Events
ATTACH;FMTTYPE=image/png:https://mineralspringsbrewery.com/wp-content/uploads/2022/04/Bingo.png
END:VEVENT
BEGIN:VEVENT
DTSTART;TZID=America/Chicago:20251028T000000
DTEND;TZID=America/Chicago:20251028T235959
DTSTAMP:20260420T024115
CREATED:20251009T231629Z
LAST-MODIFIED:20251009T231630Z
UID:10004452-1761609600-1761695999@mineralspringsbrewery.com
SUMMARY:Closed
DESCRIPTION:We’re closed to the public today. \n\n\n\nWe’re sorry! We promise this isn’t a regular occurrence! \n\n\n\nWe’ll get back to our regularly scheduled beer brewing/pouring/drinking tomorrow!
URL:https://mineralspringsbrewery.com/event/closed-4/
LOCATION:Mineral Springs Brewery\, 210 N Oak Ave\, Suite 1\, Owatonna\, MN\, 55060\, United States
CATEGORIES:Events
END:VEVENT
BEGIN:VEVENT
DTSTART;TZID=America/Chicago:20251029T180000
DTEND;TZID=America/Chicago:20251029T180000
DTSTAMP:20260420T024115
CREATED:20250902T165904Z
LAST-MODIFIED:20250902T165916Z
UID:10002174-1761760800-1761760800@mineralspringsbrewery.com
SUMMARY:Trivia Mafia
DESCRIPTION:Trivia Mafia is a bar and brewery trivia operation based in Minneapolis\, Minnesota. They produce the highest-quality trivia nights in bars\, taprooms\, distilleries\, and private events every night of the week throughout the Midwest (and beyond!).  \n\n\n\nIf you’ve ever thought\, “I love trivia nights\, I just wish they were… I don’t know… better?” You’ve come to the right place!
URL:https://mineralspringsbrewery.com/event/trivia-night-20/2025-10-29/
LOCATION:Mineral Springs Brewery\, 210 N Oak Ave\, Suite 1\, Owatonna\, MN\, 55060\, United States
CATEGORIES:Events
ATTACH;FMTTYPE=image/png:https://mineralspringsbrewery.com/wp-content/uploads/2025/03/Mineral-Springs-Brewery_TMC_2025_IG.png
END:VEVENT
BEGIN:VEVENT
DTSTART;TZID=America/Chicago:20251030T180000
DTEND;TZID=America/Chicago:20251030T180000
DTSTAMP:20260420T024115
CREATED:20251013T163752Z
LAST-MODIFIED:20251013T163818Z
UID:10003128-1761847200-1761847200@mineralspringsbrewery.com
SUMMARY:Name that Tune
DESCRIPTION:Just like it sounds! \n\n\n\nWe play clips of songs\, and your team tries to guess the correct song title and group/artist! \n\n\n\nFREE To PlayCrowlers or a gift card for the winning team as well as prizes given away throughout!Up To 6 People per Team
URL:https://mineralspringsbrewery.com/event/name-that-tune-21/
LOCATION:Mineral Springs Brewery\, 210 N Oak Ave\, Suite 1\, Owatonna\, MN\, 55060\, United States
CATEGORIES:Events
ATTACH;FMTTYPE=image/jpeg:https://mineralspringsbrewery.com/wp-content/uploads/2024/03/Black-White-Coming-Soon-Instagram-Post-Real-Estate-Flyer-scaled.jpeg
END:VEVENT
BEGIN:VEVENT
DTSTART;TZID=America/Chicago:20251031T160000
DTEND;TZID=America/Chicago:20251031T200000
DTSTAMP:20260420T024115
CREATED:20251010T152013Z
LAST-MODIFIED:20251010T152018Z
UID:10004513-1761926400-1761940800@mineralspringsbrewery.com
SUMMARY:Halloween Costume Party
DESCRIPTION:Join us for a Costume Party complete with beer\, pizza\, and music! \n\n\n\nWe’ll bring the “boo”s \, Fred the Bear will bring the “tricks” from 6-8 \, and Pleasant Grove Pizza Farm will bring the “treats” from 4-8 
URL:https://mineralspringsbrewery.com/event/halloween-costume-party/
LOCATION:Mineral Springs Brewery\, 210 N Oak Ave\, Suite 1\, Owatonna\, MN\, 55060\, United States
CATEGORIES:Events
ATTACH;FMTTYPE=image/jpeg:https://mineralspringsbrewery.com/wp-content/uploads/2025/10/Halloween-Costume-Party-2025.jpg
END:VEVENT
BEGIN:VEVENT
DTSTART;TZID=America/Chicago:20251031T180000
DTEND;TZID=America/Chicago:20251031T200000
DTSTAMP:20260420T024115
CREATED:20250902T181851Z
LAST-MODIFIED:20250902T181855Z
UID:10004454-1761933600-1761940800@mineralspringsbrewery.com
SUMMARY:Fred the Bear
DESCRIPTION:Fred the Bear is a classic rock/alternative band known for their rich harmonies\, emotive dynamics and original songs. FTB’s music reflects on life’s promises and disappointments through personal crafted lyrics and driving rhythms.  Mixed within their originals is a blend of music from other Midwest artists\, currently touring groups and classic bands.  \n\n\n\nTheir name and their drive for a great live sound is a tribute to Bruce “Fred the Bear” Eschler.  At his bar\, the “Bear’s Den”\, you could always count on a stiff drink and one heck of a party\, with the music crankin’ all night.  So they play tribute to the man who provided them a first glimpse into the true energy of live music …. Fred the Bear.
URL:https://mineralspringsbrewery.com/event/fred-the-bear-12/
LOCATION:Mineral Springs Brewery\, 210 N Oak Ave\, Suite 1\, Owatonna\, MN\, 55060\, United States
CATEGORIES:Music
ATTACH;FMTTYPE=image/jpeg:https://mineralspringsbrewery.com/wp-content/uploads/2022/04/Fred-the-Bear-scaled.jpg
END:VEVENT
BEGIN:VEVENT
DTSTART;TZID=America/Chicago:20251101T183000
DTEND;TZID=America/Chicago:20251101T203000
DTSTAMP:20260420T024115
CREATED:20250902T182407Z
LAST-MODIFIED:20250902T190418Z
UID:10004456-1762021800-1762029000@mineralspringsbrewery.com
SUMMARY:Andy Hughes
DESCRIPTION:Andy Hughes is an award-winning songwriter. As a live performer\, he has been a staple of the Midwest music scene for over 20 years. Andy is a difficult artist/performer to categorize. He is a member of many acts/groups. Although the styles of music have a wide range\, one thing is consistent; MUSIC is Andy’s life source. No matter the delivery or vehicle\, the music leads and drives the way.
URL:https://mineralspringsbrewery.com/event/andy-hughes-11/
LOCATION:Mineral Springs Brewery\, 210 N Oak Ave\, Suite 1\, Owatonna\, MN\, 55060\, United States
CATEGORIES:Music
ATTACH;FMTTYPE=image/jpeg:https://mineralspringsbrewery.com/wp-content/uploads/2022/08/AndyHughes2.jpg
END:VEVENT
END:VCALENDAR