BEGIN:VCALENDAR
VERSION:2.0
PRODID:-//Mineral Springs Brewery - ECPv6.15.20//NONSGML v1.0//EN
CALSCALE:GREGORIAN
METHOD:PUBLISH
X-WR-CALNAME:Mineral Springs Brewery
X-ORIGINAL-URL:https://mineralspringsbrewery.com
X-WR-CALDESC:Events for Mineral Springs Brewery
REFRESH-INTERVAL;VALUE=DURATION:PT1H
X-Robots-Tag:noindex
X-PUBLISHED-TTL:PT1H
BEGIN:VTIMEZONE
TZID:America/Chicago
BEGIN:DAYLIGHT
TZOFFSETFROM:-0600
TZOFFSETTO:-0500
TZNAME:CDT
DTSTART:20240310T080000
END:DAYLIGHT
BEGIN:STANDARD
TZOFFSETFROM:-0500
TZOFFSETTO:-0600
TZNAME:CST
DTSTART:20241103T070000
END:STANDARD
BEGIN:DAYLIGHT
TZOFFSETFROM:-0600
TZOFFSETTO:-0500
TZNAME:CDT
DTSTART:20250309T080000
END:DAYLIGHT
BEGIN:STANDARD
TZOFFSETFROM:-0500
TZOFFSETTO:-0600
TZNAME:CST
DTSTART:20251102T070000
END:STANDARD
BEGIN:DAYLIGHT
TZOFFSETFROM:-0600
TZOFFSETTO:-0500
TZNAME:CDT
DTSTART:20260308T080000
END:DAYLIGHT
BEGIN:STANDARD
TZOFFSETFROM:-0500
TZOFFSETTO:-0600
TZNAME:CST
DTSTART:20261101T070000
END:STANDARD
END:VTIMEZONE
BEGIN:VEVENT
DTSTART;TZID=America/Chicago:20251116T150000
DTEND;TZID=America/Chicago:20251116T150000
DTSTAMP:20260420T055915
CREATED:20250305T203948Z
LAST-MODIFIED:20250305T203954Z
UID:10002433-1763305200-1763305200@mineralspringsbrewery.com
SUMMARY:MSBGO
DESCRIPTION:On Sundays\, we’ll be hosting a free and fun game of chance! Come on down to play along and win FREE BEER!
URL:https://mineralspringsbrewery.com/event/msbgo-8/2025-11-16/
LOCATION:Mineral Springs Brewery\, 210 N Oak Ave\, Suite 1\, Owatonna\, MN\, 55060\, United States
CATEGORIES:Events
ATTACH;FMTTYPE=image/png:https://mineralspringsbrewery.com/wp-content/uploads/2022/04/Bingo.png
END:VEVENT
BEGIN:VEVENT
DTSTART;TZID=America/Chicago:20251116T180000
DTEND;TZID=America/Chicago:20251116T200000
DTSTAMP:20260420T055915
CREATED:20251022T155731Z
LAST-MODIFIED:20251022T155735Z
UID:10004733-1763316000-1763323200@mineralspringsbrewery.com
SUMMARY:Trivia & Brews for Homelessness Awareness
DESCRIPTION:Put your knowledge to the test for a great cause! 🍻Join us for 8 rounds of trivia\, great prizes\, and one free drink ticket—all for just $15\, with every dollar supporting The Lighthouse of Southern MN in their mission to end homelessness right here in Steele County.Come ready to challenge stereotypes\, bust myths about homelessness\, and show how much stronger we are when our community comes together.✨ Play. Learn. Give back. Together\, we can bring light beyond homelessness.
URL:https://mineralspringsbrewery.com/event/trivia-brews-for-homelessness-awareness/2025-11-16/
LOCATION:Mineral Springs Brewery\, 210 N Oak Ave\, Suite 1\, Owatonna\, MN\, 55060\, United States
CATEGORIES:Events
ATTACH;FMTTYPE=image/jpeg:https://mineralspringsbrewery.com/wp-content/uploads/2025/10/Lighthouse_Homeless_Trivia.jpg
END:VEVENT
BEGIN:VEVENT
DTSTART;TZID=America/Chicago:20251118T180000
DTEND;TZID=America/Chicago:20251118T180000
DTSTAMP:20260420T055915
CREATED:20250902T193131Z
LAST-MODIFIED:20251106T183517Z
UID:10003129-1763488800-1763488800@mineralspringsbrewery.com
SUMMARY:Name that Tune
DESCRIPTION:Just like it sounds! \n\n\n\nWe play clips of songs\, and your team tries to guess the correct song title and group/artist! \n\n\n\nFREE To PlayCrowlers or a gift card for the winning team as well as prizes given away throughout!Up To 6 People per Team
URL:https://mineralspringsbrewery.com/event/name-that-tune-20/
LOCATION:Mineral Springs Brewery\, 210 N Oak Ave\, Suite 1\, Owatonna\, MN\, 55060\, United States
CATEGORIES:Events
ATTACH;FMTTYPE=image/jpeg:https://mineralspringsbrewery.com/wp-content/uploads/2024/03/Black-White-Coming-Soon-Instagram-Post-Real-Estate-Flyer-scaled.jpeg
END:VEVENT
BEGIN:VEVENT
DTSTART;TZID=America/Chicago:20251118T183000
DTEND;TZID=America/Chicago:20251118T193000
DTSTAMP:20260420T055915
CREATED:20251022T005657Z
LAST-MODIFIED:20251022T005701Z
UID:10004551-1763490600-1763494200@mineralspringsbrewery.com
SUMMARY:Bruce Bernhart
DESCRIPTION:Bruce Bernhart has played in several bluegrass bands at the Steele County Fair over the past 35+ years\, plus various other county fairs across south-central Minnesota. \n\n\n\nBruce has also been featured playing mandolin on a number of CDs recorded by bands he’s been a part of since the early 90’s. Prior to the mandolin\, Bruce had been strumming the banjo and bass. Since then\, Bruce has mastered the lost art of flatpicking old time fiddle tunes on the guitar with no amplifier and no microphone.
URL:https://mineralspringsbrewery.com/event/bruce-bernhart-13/2025-11-18/
LOCATION:Mineral Springs Brewery\, 210 N Oak Ave\, Suite 1\, Owatonna\, MN\, 55060\, United States
CATEGORIES:Music
ATTACH;FMTTYPE=image/jpeg:https://mineralspringsbrewery.com/wp-content/uploads/2025/02/Image.jpg
END:VEVENT
BEGIN:VEVENT
DTSTART;TZID=America/Chicago:20251119T180000
DTEND;TZID=America/Chicago:20251119T180000
DTSTAMP:20260420T055915
CREATED:20250902T165904Z
LAST-MODIFIED:20250902T165916Z
UID:10002177-1763575200-1763575200@mineralspringsbrewery.com
SUMMARY:Trivia Mafia
DESCRIPTION:Trivia Mafia is a bar and brewery trivia operation based in Minneapolis\, Minnesota. They produce the highest-quality trivia nights in bars\, taprooms\, distilleries\, and private events every night of the week throughout the Midwest (and beyond!).  \n\n\n\nIf you’ve ever thought\, “I love trivia nights\, I just wish they were… I don’t know… better?” You’ve come to the right place!
URL:https://mineralspringsbrewery.com/event/trivia-night-20/2025-11-19/
LOCATION:Mineral Springs Brewery\, 210 N Oak Ave\, Suite 1\, Owatonna\, MN\, 55060\, United States
CATEGORIES:Events
ATTACH;FMTTYPE=image/png:https://mineralspringsbrewery.com/wp-content/uploads/2025/03/Mineral-Springs-Brewery_TMC_2025_IG.png
END:VEVENT
BEGIN:VEVENT
DTSTART;TZID=America/Chicago:20251120T170000
DTEND;TZID=America/Chicago:20251120T200000
DTSTAMP:20260420T055915
CREATED:20251105T144946Z
LAST-MODIFIED:20251105T151241Z
UID:10004746-1763658000-1763668800@mineralspringsbrewery.com
SUMMARY:Pour it Forward with GiveMN for SCFF
DESCRIPTION:Join us here at MSB for a day of generous pours and donations! \n\n\n\nIn honor of Minnesota’s largest giving day\, MSB is partnering with GiveMN\, the host of Give to the Max Day\, and will be donating $1 per pour on November 20th to the Steele County Free Fair! The SCFF is one of Southern Minnesota’s greatest assets\, and MSB has always been proud to support the great work of the SCFF and all who make it a tremendous success! \n\n\n\nSteely and Stella will be on site to thank you for your support! \n\n\n\nThere might even be some breaking news about the 2026 Steele County Free Fair being made too👀…
URL:https://mineralspringsbrewery.com/event/pour-it-forward-with-givemn-for-scff/
LOCATION:Mineral Springs Brewery\, 210 N Oak Ave\, Suite 1\, Owatonna\, MN\, 55060\, United States
CATEGORIES:Events
ATTACH;FMTTYPE=image/jpeg:https://mineralspringsbrewery.com/wp-content/uploads/2025/11/PouritForwardGiveMNSCFF.jpg
END:VEVENT
BEGIN:VEVENT
DTSTART;TZID=America/Chicago:20251121T190000
DTEND;TZID=America/Chicago:20251121T200000
DTSTAMP:20260420T055915
CREATED:20250902T191505Z
LAST-MODIFIED:20251106T190850Z
UID:10004465-1763751600-1763755200@mineralspringsbrewery.com
SUMMARY:Little Fish Improv
DESCRIPTION:Little Fish Improv is a group of local actors and comedians that bring Improv to life! \n\n\n\nNo two shows are the same; please join us as this troupe brings comedy to life through the art of improv. \n\n\n\nTheir improv is family friendly for people of all ages. The evening guarantees to be FULL of laughter for all!
URL:https://mineralspringsbrewery.com/event/little-fish-improv-5/
LOCATION:Mineral Springs Brewery\, 210 N Oak Ave\, Suite 1\, Owatonna\, MN\, 55060\, United States
CATEGORIES:Events
ATTACH;FMTTYPE=image/jpeg:https://mineralspringsbrewery.com/wp-content/uploads/2025/01/Little-Fish-Improv.jpg
END:VEVENT
BEGIN:VEVENT
DTSTART;TZID=America/Chicago:20251122T130000
DTEND;TZID=America/Chicago:20251122T160000
DTSTAMP:20260420T055915
CREATED:20251105T164017Z
LAST-MODIFIED:20251105T164022Z
UID:10004750-1763816400-1763827200@mineralspringsbrewery.com
SUMMARY:Owatonna Board Game Crew - Weekly Game Meetup
DESCRIPTION:Saturday afternoons we’re hosting the Owatonna Board Games Crew for a few hours\, welcome to all gamers! Check out the Facebook event page\, linked below\, to learn more about the specifics of the week!
URL:https://mineralspringsbrewery.com/event/owatonna-board-game-crew-weekly-game-meetup/2025-11-22/
LOCATION:Mineral Springs Brewery\, 210 N Oak Ave\, Suite 1\, Owatonna\, MN\, 55060\, United States
CATEGORIES:Events
ATTACH;FMTTYPE=image/png:https://mineralspringsbrewery.com/wp-content/uploads/2025/11/owatonna-board-game-crew-flier-3.png
END:VEVENT
BEGIN:VEVENT
DTSTART;TZID=America/Chicago:20251122T180000
DTEND;TZID=America/Chicago:20251122T200000
DTSTAMP:20260420T055915
CREATED:20251106T191204Z
LAST-MODIFIED:20251106T191206Z
UID:10005010-1763834400-1763841600@mineralspringsbrewery.com
SUMMARY:Angel Val
DESCRIPTION:Angel grew up listening to her mom sing in an 80s rock band. She has a strong background and love for rock music and has grown to love country as well. Angel has taken her two favorite genre’s and mixed them into a more rock country style. Angel began playing guitar in Jr High where she found her passion for writing. \n\n\n\nAngel began working with her friend and now manager and producer\, Doug Olson in 2016 when they recorded her 1st album\, Gravel Road\, in Nashville with producer Buddy Hyatt. \n\n\n\n\nAngel puts her Mom at the top of her Influences… Growing up watching her Mom sing and perform has giving her the inspiration and drive to continue the passion for music. She also credits Miranda Lambert and the Cranberries. Angel also uses personal experiences in life to influence her writing… Such as relationships and spending time with friends. \n\n\n\n\nWhether you are looking for a solo acoustic show\, duet\, or full band\, Angel Val delivers a great performance!
URL:https://mineralspringsbrewery.com/event/angel-val-6/
LOCATION:Mineral Springs Brewery\, 210 N Oak Ave\, Suite 1\, Owatonna\, MN\, 55060\, United States
CATEGORIES:Music
ATTACH;FMTTYPE=image/jpeg:https://mineralspringsbrewery.com/wp-content/uploads/2023/11/Angel-Val-Music.jpg
END:VEVENT
BEGIN:VEVENT
DTSTART;TZID=America/Chicago:20251122T183000
DTEND;TZID=America/Chicago:20251122T213000
DTSTAMP:20260420T055915
CREATED:20251105T150728Z
LAST-MODIFIED:20251110T213534Z
UID:10004747-1763836200-1763847000@mineralspringsbrewery.com
SUMMARY:Let's Smile\, Giggle\, & Laugh Comedy Night Fundraiser - 7th Annual
DESCRIPTION:Join us for a night of laughter and fun at our 7th Annual Let’s Smile\, Giggle\, & Laugh Comedy Night Fundraiser! \n\n\n\nLet’s Smile\, Giggle\, and Laugh together with comedians Grant Winkels and Trevor Anderson while raising funds to support our Dental Programs! Our 2025 event will be held at Mineral Springs Brewery in their event room and includes one free pour. Food will be available for purchase from a variety of food trucks. \n\n\n\nOur MCs this year are David & Karen Legault. \n\n\n\nNew this year: instead of raffle tickets\, we will feature a live auction of exciting\, high-value items during the event! \n\n\n\nSocial hour will be from 6:30pm to 7:30pm\, followed by the comedy show. Don’t miss out on this fun-filled night of laughter\, great food and drinks\, and an opportunity to support a wonderful cause! \n\n\n\n\n\n\n\n\n\nHeadliner – Trevor Anderson\n\n\n\nTrevor Anderson is a Wisconsin born\, Minneapolis based stand up comedian who has been making a name for himself throughout the Midwest over the past decade. His intelligent and charmingly enthusiastic approach to comedy helps him connect with and entertain any audience. Quick wit and clean\, quirky takes on everyday observations and family life make Trevor’s comedy widely accessible\, yet completely one of a kind. His debut album “Stay At Home Dude” was released on Ghost Runner Records and has been featured on the Sirius XM channels “Pure Comedy” and “Jeff & Larry’s Comedy Roundup”. \n\n\n\n\n\n\n\n\n\nGrant Winkels\n\n\n\nGrant Winkels has been performing his whole life. After years of gigging as a musician\, he finally convinced himself that he was funny. He’s been convincing audiences ever since. Selected as a “Comic to Watch” by Racket Magazine\, he has performed at the New York City Comedy Festival\, West End Comedy Fest and Fountain City Comedy Festival among others. Grant is a producer for the acclaimed 10\,000 Laughs Comedy Festival\, a paid regular at Acme Comedy Company and hosts the popular Sisyphus Brewing Open Mic.
URL:https://mineralspringsbrewery.com/event/lets-smile-giggle-laugh-comedy-night-fundraiser-7th-annual/
LOCATION:Mineral Springs Brewery\, 210 N Oak Ave\, Suite 1\, Owatonna\, MN\, 55060\, United States
CATEGORIES:Events
ATTACH;FMTTYPE=image/jpeg:https://mineralspringsbrewery.com/wp-content/uploads/2025/11/LetsSmile2025GiggleandLaughFundraiser.jpg
END:VEVENT
END:VCALENDAR