BEGIN:VCALENDAR
VERSION:2.0
PRODID:-//Mineral Springs Brewery - ECPv6.15.20//NONSGML v1.0//EN
CALSCALE:GREGORIAN
METHOD:PUBLISH
X-WR-CALNAME:Mineral Springs Brewery
X-ORIGINAL-URL:https://mineralspringsbrewery.com
X-WR-CALDESC:Events for Mineral Springs Brewery
REFRESH-INTERVAL;VALUE=DURATION:PT1H
X-Robots-Tag:noindex
X-PUBLISHED-TTL:PT1H
BEGIN:VTIMEZONE
TZID:America/Chicago
BEGIN:DAYLIGHT
TZOFFSETFROM:-0600
TZOFFSETTO:-0500
TZNAME:CDT
DTSTART:20240310T080000
END:DAYLIGHT
BEGIN:STANDARD
TZOFFSETFROM:-0500
TZOFFSETTO:-0600
TZNAME:CST
DTSTART:20241103T070000
END:STANDARD
BEGIN:DAYLIGHT
TZOFFSETFROM:-0600
TZOFFSETTO:-0500
TZNAME:CDT
DTSTART:20250309T080000
END:DAYLIGHT
BEGIN:STANDARD
TZOFFSETFROM:-0500
TZOFFSETTO:-0600
TZNAME:CST
DTSTART:20251102T070000
END:STANDARD
BEGIN:DAYLIGHT
TZOFFSETFROM:-0600
TZOFFSETTO:-0500
TZNAME:CDT
DTSTART:20260308T080000
END:DAYLIGHT
BEGIN:STANDARD
TZOFFSETFROM:-0500
TZOFFSETTO:-0600
TZNAME:CST
DTSTART:20261101T070000
END:STANDARD
END:VTIMEZONE
BEGIN:VEVENT
DTSTART;TZID=America/Chicago:20251130T150000
DTEND;TZID=America/Chicago:20251130T150000
DTSTAMP:20260420T025932
CREATED:20250305T203948Z
LAST-MODIFIED:20250305T203954Z
UID:10002435-1764514800-1764514800@mineralspringsbrewery.com
SUMMARY:MSBGO
DESCRIPTION:On Sundays\, we’ll be hosting a free and fun game of chance! Come on down to play along and win FREE BEER!
URL:https://mineralspringsbrewery.com/event/msbgo-8/2025-11-30/
LOCATION:Mineral Springs Brewery\, 210 N Oak Ave\, Suite 1\, Owatonna\, MN\, 55060\, United States
CATEGORIES:Events
ATTACH;FMTTYPE=image/png:https://mineralspringsbrewery.com/wp-content/uploads/2022/04/Bingo.png
END:VEVENT
BEGIN:VEVENT
DTSTART;TZID=America/Chicago:20251202T180000
DTEND;TZID=America/Chicago:20251202T200000
DTSTAMP:20260420T025932
CREATED:20251018T183046Z
LAST-MODIFIED:20251202T014812Z
UID:10004547-1764698400-1764705600@mineralspringsbrewery.com
SUMMARY:Holiday Candlelight Charcuterie Workshop
DESCRIPTION:Learn the art of creating a beautiful charcuterie board in From the Diner’s fun\, hands on winter holiday charcuterie workshop! \n\n\n\nYou will learn food selection ideas\, meat folding techniques\, cheese cutting & styling\, fall cheese pairing & tastings\, foodie tips & tricks and so much more to create a stunning fall themed charcuterie board! \n\n\n\nWhat’s Included:*A palm leaf plate\, meat\, cheeses\, fruits\, nuts\, olives\, crackers\, jam\, chocolate\, garnish\, step by step instruction\, a small gift\, a PDF of From the Diner’s workshop outline and a beverage!The best part is you take home your own creation! \n\n\n\nRegister using the link below!
URL:https://mineralspringsbrewery.com/event/holiday-candlelight-charcuterie-workshop/
LOCATION:Mineral Springs Brewery\, 210 N Oak Ave\, Suite 1\, Owatonna\, MN\, 55060\, United States
CATEGORIES:Events
ATTACH;FMTTYPE=image/jpeg:https://mineralspringsbrewery.com/wp-content/uploads/2025/10/Winter-Holiday-Charcuterie-From-the-Diner.jpg
ORGANIZER;CN="From the Diner":MAILTO:dawn@fromthediner.com
END:VEVENT
BEGIN:VEVENT
DTSTART;TZID=America/Chicago:20251202T183000
DTEND;TZID=America/Chicago:20251202T193000
DTSTAMP:20260420T025932
CREATED:20251022T005233Z
LAST-MODIFIED:20251022T005552Z
UID:10004672-1764700200-1764703800@mineralspringsbrewery.com
SUMMARY:Bruce Bernhart
DESCRIPTION:Bruce Bernhart has played in several bluegrass bands at the Steele County Fair over the past 35+ years\, plus various other county fairs across south-central Minnesota. \n\n\n\nBruce has also been featured playing mandolin on a number of CDs recorded by bands he’s been a part of since the early 90’s. Prior to the mandolin\, Bruce had been strumming the banjo and bass. Since then\, Bruce has mastered the lost art of flatpicking old time fiddle tunes on the guitar with no amplifier and no microphone.
URL:https://mineralspringsbrewery.com/event/bruce-bernhart-12/2025-12-02/
LOCATION:Mineral Springs Brewery\, 210 N Oak Ave\, Suite 1\, Owatonna\, MN\, 55060\, United States
CATEGORIES:Music
ATTACH;FMTTYPE=image/jpeg:https://mineralspringsbrewery.com/wp-content/uploads/2025/02/Image.jpg
END:VEVENT
BEGIN:VEVENT
DTSTART;TZID=America/Chicago:20251203T180000
DTEND;TZID=America/Chicago:20251203T180000
DTSTAMP:20260420T025932
CREATED:20250902T165904Z
LAST-MODIFIED:20250902T165916Z
UID:10002179-1764784800-1764784800@mineralspringsbrewery.com
SUMMARY:Trivia Mafia
DESCRIPTION:Trivia Mafia is a bar and brewery trivia operation based in Minneapolis\, Minnesota. They produce the highest-quality trivia nights in bars\, taprooms\, distilleries\, and private events every night of the week throughout the Midwest (and beyond!).  \n\n\n\nIf you’ve ever thought\, “I love trivia nights\, I just wish they were… I don’t know… better?” You’ve come to the right place!
URL:https://mineralspringsbrewery.com/event/trivia-night-20/2025-12-03/
LOCATION:Mineral Springs Brewery\, 210 N Oak Ave\, Suite 1\, Owatonna\, MN\, 55060\, United States
CATEGORIES:Events
ATTACH;FMTTYPE=image/png:https://mineralspringsbrewery.com/wp-content/uploads/2025/03/Mineral-Springs-Brewery_TMC_2025_IG.png
END:VEVENT
BEGIN:VEVENT
DTSTART;TZID=America/Chicago:20251204T193000
DTEND;TZID=America/Chicago:20251204T220000
DTSTAMP:20260420T025932
CREATED:20251030T233759Z
LAST-MODIFIED:20251030T233809Z
UID:10004745-1764876600-1764885600@mineralspringsbrewery.com
SUMMARY:National Finals Rodeo Watch Party
DESCRIPTION:MSB & the Mowry’s Lazy Meadows\, Ride for the Brand program will be hosting a National Finals Rodeo Round #1 Watch party. Come and watch the nation’s top cowboys and cowgirls compete for the “GOLD BUCKLE” as well as hundreds of thousands of dollars in prize money for each event. The National Finals Rodeo held in Las Vegas each years is known as the “super bowl” of rodeo where you’ll see events like Saddle Bronc\, Bareback\, Bulling riding\, Steer Wrestling\, Tie Down Calf Roping\, Team Roping\, and WPRA Barrel Racing. \n\n\n\nExcitement Starts at 7:30pm but come early to enjoy a beverage and mingle with other Rodeo enthusiasts! We hope to see you there – you won’t want to miss a second of the fun and excitement! “Let’m Buck!”
URL:https://mineralspringsbrewery.com/event/national-finals-rodeo-watch-party/
LOCATION:Mineral Springs Brewery\, 210 N Oak Ave\, Suite 1\, Owatonna\, MN\, 55060\, United States
CATEGORIES:Events
ATTACH;FMTTYPE=image/png:https://mineralspringsbrewery.com/wp-content/uploads/2025/10/NATIONAL-FINALS-RODEO-WATCH-PARTY-Logo.png
END:VEVENT
BEGIN:VEVENT
DTSTART;TZID=America/Chicago:20251206T130000
DTEND;TZID=America/Chicago:20251206T160000
DTSTAMP:20260420T025932
CREATED:20251105T164017Z
LAST-MODIFIED:20251105T164022Z
UID:10004752-1765026000-1765036800@mineralspringsbrewery.com
SUMMARY:Owatonna Board Game Crew - Weekly Game Meetup
DESCRIPTION:Saturday afternoons we’re hosting the Owatonna Board Games Crew for a few hours\, welcome to all gamers! Check out the Facebook event page\, linked below\, to learn more about the specifics of the week!
URL:https://mineralspringsbrewery.com/event/owatonna-board-game-crew-weekly-game-meetup/2025-12-06/
LOCATION:Mineral Springs Brewery\, 210 N Oak Ave\, Suite 1\, Owatonna\, MN\, 55060\, United States
CATEGORIES:Events
ATTACH;FMTTYPE=image/png:https://mineralspringsbrewery.com/wp-content/uploads/2025/11/owatonna-board-game-crew-flier-3.png
END:VEVENT
BEGIN:VEVENT
DTSTART;TZID=America/Chicago:20251206T183000
DTEND;TZID=America/Chicago:20251206T203000
DTSTAMP:20260420T025932
CREATED:20250902T193417Z
LAST-MODIFIED:20251210T233126Z
UID:10004473-1765045800-1765053000@mineralspringsbrewery.com
SUMMARY:Mike Fugazzi (The Real Spooky Mike)
DESCRIPTION:Mike Fugazzi is a dynamic harmonica player and vocalist with over 20 years of experience pushing the instrument beyond its traditional role. Known for his lyrical phrasing\, soulful tone\, and technical precision\, he seamlessly blends harmonica into rock\, blues\, and country music—whether as a melodic lead\, a rhythmic accent\, or an atmospheric texture. A seasoned live performer and recording artist\, Mike has built a strong reputation across the Midwest and online\, showcasing harmonica’s power in modern rock settings. His innovative approach often replaces traditional guitar or horn parts\, making him a go-to collaborator for artists seeking a fresh\, expressive sound. \n\n\n\n\nhttps://www.tiktok.com/@harpninjamike\n\n\n\n\nDM him to collab!
URL:https://mineralspringsbrewery.com/event/mike-fugazzi-the-real-spooky-mike-2/
LOCATION:Mineral Springs Brewery\, 210 N Oak Ave\, Suite 1\, Owatonna\, MN\, 55060\, United States
CATEGORIES:Music
ATTACH;FMTTYPE=image/png:https://mineralspringsbrewery.com/wp-content/uploads/2025/05/Mike-Fugazzi-Harmonica.png
END:VEVENT
END:VCALENDAR