BEGIN:VCALENDAR
VERSION:2.0
PRODID:-//Mineral Springs Brewery - ECPv6.15.20//NONSGML v1.0//EN
CALSCALE:GREGORIAN
METHOD:PUBLISH
X-ORIGINAL-URL:https://mineralspringsbrewery.com
X-WR-CALDESC:Events for Mineral Springs Brewery
REFRESH-INTERVAL;VALUE=DURATION:PT1H
X-Robots-Tag:noindex
X-PUBLISHED-TTL:PT1H
BEGIN:VTIMEZONE
TZID:America/Chicago
BEGIN:DAYLIGHT
TZOFFSETFROM:-0600
TZOFFSETTO:-0500
TZNAME:CDT
DTSTART:20240310T080000
END:DAYLIGHT
BEGIN:STANDARD
TZOFFSETFROM:-0500
TZOFFSETTO:-0600
TZNAME:CST
DTSTART:20241103T070000
END:STANDARD
BEGIN:DAYLIGHT
TZOFFSETFROM:-0600
TZOFFSETTO:-0500
TZNAME:CDT
DTSTART:20250309T080000
END:DAYLIGHT
BEGIN:STANDARD
TZOFFSETFROM:-0500
TZOFFSETTO:-0600
TZNAME:CST
DTSTART:20251102T070000
END:STANDARD
BEGIN:DAYLIGHT
TZOFFSETFROM:-0600
TZOFFSETTO:-0500
TZNAME:CDT
DTSTART:20260308T080000
END:DAYLIGHT
BEGIN:STANDARD
TZOFFSETFROM:-0500
TZOFFSETTO:-0600
TZNAME:CST
DTSTART:20261101T070000
END:STANDARD
END:VTIMEZONE
BEGIN:VEVENT
DTSTART;TZID=America/Chicago:20251221T150000
DTEND;TZID=America/Chicago:20251221T150000
DTSTAMP:20260420T113923
CREATED:20250305T203948Z
LAST-MODIFIED:20250305T203954Z
UID:10002438-1766329200-1766329200@mineralspringsbrewery.com
SUMMARY:MSBGO
DESCRIPTION:On Sundays\, we’ll be hosting a free and fun game of chance! Come on down to play along and win FREE BEER!
URL:https://mineralspringsbrewery.com/event/msbgo-8/2025-12-21/
LOCATION:Mineral Springs Brewery\, 210 N Oak Ave\, Suite 1\, Owatonna\, MN\, 55060\, United States
CATEGORIES:Events
ATTACH;FMTTYPE=image/png:https://mineralspringsbrewery.com/wp-content/uploads/2022/04/Bingo.png
END:VEVENT
BEGIN:VEVENT
DTSTART;TZID=America/Chicago:20251223T180000
DTEND;TZID=America/Chicago:20251223T200000
DTSTAMP:20260420T113923
CREATED:20251009T235738Z
LAST-MODIFIED:20251009T235741Z
UID:10004508-1766512800-1766520000@mineralspringsbrewery.com
SUMMARY:Chris Mims
DESCRIPTION:From the soulful rhythms of blues to the electrifying melodies of rock and country\, Chris Mims is a versatile guitarist and singer with over 30 years of experience.
URL:https://mineralspringsbrewery.com/event/chris-mims-10/
LOCATION:Mineral Springs Brewery\, 210 N Oak Ave\, Suite 1\, Owatonna\, MN\, 55060\, United States
CATEGORIES:Music
ATTACH;FMTTYPE=image/jpeg:https://mineralspringsbrewery.com/wp-content/uploads/2024/04/ChrisMims.jpg
END:VEVENT
BEGIN:VEVENT
DTSTART;TZID=America/Chicago:20251225T000000
DTEND;TZID=America/Chicago:20251225T235959
DTSTAMP:20260420T113923
CREATED:20251217T152138Z
LAST-MODIFIED:20251217T152146Z
UID:10005054-1766620800-1766707199@mineralspringsbrewery.com
SUMMARY:Closed
DESCRIPTION:We’re taking a break from the taps to spend the holiday with family and friends. We hope your holidays are filled with good cheer and even better company (maybe some MSB beer too)! We’ll be back to our regularly scheduled beer brewing and pouring tomorrow. \n\n\n\nCheers!
URL:https://mineralspringsbrewery.com/event/closed-6/
LOCATION:Mineral Springs Brewery\, 210 N Oak Ave\, Suite 1\, Owatonna\, MN\, 55060\, United States
CATEGORIES:Events
END:VEVENT
BEGIN:VEVENT
DTSTART;TZID=America/Chicago:20251226T180000
DTEND;TZID=America/Chicago:20251226T200000
DTSTAMP:20260420T113923
CREATED:20251202T210631Z
LAST-MODIFIED:20251202T210638Z
UID:10005021-1766772000-1766779200@mineralspringsbrewery.com
SUMMARY:Joe Tutewohl
DESCRIPTION:Joe Tutewohl has a love for folk\, alternative/indie rock and lo fi pop. Drawing inspiration from the likes of Elliott Smith\, Radiohead\, Bright Eyes\, Jeff Buckley\, Iron & Wine\, Sufjan Stevens and so many more! Joe likes to play an eclectic mix of originals and covers!
URL:https://mineralspringsbrewery.com/event/joe-tutewohl/
LOCATION:Mineral Springs Brewery\, 210 N Oak Ave\, Suite 1\, Owatonna\, MN\, 55060\, United States
CATEGORIES:Music
ATTACH;FMTTYPE=image/jpeg:https://mineralspringsbrewery.com/wp-content/uploads/2025/12/JoeTotewohl.jpg
END:VEVENT
BEGIN:VEVENT
DTSTART;TZID=America/Chicago:20251227T090000
DTEND;TZID=America/Chicago:20251227T150000
DTSTAMP:20260420T113923
CREATED:20251225T221551Z
LAST-MODIFIED:20251225T221559Z
UID:10005055-1766826000-1766847600@mineralspringsbrewery.com
SUMMARY:Owatonna Sports Card Show
DESCRIPTION:
URL:https://mineralspringsbrewery.com/event/owatonna-sports-card-show/
LOCATION:Mineral Springs Brewery\, 210 N Oak Ave\, Suite 1\, Owatonna\, MN\, 55060\, United States
CATEGORIES:Events
ATTACH;FMTTYPE=image/jpeg:https://mineralspringsbrewery.com/wp-content/uploads/2025/12/1766583145257_Owatonna_.jpeg
END:VEVENT
BEGIN:VEVENT
DTSTART;TZID=America/Chicago:20251227T130000
DTEND;TZID=America/Chicago:20251227T160000
DTSTAMP:20260420T113923
CREATED:20251105T164017Z
LAST-MODIFIED:20251105T164022Z
UID:10004755-1766840400-1766851200@mineralspringsbrewery.com
SUMMARY:Owatonna Board Game Crew - Weekly Game Meetup
DESCRIPTION:Saturday afternoons we’re hosting the Owatonna Board Games Crew for a few hours\, welcome to all gamers! Check out the Facebook event page\, linked below\, to learn more about the specifics of the week!
URL:https://mineralspringsbrewery.com/event/owatonna-board-game-crew-weekly-game-meetup/2025-12-27/
LOCATION:Mineral Springs Brewery\, 210 N Oak Ave\, Suite 1\, Owatonna\, MN\, 55060\, United States
CATEGORIES:Events
ATTACH;FMTTYPE=image/png:https://mineralspringsbrewery.com/wp-content/uploads/2025/11/owatonna-board-game-crew-flier-3.png
END:VEVENT
BEGIN:VEVENT
DTSTART;TZID=America/Chicago:20251227T180000
DTEND;TZID=America/Chicago:20251227T200000
DTSTAMP:20260420T113923
CREATED:20240919T020436Z
LAST-MODIFIED:20251009T235908Z
UID:10003556-1766858400-1766865600@mineralspringsbrewery.com
SUMMARY:Gary Van Whalen
DESCRIPTION:Gary Ebnet & Colin Whalen; the best of both worlds\, on one medium stage!
URL:https://mineralspringsbrewery.com/event/gary-van-whalen/
LOCATION:Mineral Springs Brewery\, 210 N Oak Ave\, Suite 1\, Owatonna\, MN\, 55060\, United States
CATEGORIES:Music
ATTACH;FMTTYPE=image/jpeg:https://mineralspringsbrewery.com/wp-content/uploads/2023/11/Ebnet-Van-Whalen-e1726711457853.jpg
END:VEVENT
END:VCALENDAR