BEGIN:VCALENDAR
VERSION:2.0
PRODID:-//Mineral Springs Brewery - ECPv6.15.20//NONSGML v1.0//EN
CALSCALE:GREGORIAN
METHOD:PUBLISH
X-WR-CALNAME:Mineral Springs Brewery
X-ORIGINAL-URL:https://mineralspringsbrewery.com
X-WR-CALDESC:Events for Mineral Springs Brewery
REFRESH-INTERVAL;VALUE=DURATION:PT1H
X-Robots-Tag:noindex
X-PUBLISHED-TTL:PT1H
BEGIN:VTIMEZONE
TZID:America/Chicago
BEGIN:DAYLIGHT
TZOFFSETFROM:-0600
TZOFFSETTO:-0500
TZNAME:CDT
DTSTART:20250309T080000
END:DAYLIGHT
BEGIN:STANDARD
TZOFFSETFROM:-0500
TZOFFSETTO:-0600
TZNAME:CST
DTSTART:20251102T070000
END:STANDARD
BEGIN:DAYLIGHT
TZOFFSETFROM:-0600
TZOFFSETTO:-0500
TZNAME:CDT
DTSTART:20260308T080000
END:DAYLIGHT
BEGIN:STANDARD
TZOFFSETFROM:-0500
TZOFFSETTO:-0600
TZNAME:CST
DTSTART:20261101T070000
END:STANDARD
BEGIN:DAYLIGHT
TZOFFSETFROM:-0600
TZOFFSETTO:-0500
TZNAME:CDT
DTSTART:20270314T080000
END:DAYLIGHT
BEGIN:STANDARD
TZOFFSETFROM:-0500
TZOFFSETTO:-0600
TZNAME:CST
DTSTART:20271107T070000
END:STANDARD
END:VTIMEZONE
BEGIN:VEVENT
DTSTART;TZID=America/Chicago:20260208T150000
DTEND;TZID=America/Chicago:20260208T150000
DTSTAMP:20260420T210929
CREATED:20250305T203948Z
LAST-MODIFIED:20250305T203954Z
UID:10002445-1770562800-1770562800@mineralspringsbrewery.com
SUMMARY:MSBGO
DESCRIPTION:On Sundays\, we’ll be hosting a free and fun game of chance! Come on down to play along and win FREE BEER!
URL:https://mineralspringsbrewery.com/event/msbgo-8/2026-02-08/
LOCATION:Mineral Springs Brewery\, 210 N Oak Ave\, Suite 1\, Owatonna\, MN\, 55060\, United States
CATEGORIES:Events
ATTACH;FMTTYPE=image/png:https://mineralspringsbrewery.com/wp-content/uploads/2022/04/Bingo.png
END:VEVENT
BEGIN:VEVENT
DTSTART;TZID=America/Chicago:20260211T180000
DTEND;TZID=America/Chicago:20260211T180000
DTSTAMP:20260420T210929
CREATED:20260123T234546Z
LAST-MODIFIED:20260123T234548Z
UID:10005100-1770832800-1770832800@mineralspringsbrewery.com
SUMMARY:Frontal Cortex Freeze - Trivia Tournament
DESCRIPTION:This is our annual 4-week winter trivia tournament! You and up to 5 teammates will register to take part and win prizes! \n\n\n\nIf you’re not signed up\, no worries! You can still play trivia alongside the tournament teams and win weekly prizes! \n\n\n\nPoints: \n\n\n\n\nOne point is recorded for every correct answer submitted throughout the four weeks\n\n\n\nTie Breaker: Most correct answers for questions 1-15\n\nIf still tied after ‘Tie Breaker’: Most correct answers for questions 16-25\n\n\n\n\n\nA team may participate with as few as one team member present\n\n\n\nTournament scoring will be managed outside of the normal weekly play\n\n\n\nAll participating teams will have the opportunity to win the weekly contest\, including those also participating in the four-week tournament\n\n\n\n\nTournament Prizes: \n\n\n\n\nOne of a kind MSB Frontal Cortex Freeze t-shirt for each member of the winning team; will obtain sizing and place order after completion of tournament\n\n\n\nBragging rights … bottom line! Team photo placed on the recognition shelves at MSB.\n\n\n\n\nOur weekly trivia will continue as normal\, with teams participating in the tournament also able to win weekly trivia! \n\n\n\n(No new team members once game play begins on 1/21)
URL:https://mineralspringsbrewery.com/event/frontal-cortex-freeze-trivia-tournament-3/2026-02-11/
LOCATION:Mineral Springs Brewery\, 210 N Oak Ave\, Suite 1\, Owatonna\, MN\, 55060\, United States
CATEGORIES:Events
ATTACH;FMTTYPE=image/png:https://mineralspringsbrewery.com/wp-content/uploads/2026/01/FRONTAL-CORTEX-FREEZE-scaled.png
END:VEVENT
BEGIN:VEVENT
DTSTART;TZID=America/Chicago:20260212T173000
DTEND;TZID=America/Chicago:20260212T190000
DTSTAMP:20260420T210929
CREATED:20250305T203841Z
LAST-MODIFIED:20250305T203847Z
UID:10003072-1770917400-1770922800@mineralspringsbrewery.com
SUMMARY:News & Brews
DESCRIPTION:Annie Harman\, the Owatonna People’s Press editor\, will be with us to discuss all things having to do with the OPP newspaper\, answer questions\, hear your news tips and more. Learn more about giveaways from both MSB and OPP when you check in at the event!
URL:https://mineralspringsbrewery.com/event/news-brews-7/2026-02-12/
LOCATION:Mineral Springs Brewery\, 210 N Oak Ave\, Suite 1\, Owatonna\, MN\, 55060\, United States
CATEGORIES:Events
ATTACH;FMTTYPE=image/jpeg:https://mineralspringsbrewery.com/wp-content/uploads/2024/06/News-and-Brews-spec-3x6.25.jpg
END:VEVENT
BEGIN:VEVENT
DTSTART;TZID=America/Chicago:20260212T180000
DTEND;TZID=America/Chicago:20260212T200000
DTSTAMP:20260420T210929
CREATED:20250828T191007Z
LAST-MODIFIED:20250828T191014Z
UID:10004356-1770919200-1770926400@mineralspringsbrewery.com
SUMMARY:The Initials Game Live
DESCRIPTION:Based on the addictive trivia game made famous on KFAN radio! \n\n\n\nTrivia Mafia has partnered with the creators of The Initials Game—famously played every Friday on KFAN’s “Power Trip Morning Show”—to bring this addictive trivia game to the masses. The Initials Game Live is a fun and competitive general knowledge and pop culture party game for players of all skill levels. Gather your friends and test your wits as you try to guess the initials of famous people\, places\, and things.
URL:https://mineralspringsbrewery.com/event/the-initials-game-live-4/2026-02-12/
LOCATION:Mineral Springs Brewery\, 210 N Oak Ave\, Suite 1\, Owatonna\, MN\, 55060\, United States
CATEGORIES:Events
ATTACH;FMTTYPE=image/png:https://mineralspringsbrewery.com/wp-content/uploads/2025/08/General-IGL-Poster.png
END:VEVENT
BEGIN:VEVENT
DTSTART;TZID=America/Chicago:20260214T130000
DTEND;TZID=America/Chicago:20260214T150000
DTSTAMP:20260420T210929
CREATED:20260204T181733Z
LAST-MODIFIED:20260204T181743Z
UID:10004762-1771074000-1771081200@mineralspringsbrewery.com
SUMMARY:Owatonna Board Game Crew - Weekly Game Meetup
DESCRIPTION:Saturday afternoons we’re hosting the Owatonna Board Games Crew for a few hours\, welcome to all gamers! Check out the Facebook event page\, linked below\, to learn more about the specifics of the week!
URL:https://mineralspringsbrewery.com/event/owatonna-board-game-crew-weekly-game-meetup-2/2026-02-14/
LOCATION:Mineral Springs Brewery\, 210 N Oak Ave\, Suite 1\, Owatonna\, MN\, 55060\, United States
CATEGORIES:Events
ATTACH;FMTTYPE=image/png:https://mineralspringsbrewery.com/wp-content/uploads/2025/11/owatonna-board-game-crew-flier-3.png
END:VEVENT
BEGIN:VEVENT
DTSTART;TZID=America/Chicago:20260214T140000
DTEND;TZID=America/Chicago:20260214T160000
DTSTAMP:20260420T210929
CREATED:20260204T170445Z
LAST-MODIFIED:20260204T170535Z
UID:10005101-1771077600-1771084800@mineralspringsbrewery.com
SUMMARY:Sip & Uke - Disney
DESCRIPTION:What better way to enjoy the early part of 💘💕 Valentine’s Day 💘💕 than with the family\, a beer\, and Disney tunes!?! We’ve partnered with Tone Music to put on a Sip & Uke Disney afternoon! \n\n\n\n We’ll learn Disney songs on the ukulele! You can bring your own ukulele or there will be ukuleles supplied to borrow \n\n\n\n Bring the kids\, grandkids\, nieces & nephews\, or even the neighbor kids! ALL AGES are welcome to join us! \n\n\n\n Not so much of a ukulele player? No worries! Feel free to hang out and enjoy the tunes or even sing along too! \n\n\n\n Have no kids to join you\, but want to come? ABSOLUTELY! \n\n\n\n Adults are $25 (price includes music and our signature glassware) Kids ages 5-18 are $10 (includes music) \n\n\n\n Please note: All kids must be accompanied by at least one adult – this is not a drop-off event. \n\n\n\n\n$10 Kids Tickets Here!\n\n\n\n$25 Adult Tickets Here!
URL:https://mineralspringsbrewery.com/event/sip-uke-disney/
LOCATION:Mineral Springs Brewery\, 210 N Oak Ave\, Suite 1\, Owatonna\, MN\, 55060\, United States
CATEGORIES:Events
ATTACH;FMTTYPE=image/jpeg:https://mineralspringsbrewery.com/wp-content/uploads/2026/02/Sip_Uke_Disney_FAMILY_20260201114812.jpg
ORGANIZER;CN="Tone Music Store":MAILTO:info@tonemusicstore.com
END:VEVENT
BEGIN:VEVENT
DTSTART;TZID=America/Chicago:20260214T183000
DTEND;TZID=America/Chicago:20260214T213000
DTSTAMP:20260420T210929
CREATED:20260204T173429Z
LAST-MODIFIED:20260204T173437Z
UID:10005103-1771093800-1771104600@mineralspringsbrewery.com
SUMMARY:Los T Band
DESCRIPTION:
URL:https://mineralspringsbrewery.com/event/los-t-band/
LOCATION:Mineral Springs Brewery\, 210 N Oak Ave\, Suite 1\, Owatonna\, MN\, 55060\, United States
CATEGORIES:Music
END:VEVENT
END:VCALENDAR