BEGIN:VCALENDAR
VERSION:2.0
PRODID:-//Mineral Springs Brewery - ECPv6.15.20//NONSGML v1.0//EN
CALSCALE:GREGORIAN
METHOD:PUBLISH
X-ORIGINAL-URL:https://mineralspringsbrewery.com
X-WR-CALDESC:Events for Mineral Springs Brewery
REFRESH-INTERVAL;VALUE=DURATION:PT1H
X-Robots-Tag:noindex
X-PUBLISHED-TTL:PT1H
BEGIN:VTIMEZONE
TZID:America/Chicago
BEGIN:DAYLIGHT
TZOFFSETFROM:-0600
TZOFFSETTO:-0500
TZNAME:CDT
DTSTART:20250309T080000
END:DAYLIGHT
BEGIN:STANDARD
TZOFFSETFROM:-0500
TZOFFSETTO:-0600
TZNAME:CST
DTSTART:20251102T070000
END:STANDARD
BEGIN:DAYLIGHT
TZOFFSETFROM:-0600
TZOFFSETTO:-0500
TZNAME:CDT
DTSTART:20260308T080000
END:DAYLIGHT
BEGIN:STANDARD
TZOFFSETFROM:-0500
TZOFFSETTO:-0600
TZNAME:CST
DTSTART:20261101T070000
END:STANDARD
BEGIN:DAYLIGHT
TZOFFSETFROM:-0600
TZOFFSETTO:-0500
TZNAME:CDT
DTSTART:20270314T080000
END:DAYLIGHT
BEGIN:STANDARD
TZOFFSETFROM:-0500
TZOFFSETTO:-0600
TZNAME:CST
DTSTART:20271107T070000
END:STANDARD
END:VTIMEZONE
BEGIN:VEVENT
DTSTART;TZID=America/Chicago:20260215T150000
DTEND;TZID=America/Chicago:20260215T150000
DTSTAMP:20260420T224619
CREATED:20250305T203948Z
LAST-MODIFIED:20250305T203954Z
UID:10002446-1771167600-1771167600@mineralspringsbrewery.com
SUMMARY:MSBGO
DESCRIPTION:On Sundays\, we’ll be hosting a free and fun game of chance! Come on down to play along and win FREE BEER!
URL:https://mineralspringsbrewery.com/event/msbgo-8/2026-02-15/
LOCATION:Mineral Springs Brewery\, 210 N Oak Ave\, Suite 1\, Owatonna\, MN\, 55060\, United States
CATEGORIES:Events
ATTACH;FMTTYPE=image/png:https://mineralspringsbrewery.com/wp-content/uploads/2022/04/Bingo.png
END:VEVENT
BEGIN:VEVENT
DTSTART;TZID=America/Chicago:20260216T180000
DTEND;TZID=America/Chicago:20260216T200000
DTSTAMP:20260420T224619
CREATED:20251210T235104Z
LAST-MODIFIED:20260216T173211Z
UID:10005038-1771264800-1771272000@mineralspringsbrewery.com
SUMMARY:Pour Your Own Epoxy
DESCRIPTION:Join us for a fun\, informative and hands-on workshop where you’ll craft your very own epoxy river charcuterie board or lazy susan! \n\n\n\nThese boards feature premium black walnut and other fine hardwoods\, accented with epoxy in colors of your choice. You can select up to two epoxy colors when you arrive. \n\n\n\nAfter the class\, your project will undergo a meticulous finishing process\, which typically takes about 6 weeks. Please note that epoxy projects must sit and fully cure for approximately a week before the finishing process begins. The overall timeline is highly dependent on class size and shipping processes.  \n\n\n\nOnce perfected\, your project will be shipped to you promptly\, ensuring your creation arrives in pristine condition! \n\n\n\nPlease note: All ticket sales are final. However\, if you’re unable to attend\, feel free to send someone in your place. Additionally\, each attendee aged 12 and above must have a ticket\, while couples tickets offer an opportunity for two individuals to collaborate on a single project.
URL:https://mineralspringsbrewery.com/event/pour-your-own-epoxy/
LOCATION:Mineral Springs Brewery\, 210 N Oak Ave\, Suite 1\, Owatonna\, MN\, 55060\, United States
CATEGORIES:Events
ATTACH;FMTTYPE=image/png:https://mineralspringsbrewery.com/wp-content/uploads/2025/12/PourYourOwnEpoxy-Square.png
END:VEVENT
BEGIN:VEVENT
DTSTART;TZID=America/Chicago:20260218T180000
DTEND;TZID=America/Chicago:20260218T180000
DTSTAMP:20260420T224619
CREATED:20250902T165904Z
LAST-MODIFIED:20250902T165916Z
UID:10002190-1771437600-1771437600@mineralspringsbrewery.com
SUMMARY:Trivia Mafia
DESCRIPTION:Trivia Mafia is a bar and brewery trivia operation based in Minneapolis\, Minnesota. They produce the highest-quality trivia nights in bars\, taprooms\, distilleries\, and private events every night of the week throughout the Midwest (and beyond!).  \n\n\n\nIf you’ve ever thought\, “I love trivia nights\, I just wish they were… I don’t know… better?” You’ve come to the right place!
URL:https://mineralspringsbrewery.com/event/trivia-night-20/2026-02-18/
LOCATION:Mineral Springs Brewery\, 210 N Oak Ave\, Suite 1\, Owatonna\, MN\, 55060\, United States
CATEGORIES:Events
ATTACH;FMTTYPE=image/png:https://mineralspringsbrewery.com/wp-content/uploads/2025/03/Mineral-Springs-Brewery_TMC_2025_IG.png
END:VEVENT
BEGIN:VEVENT
DTSTART;TZID=America/Chicago:20260219T180000
DTEND;TZID=America/Chicago:20260219T180000
DTSTAMP:20260420T224619
CREATED:20250828T185654Z
LAST-MODIFIED:20250828T185703Z
UID:10003132-1771524000-1771524000@mineralspringsbrewery.com
SUMMARY:Name that Tune
DESCRIPTION:Just like it sounds! \n\n\n\nWe play clips of songs\, and your team tries to guess the correct song title and group/artist! \n\n\n\nFREE To PlayCrowlers or a gift card for the winning team as well as prizes given away throughout!Up To 6 People per Team
URL:https://mineralspringsbrewery.com/event/name-that-tune-19/2026-02-19/
LOCATION:Mineral Springs Brewery\, 210 N Oak Ave\, Suite 1\, Owatonna\, MN\, 55060\, United States
CATEGORIES:Events
ATTACH;FMTTYPE=image/jpeg:https://mineralspringsbrewery.com/wp-content/uploads/2024/03/Black-White-Coming-Soon-Instagram-Post-Real-Estate-Flyer-scaled.jpeg
END:VEVENT
BEGIN:VEVENT
DTSTART;TZID=America/Chicago:20260221T130000
DTEND;TZID=America/Chicago:20260221T150000
DTSTAMP:20260420T224619
CREATED:20260204T181733Z
LAST-MODIFIED:20260204T181743Z
UID:10004763-1771678800-1771686000@mineralspringsbrewery.com
SUMMARY:Owatonna Board Game Crew - Weekly Game Meetup
DESCRIPTION:Saturday afternoons we’re hosting the Owatonna Board Games Crew for a few hours\, welcome to all gamers! Check out the Facebook event page\, linked below\, to learn more about the specifics of the week!
URL:https://mineralspringsbrewery.com/event/owatonna-board-game-crew-weekly-game-meetup-2/2026-02-21/
LOCATION:Mineral Springs Brewery\, 210 N Oak Ave\, Suite 1\, Owatonna\, MN\, 55060\, United States
CATEGORIES:Events
ATTACH;FMTTYPE=image/png:https://mineralspringsbrewery.com/wp-content/uploads/2025/11/owatonna-board-game-crew-flier-3.png
END:VEVENT
BEGIN:VEVENT
DTSTART;TZID=America/Chicago:20260221T183000
DTEND;TZID=America/Chicago:20260221T203000
DTSTAMP:20260420T224619
CREATED:20260114T193523Z
LAST-MODIFIED:20260114T193527Z
UID:10005058-1771698600-1771705800@mineralspringsbrewery.com
SUMMARY:Jeff Reinartz
DESCRIPTION:Jeff Reinartz is a singer/songwriter from  Austin\, Minnesota. He’s been performing live for over 30 years and is a veteran of several bands. He is now a solo acoustic performer and has released two EPs that were produced by Scotty Rohr at Zension Studio in Austin. \n\n\n\n\nI believe that we’re here to use our talents and abilities to the benefit of others\, so after 22 years in the corporate world with a Fortune 300 company\, I resigned in 2019 to pursue my music interests full time. I didn’t necessarily count on a global pandemic\, but as things have loosened up I’ve been able to play more and more\, doing acoustic shows at primarily breweries and wineries in Southern Minnesota and Northern Iowa\, and building a small following organically.” \nJeff Reinartz
URL:https://mineralspringsbrewery.com/event/jeff-reinartz/
LOCATION:Mineral Springs Brewery\, 210 N Oak Ave\, Suite 1\, Owatonna\, MN\, 55060\, United States
CATEGORIES:Music
ATTACH;FMTTYPE=image/jpeg:https://mineralspringsbrewery.com/wp-content/uploads/2025/02/Jeff-Reinartz-Day-by-Day.jpg
END:VEVENT
END:VCALENDAR