BEGIN:VCALENDAR
VERSION:2.0
PRODID:-//Mineral Springs Brewery - ECPv6.15.20//NONSGML v1.0//EN
CALSCALE:GREGORIAN
METHOD:PUBLISH
X-ORIGINAL-URL:https://mineralspringsbrewery.com
X-WR-CALDESC:Events for Mineral Springs Brewery
REFRESH-INTERVAL;VALUE=DURATION:PT1H
X-Robots-Tag:noindex
X-PUBLISHED-TTL:PT1H
BEGIN:VTIMEZONE
TZID:America/Chicago
BEGIN:DAYLIGHT
TZOFFSETFROM:-0600
TZOFFSETTO:-0500
TZNAME:CDT
DTSTART:20240310T080000
END:DAYLIGHT
BEGIN:STANDARD
TZOFFSETFROM:-0500
TZOFFSETTO:-0600
TZNAME:CST
DTSTART:20241103T070000
END:STANDARD
BEGIN:DAYLIGHT
TZOFFSETFROM:-0600
TZOFFSETTO:-0500
TZNAME:CDT
DTSTART:20250309T080000
END:DAYLIGHT
BEGIN:STANDARD
TZOFFSETFROM:-0500
TZOFFSETTO:-0600
TZNAME:CST
DTSTART:20251102T070000
END:STANDARD
BEGIN:DAYLIGHT
TZOFFSETFROM:-0600
TZOFFSETTO:-0500
TZNAME:CDT
DTSTART:20260308T080000
END:DAYLIGHT
BEGIN:STANDARD
TZOFFSETFROM:-0500
TZOFFSETTO:-0600
TZNAME:CST
DTSTART:20261101T070000
END:STANDARD
END:VTIMEZONE
BEGIN:VEVENT
DTSTART;TZID=America/Chicago:20250712T120000
DTEND;TZID=America/Chicago:20250712T190000
DTSTAMP:20260420T065730
CREATED:20250528T233455Z
LAST-MODIFIED:20250528T233459Z
UID:10003960-1752321600-1752346800@mineralspringsbrewery.com
SUMMARY:Garillers
DESCRIPTION:Garillers features the best smash burgers around!
URL:https://mineralspringsbrewery.com/event/garillers-24/
LOCATION:Mineral Springs Brewery\, 210 N Oak Ave\, Suite 1\, Owatonna\, MN\, 55060\, United States
CATEGORIES:Food Trucks
ATTACH;FMTTYPE=image/jpeg:https://mineralspringsbrewery.com/wp-content/uploads/2022/09/Garillers-Food-Truck.jpg
END:VEVENT
BEGIN:VEVENT
DTSTART;TZID=America/Chicago:20250711T160000
DTEND;TZID=America/Chicago:20250711T200000
DTSTAMP:20260420T065730
CREATED:20250528T233414Z
LAST-MODIFIED:20250528T233418Z
UID:10003959-1752249600-1752264000@mineralspringsbrewery.com
SUMMARY:Reubens and Things - Tips and Tails
DESCRIPTION:
URL:https://mineralspringsbrewery.com/event/reubens-and-things-tips-and-tails/
LOCATION:Mineral Springs Brewery\, 210 N Oak Ave\, Suite 1\, Owatonna\, MN\, 55060\, United States
CATEGORIES:Food Trucks
ATTACH;FMTTYPE=image/jpeg:https://mineralspringsbrewery.com/wp-content/uploads/2025/05/Reubens-and-Things.jpg
END:VEVENT
BEGIN:VEVENT
DTSTART;TZID=America/Chicago:20250710T110000
DTEND;TZID=America/Chicago:20250710T190000
DTSTAMP:20260420T065730
CREATED:20250702T212033Z
LAST-MODIFIED:20250702T212037Z
UID:10004024-1752145200-1752174000@mineralspringsbrewery.com
SUMMARY:On The Hook - Fish and Chips
DESCRIPTION:On The Hook specializes in Line-Caught Wild Alaskan Cod Fish and Chips. They start with the highest quality cod available sourced from the cold clean waters of Alaska. This however\, is not just any Alaskan Cod\, their cod is caught using hook and line which means that each fish is brought aboard individually and immediately headed\, gutted\, and flash frozen to perfectly preserve the fresh caught quality and tenderness. They hand coat it with their original recipe beer batter created by their founders over months by experimenting and fine tuning while they were in college. Batter was not the only thing they created from scratch\, their signature dipping sauces are included with every meal to complete a perfect dish.
URL:https://mineralspringsbrewery.com/event/on-the-hook-fish-and-chips-17/
LOCATION:Mineral Springs Brewery\, 210 N Oak Ave\, Suite 1\, Owatonna\, MN\, 55060\, United States
CATEGORIES:Food Trucks
ATTACH;FMTTYPE=image/jpeg:https://mineralspringsbrewery.com/wp-content/uploads/2021/03/0EEABF12-E6AD-4366-B5BB-DAE146728E09.jpeg
END:VEVENT
BEGIN:VEVENT
DTSTART;TZID=America/Chicago:20250709T163000
DTEND;TZID=America/Chicago:20250709T163000
DTSTAMP:20260420T065730
CREATED:20250709T234807Z
LAST-MODIFIED:20250709T234811Z
UID:10003307-1752078600-1752078600@mineralspringsbrewery.com
SUMMARY:Wag's Wednesday
DESCRIPTION:We’re partnering with Wagners Lunch Pool Hall to have their delicious burgers and fries delivered hot and fresh every half hour starting at 4:30pm! \n\n\n\nEach week\, you’ll have the choice between: \n\n\n\n\nDouble Cheeseburger with the works and Fries for $13\n\n\n\nOr a Special Burger of the week that will rotate from week to week with Fries for $13\n\n\n\n\nBe sure to let our bartender know your order!
URL:https://mineralspringsbrewery.com/event/wags-wednesday-17/
LOCATION:Mineral Springs Brewery\, 210 N Oak Ave\, Suite 1\, Owatonna\, MN\, 55060\, United States
CATEGORIES:Food Trucks
ATTACH;FMTTYPE=image/jpeg:https://mineralspringsbrewery.com/wp-content/uploads/2022/10/Wags-Wednesdays.jpeg
END:VEVENT
BEGIN:VEVENT
DTSTART;TZID=America/Chicago:20250705T120000
DTEND;TZID=America/Chicago:20250705T200000
DTSTAMP:20260420T065730
CREATED:20250528T225243Z
LAST-MODIFIED:20250528T225304Z
UID:10003951-1751716800-1751745600@mineralspringsbrewery.com
SUMMARY:Smash N Dash
DESCRIPTION:After seeing them frequent a few of our brewery friends\, we knew we had to get them down to Owatonna! This is Smash N Dash’s first time at MSB\, but we’re hoping it’ll be the first of many!
URL:https://mineralspringsbrewery.com/event/smash-n-dash/
LOCATION:Mineral Springs Brewery\, 210 N Oak Ave\, Suite 1\, Owatonna\, MN\, 55060\, United States
CATEGORIES:Food Trucks
ATTACH;FMTTYPE=image/jpeg:https://mineralspringsbrewery.com/wp-content/uploads/2025/05/Smash-N-Dash-Logo.jpg
END:VEVENT
BEGIN:VEVENT
DTSTART;TZID=America/Chicago:20250703T170000
DTEND;TZID=America/Chicago:20250703T170000
DTSTAMP:20260420T065730
CREATED:20230822T225207Z
LAST-MODIFIED:20250319T185917Z
UID:10001644-1751562000-1751562000@mineralspringsbrewery.com
SUMMARY:Thursday Pizza Special
DESCRIPTION:We’ve partnered with A Taste of the Big Apple to have their delicious pizzas delivered hot and fresh every half hour starting at 5:30pm! We also have frozen pizzas from our friends over at Pleasant Grove Pizza Farm that we’re able to cook up in our ovens! \n\n\n\nOrder your choice of pizza at the bar and we’ll get it to you when it’s delivered! \n\n\n\n\n\nA Taste of the Big Apple\n\n\n\n\nCheese\n\n\n\nSausage\n\n\n\nPepperoni\n\n\n\nSausage/Pepperoni\n\n\n\nCombo\n\nSausage\, Pepperoni\, Onions\, & Mushrooms\n\n\n\n\n\n\n\n\nPleasant Grove Pizza Farm\n\n\n\n\nCheese\n\n\n\nSusie (Sausage)\n\n\n\nChuck (Pepperoni)\n\n\n\nChuck & Susie (Pepperoni & Sausage)\n\n\n\nMN Mess (Combo)\n\nSausage\, Green & Black Olives\, Green Peppers\, Onions\, & Mushrooms\n\n\n\n\n\nPizza Fries & Sauce\n\n\n\n\n\n\nBe sure to let our bartender know your order!
URL:https://mineralspringsbrewery.com/event/a-taste-of-the-big-apple-thursday-special-11/2025-07-03/
LOCATION:Mineral Springs Brewery\, 210 N Oak Ave\, Suite 1\, Owatonna\, MN\, 55060\, United States
CATEGORIES:Food Trucks
ATTACH;FMTTYPE=image/jpeg:https://mineralspringsbrewery.com/wp-content/uploads/2022/12/A-Taste-of-the-Big-Apple.jpg
END:VEVENT
BEGIN:VEVENT
DTSTART;TZID=America/Chicago:20250702T163000
DTEND;TZID=America/Chicago:20250702T163000
DTSTAMP:20260420T065730
CREATED:20240918T204004Z
LAST-MODIFIED:20250103T010139Z
UID:10003306-1751473800-1751473800@mineralspringsbrewery.com
SUMMARY:Wag's Wednesday
DESCRIPTION:We’re partnering with Wagners Lunch Pool Hall to have their delicious burgers and fries delivered hot and fresh every half hour starting at 5:30pm! \n\n\n\nEach week\, you’ll have the choice between: \n\n\n\n\nDouble Cheeseburger with Fries & an MSB beer of choice for $13\n\n\n\nOr a Special Burger of the week that will rotate from week to week with Fries and an MSB beer of choice for $15\n\n\n\n\nBe sure to let our bartender know your order!
URL:https://mineralspringsbrewery.com/event/wags-wednesday-9/2025-07-02/
LOCATION:Mineral Springs Brewery\, 210 N Oak Ave\, Suite 1\, Owatonna\, MN\, 55060\, United States
CATEGORIES:Food Trucks
ATTACH;FMTTYPE=image/jpeg:https://mineralspringsbrewery.com/wp-content/uploads/2022/10/Wags-Wednesdays.jpeg
END:VEVENT
BEGIN:VEVENT
DTSTART;TZID=America/Chicago:20250628T120000
DTEND;TZID=America/Chicago:20250628T200000
DTSTAMP:20260420T065730
CREATED:20250528T224025Z
LAST-MODIFIED:20250528T224053Z
UID:10003947-1751112000-1751140800@mineralspringsbrewery.com
SUMMARY:Noris Cuisine
DESCRIPTION:Noris Cuisine makes fresh the greatest fusion of Latin American cuisine southern MN has to offer!
URL:https://mineralspringsbrewery.com/event/noris-cuisine-3/
LOCATION:Mineral Springs Brewery\, 210 N Oak Ave\, Suite 1\, Owatonna\, MN\, 55060\, United States
CATEGORIES:Food Trucks
ATTACH;FMTTYPE=image/png:https://mineralspringsbrewery.com/wp-content/uploads/2022/04/Noris-Cuisine.png
END:VEVENT
BEGIN:VEVENT
DTSTART;TZID=America/Chicago:20250627T160000
DTEND;TZID=America/Chicago:20250627T200000
DTSTAMP:20260420T065730
CREATED:20250528T223701Z
LAST-MODIFIED:20250528T223707Z
UID:10003946-1751040000-1751054400@mineralspringsbrewery.com
SUMMARY:Norseman Lobster
DESCRIPTION:From small Beginnings come great things. We are here to bring the BEST Lobster Rolls to the masses. \n\n\n\nFresh lobster & wagyu burgers\, the best surf and turf around!
URL:https://mineralspringsbrewery.com/event/norseman-lobster-5/
LOCATION:Mineral Springs Brewery\, 210 N Oak Ave\, Suite 1\, Owatonna\, MN\, 55060\, United States
CATEGORIES:Food Trucks
ATTACH;FMTTYPE=image/jpeg:https://mineralspringsbrewery.com/wp-content/uploads/2024/02/Norseman-Lobster.jpg
END:VEVENT
BEGIN:VEVENT
DTSTART;TZID=America/Chicago:20250626T170000
DTEND;TZID=America/Chicago:20250626T170000
DTSTAMP:20260420T065730
CREATED:20230822T225207Z
LAST-MODIFIED:20250319T185917Z
UID:10001643-1750957200-1750957200@mineralspringsbrewery.com
SUMMARY:Thursday Pizza Special
DESCRIPTION:We’ve partnered with A Taste of the Big Apple to have their delicious pizzas delivered hot and fresh every half hour starting at 5:30pm! We also have frozen pizzas from our friends over at Pleasant Grove Pizza Farm that we’re able to cook up in our ovens! \n\n\n\nOrder your choice of pizza at the bar and we’ll get it to you when it’s delivered! \n\n\n\n\n\nA Taste of the Big Apple\n\n\n\n\nCheese\n\n\n\nSausage\n\n\n\nPepperoni\n\n\n\nSausage/Pepperoni\n\n\n\nCombo\n\nSausage\, Pepperoni\, Onions\, & Mushrooms\n\n\n\n\n\n\n\n\nPleasant Grove Pizza Farm\n\n\n\n\nCheese\n\n\n\nSusie (Sausage)\n\n\n\nChuck (Pepperoni)\n\n\n\nChuck & Susie (Pepperoni & Sausage)\n\n\n\nMN Mess (Combo)\n\nSausage\, Green & Black Olives\, Green Peppers\, Onions\, & Mushrooms\n\n\n\n\n\nPizza Fries & Sauce\n\n\n\n\n\n\nBe sure to let our bartender know your order!
URL:https://mineralspringsbrewery.com/event/a-taste-of-the-big-apple-thursday-special-11/2025-06-26/
LOCATION:Mineral Springs Brewery\, 210 N Oak Ave\, Suite 1\, Owatonna\, MN\, 55060\, United States
CATEGORIES:Food Trucks
ATTACH;FMTTYPE=image/jpeg:https://mineralspringsbrewery.com/wp-content/uploads/2022/12/A-Taste-of-the-Big-Apple.jpg
END:VEVENT
BEGIN:VEVENT
DTSTART;TZID=America/Chicago:20250626T160000
DTEND;TZID=America/Chicago:20250626T200000
DTSTAMP:20260420T065730
CREATED:20250610T101011Z
LAST-MODIFIED:20250610T101014Z
UID:10003977-1750953600-1750968000@mineralspringsbrewery.com
SUMMARY:Whiskey Creek BBQ
DESCRIPTION:Formerly Northwoods Smokehouse\, Whiskey Creek BBQ is a very familiar BBQ Food Trailer specializing in Texas craft BBQ focusing on pork\, chicken\, beef and gourmet sides!
URL:https://mineralspringsbrewery.com/event/whiskey-creek-bbq-6/
LOCATION:Mineral Springs Brewery\, 210 N Oak Ave\, Suite 1\, Owatonna\, MN\, 55060\, United States
CATEGORIES:Food Trucks
ATTACH;FMTTYPE=image/jpeg:https://mineralspringsbrewery.com/wp-content/uploads/2024/09/Whiskey-Creek-BBQ.jpg
END:VEVENT
BEGIN:VEVENT
DTSTART;TZID=America/Chicago:20250621T120000
DTEND;TZID=America/Chicago:20250621T200000
DTSTAMP:20260420T065730
CREATED:20250618T020305Z
LAST-MODIFIED:20250618T020309Z
UID:10003993-1750507200-1750536000@mineralspringsbrewery.com
SUMMARY:Louie's Sweet Treats
DESCRIPTION:
URL:https://mineralspringsbrewery.com/event/louies-sweet-treats/
LOCATION:Mineral Springs Brewery\, 210 N Oak Ave\, Suite 1\, Owatonna\, MN\, 55060\, United States
CATEGORIES:Food Trucks
ATTACH;FMTTYPE=image/jpeg:https://mineralspringsbrewery.com/wp-content/uploads/2025/06/IMG_2363.jpeg
END:VEVENT
BEGIN:VEVENT
DTSTART;TZID=America/Chicago:20250621T120000
DTEND;TZID=America/Chicago:20250621T160000
DTSTAMP:20260420T065730
CREATED:20250506T195527Z
LAST-MODIFIED:20250621T204220Z
UID:10003909-1750507200-1750521600@mineralspringsbrewery.com
SUMMARY:Garillers
DESCRIPTION:Garillers features the best smash burgers around!
URL:https://mineralspringsbrewery.com/event/garillers-23/
LOCATION:Mineral Springs Brewery\, 210 N Oak Ave\, Suite 1\, Owatonna\, MN\, 55060\, United States
CATEGORIES:Food Trucks
ATTACH;FMTTYPE=image/jpeg:https://mineralspringsbrewery.com/wp-content/uploads/2022/09/Garillers-Food-Truck.jpg
END:VEVENT
BEGIN:VEVENT
DTSTART;TZID=America/Chicago:20250621T090000
DTEND;TZID=America/Chicago:20250621T120000
DTSTAMP:20260420T065730
CREATED:20250506T195520Z
LAST-MODIFIED:20250612T220751Z
UID:10003908-1750496400-1750507200@mineralspringsbrewery.com
SUMMARY:Brunch by Blake's BETtor Spread
DESCRIPTION:This is a special appearance of Blake’s BETtor Spread for our pre 0.5k race brunch! They’ll have the essential brunch items for your enjoyment with one of our seltzer mimosas or a bloody beer!
URL:https://mineralspringsbrewery.com/event/brunch-by-blakes-bettor-spread-2/
LOCATION:Mineral Springs Brewery\, 210 N Oak Ave\, Suite 1\, Owatonna\, MN\, 55060\, United States
CATEGORIES:Food Trucks
ATTACH;FMTTYPE=image/png:https://mineralspringsbrewery.com/wp-content/uploads/2025/05/IMG_6267.png
END:VEVENT
BEGIN:VEVENT
DTSTART;TZID=America/Chicago:20250620T160000
DTEND;TZID=America/Chicago:20250620T200000
DTSTAMP:20260420T065730
CREATED:20250604T191824Z
LAST-MODIFIED:20250604T191827Z
UID:10003975-1750435200-1750449600@mineralspringsbrewery.com
SUMMARY:Brick Oven Bus
DESCRIPTION:Brick oven fired pizzas\, but on the go!
URL:https://mineralspringsbrewery.com/event/brick-oven-bus-31/
LOCATION:Mineral Springs Brewery\, 210 N Oak Ave\, Suite 1\, Owatonna\, MN\, 55060\, United States
CATEGORIES:Food Trucks
ATTACH;FMTTYPE=image/jpeg:https://mineralspringsbrewery.com/wp-content/uploads/2023/01/Brick-Oven-Bus.jpg
END:VEVENT
BEGIN:VEVENT
DTSTART;TZID=America/Chicago:20250619T160000
DTEND;TZID=America/Chicago:20250619T200000
DTSTAMP:20260420T065730
CREATED:20250506T191857Z
LAST-MODIFIED:20250506T191901Z
UID:10003907-1750348800-1750363200@mineralspringsbrewery.com
SUMMARY:Thai Thai Street Food
DESCRIPTION:Mission: To make the amazing Thai street food experience accessible\, served with excellence. \n\n\n\nVision: Develop the community through Thai street foods.
URL:https://mineralspringsbrewery.com/event/thai-thai-street-food/
LOCATION:Mineral Springs Brewery\, 210 N Oak Ave\, Suite 1\, Owatonna\, MN\, 55060\, United States
CATEGORIES:Food Trucks
ATTACH;FMTTYPE=image/png:https://mineralspringsbrewery.com/wp-content/uploads/2025/05/ThaiThaiStreetFood.png
END:VEVENT
BEGIN:VEVENT
DTSTART;TZID=America/Chicago:20250618T163000
DTEND;TZID=America/Chicago:20250618T163000
DTSTAMP:20260420T065730
CREATED:20240918T204004Z
LAST-MODIFIED:20250103T010139Z
UID:10003304-1750264200-1750264200@mineralspringsbrewery.com
SUMMARY:Wag's Wednesday
DESCRIPTION:We’re partnering with Wagners Lunch Pool Hall to have their delicious burgers and fries delivered hot and fresh every half hour starting at 5:30pm! \n\n\n\nEach week\, you’ll have the choice between: \n\n\n\n\nDouble Cheeseburger with Fries & an MSB beer of choice for $13\n\n\n\nOr a Special Burger of the week that will rotate from week to week with Fries and an MSB beer of choice for $15\n\n\n\n\nBe sure to let our bartender know your order!
URL:https://mineralspringsbrewery.com/event/wags-wednesday-9/2025-06-18/
LOCATION:Mineral Springs Brewery\, 210 N Oak Ave\, Suite 1\, Owatonna\, MN\, 55060\, United States
CATEGORIES:Food Trucks
ATTACH;FMTTYPE=image/jpeg:https://mineralspringsbrewery.com/wp-content/uploads/2022/10/Wags-Wednesdays.jpeg
END:VEVENT
BEGIN:VEVENT
DTSTART;TZID=America/Chicago:20250614T120000
DTEND;TZID=America/Chicago:20250614T200000
DTSTAMP:20260420T065730
CREATED:20250610T100612Z
LAST-MODIFIED:20250610T100616Z
UID:10003976-1749902400-1749931200@mineralspringsbrewery.com
SUMMARY:Louie's Happy Dogs
DESCRIPTION:
URL:https://mineralspringsbrewery.com/event/louies-happy-dogs-5/
LOCATION:Mineral Springs Brewery\, 210 N Oak Ave\, Suite 1\, Owatonna\, MN\, 55060\, United States
CATEGORIES:Food Trucks
ATTACH;FMTTYPE=image/jpeg:https://mineralspringsbrewery.com/wp-content/uploads/2024/09/Louies-Happy-Dogs.jpg
END:VEVENT
BEGIN:VEVENT
DTSTART;TZID=America/Chicago:20250613T160000
DTEND;TZID=America/Chicago:20250613T200000
DTSTAMP:20260420T065730
CREATED:20250506T191240Z
LAST-MODIFIED:20250506T191244Z
UID:10003905-1749830400-1749844800@mineralspringsbrewery.com
SUMMARY:REBEL Lobster
DESCRIPTION:Maine to Minnesota\n\n\n\nEast Coast Flavor. \n\n\n\nMid-West Comfort.\n\n\n\nOur family came from Maine. If you are wondering if it was to bring lobster to the people of Minnesota\, well – yes it was. We just didn’t know it yet. With our roots in Maine and Minnesota; we are passionate about DELICIOUS LOBSTER ROLLS and KINDNESS. From the fresh craft baked New England style rolls\, to the North Atlantic lobster meat that we stuff inside them – we know lobster rolls and can’t wait to share them with you!
URL:https://mineralspringsbrewery.com/event/rebel-lobster-9/
LOCATION:Mineral Springs Brewery\, 210 N Oak Ave\, Suite 1\, Owatonna\, MN\, 55060\, United States
CATEGORIES:Food Trucks
ATTACH;FMTTYPE=image/jpeg:https://mineralspringsbrewery.com/wp-content/uploads/2023/05/REBEL-Lobster.jpg
END:VEVENT
BEGIN:VEVENT
DTSTART;TZID=America/Chicago:20250612T170000
DTEND;TZID=America/Chicago:20250612T170000
DTSTAMP:20260420T065730
CREATED:20230822T225207Z
LAST-MODIFIED:20250319T185917Z
UID:10001641-1749747600-1749747600@mineralspringsbrewery.com
SUMMARY:Thursday Pizza Special
DESCRIPTION:We’ve partnered with A Taste of the Big Apple to have their delicious pizzas delivered hot and fresh every half hour starting at 5:30pm! We also have frozen pizzas from our friends over at Pleasant Grove Pizza Farm that we’re able to cook up in our ovens! \n\n\n\nOrder your choice of pizza at the bar and we’ll get it to you when it’s delivered! \n\n\n\n\n\nA Taste of the Big Apple\n\n\n\n\nCheese\n\n\n\nSausage\n\n\n\nPepperoni\n\n\n\nSausage/Pepperoni\n\n\n\nCombo\n\nSausage\, Pepperoni\, Onions\, & Mushrooms\n\n\n\n\n\n\n\n\nPleasant Grove Pizza Farm\n\n\n\n\nCheese\n\n\n\nSusie (Sausage)\n\n\n\nChuck (Pepperoni)\n\n\n\nChuck & Susie (Pepperoni & Sausage)\n\n\n\nMN Mess (Combo)\n\nSausage\, Green & Black Olives\, Green Peppers\, Onions\, & Mushrooms\n\n\n\n\n\nPizza Fries & Sauce\n\n\n\n\n\n\nBe sure to let our bartender know your order!
URL:https://mineralspringsbrewery.com/event/a-taste-of-the-big-apple-thursday-special-11/2025-06-12/
LOCATION:Mineral Springs Brewery\, 210 N Oak Ave\, Suite 1\, Owatonna\, MN\, 55060\, United States
CATEGORIES:Food Trucks
ATTACH;FMTTYPE=image/jpeg:https://mineralspringsbrewery.com/wp-content/uploads/2022/12/A-Taste-of-the-Big-Apple.jpg
END:VEVENT
BEGIN:VEVENT
DTSTART;TZID=America/Chicago:20250611T163000
DTEND;TZID=America/Chicago:20250611T163000
DTSTAMP:20260420T065730
CREATED:20240918T204004Z
LAST-MODIFIED:20250103T010139Z
UID:10003303-1749659400-1749659400@mineralspringsbrewery.com
SUMMARY:Wag's Wednesday
DESCRIPTION:We’re partnering with Wagners Lunch Pool Hall to have their delicious burgers and fries delivered hot and fresh every half hour starting at 5:30pm! \n\n\n\nEach week\, you’ll have the choice between: \n\n\n\n\nDouble Cheeseburger with Fries & an MSB beer of choice for $13\n\n\n\nOr a Special Burger of the week that will rotate from week to week with Fries and an MSB beer of choice for $15\n\n\n\n\nBe sure to let our bartender know your order!
URL:https://mineralspringsbrewery.com/event/wags-wednesday-9/2025-06-11/
LOCATION:Mineral Springs Brewery\, 210 N Oak Ave\, Suite 1\, Owatonna\, MN\, 55060\, United States
CATEGORIES:Food Trucks
ATTACH;FMTTYPE=image/jpeg:https://mineralspringsbrewery.com/wp-content/uploads/2022/10/Wags-Wednesdays.jpeg
END:VEVENT
BEGIN:VEVENT
DTSTART;TZID=America/Chicago:20250607T120000
DTEND;TZID=America/Chicago:20250607T200000
DTSTAMP:20260420T065730
CREATED:20250528T222809Z
LAST-MODIFIED:20250528T222814Z
UID:10003935-1749297600-1749326400@mineralspringsbrewery.com
SUMMARY:Toño's Tacos
DESCRIPTION:Details
URL:https://mineralspringsbrewery.com/event/tonos-tacos-6/
LOCATION:MN
CATEGORIES:Food Trucks
ATTACH;FMTTYPE=image/jpeg:https://mineralspringsbrewery.com/wp-content/uploads/2025/03/Tonos-Tacos-Updated.jpg
END:VEVENT
BEGIN:VEVENT
DTSTART;TZID=America/Chicago:20250606T160000
DTEND;TZID=America/Chicago:20250606T200000
DTSTAMP:20260420T065730
CREATED:20250506T185936Z
LAST-MODIFIED:20250506T191954Z
UID:10003902-1749225600-1749240000@mineralspringsbrewery.com
SUMMARY:Yoyo Yummies
DESCRIPTION:One bite of Yoyo Yummies’ Korean Fried Chicken\, Eggrolls\, Spring Rolls and Pad Thai\, and they know you’ll fall in love! Their mobile food trailer is catered and run with care and attention to detail\, so you can be sure that you are always getting the best quality food. They believe food should be an experience to savor and enjoy\, and their food is designed to do just that. Come visit them today and experience the unique and delightful flavors of Asia!
URL:https://mineralspringsbrewery.com/event/yoyo-yummies/
LOCATION:Mineral Springs Brewery\, 210 N Oak Ave\, Suite 1\, Owatonna\, MN\, 55060\, United States
CATEGORIES:Food Trucks
ATTACH;FMTTYPE=image/jpeg:https://mineralspringsbrewery.com/wp-content/uploads/2025/05/YoyoYummies.jpg
END:VEVENT
BEGIN:VEVENT
DTSTART;TZID=America/Chicago:20250605T170000
DTEND;TZID=America/Chicago:20250605T170000
DTSTAMP:20260420T065730
CREATED:20230822T225207Z
LAST-MODIFIED:20250319T185917Z
UID:10001640-1749142800-1749142800@mineralspringsbrewery.com
SUMMARY:Thursday Pizza Special
DESCRIPTION:We’ve partnered with A Taste of the Big Apple to have their delicious pizzas delivered hot and fresh every half hour starting at 5:30pm! We also have frozen pizzas from our friends over at Pleasant Grove Pizza Farm that we’re able to cook up in our ovens! \n\n\n\nOrder your choice of pizza at the bar and we’ll get it to you when it’s delivered! \n\n\n\n\n\nA Taste of the Big Apple\n\n\n\n\nCheese\n\n\n\nSausage\n\n\n\nPepperoni\n\n\n\nSausage/Pepperoni\n\n\n\nCombo\n\nSausage\, Pepperoni\, Onions\, & Mushrooms\n\n\n\n\n\n\n\n\nPleasant Grove Pizza Farm\n\n\n\n\nCheese\n\n\n\nSusie (Sausage)\n\n\n\nChuck (Pepperoni)\n\n\n\nChuck & Susie (Pepperoni & Sausage)\n\n\n\nMN Mess (Combo)\n\nSausage\, Green & Black Olives\, Green Peppers\, Onions\, & Mushrooms\n\n\n\n\n\nPizza Fries & Sauce\n\n\n\n\n\n\nBe sure to let our bartender know your order!
URL:https://mineralspringsbrewery.com/event/a-taste-of-the-big-apple-thursday-special-11/2025-06-05/
LOCATION:Mineral Springs Brewery\, 210 N Oak Ave\, Suite 1\, Owatonna\, MN\, 55060\, United States
CATEGORIES:Food Trucks
ATTACH;FMTTYPE=image/jpeg:https://mineralspringsbrewery.com/wp-content/uploads/2022/12/A-Taste-of-the-Big-Apple.jpg
END:VEVENT
BEGIN:VEVENT
DTSTART;TZID=America/Chicago:20250604T163000
DTEND;TZID=America/Chicago:20250604T163000
DTSTAMP:20260420T065730
CREATED:20240918T204004Z
LAST-MODIFIED:20250103T010139Z
UID:10003302-1749054600-1749054600@mineralspringsbrewery.com
SUMMARY:Wag's Wednesday
DESCRIPTION:We’re partnering with Wagners Lunch Pool Hall to have their delicious burgers and fries delivered hot and fresh every half hour starting at 5:30pm! \n\n\n\nEach week\, you’ll have the choice between: \n\n\n\n\nDouble Cheeseburger with Fries & an MSB beer of choice for $13\n\n\n\nOr a Special Burger of the week that will rotate from week to week with Fries and an MSB beer of choice for $15\n\n\n\n\nBe sure to let our bartender know your order!
URL:https://mineralspringsbrewery.com/event/wags-wednesday-9/2025-06-04/
LOCATION:Mineral Springs Brewery\, 210 N Oak Ave\, Suite 1\, Owatonna\, MN\, 55060\, United States
CATEGORIES:Food Trucks
ATTACH;FMTTYPE=image/jpeg:https://mineralspringsbrewery.com/wp-content/uploads/2022/10/Wags-Wednesdays.jpeg
END:VEVENT
BEGIN:VEVENT
DTSTART;TZID=America/Chicago:20250601T140000
DTEND;TZID=America/Chicago:20250601T180000
DTSTAMP:20260420T065730
CREATED:20250513T212309Z
LAST-MODIFIED:20250513T212314Z
UID:10003918-1748786400-1748800800@mineralspringsbrewery.com
SUMMARY:Twisted Chicken
DESCRIPTION:
URL:https://mineralspringsbrewery.com/event/twisted-chicken-15/
LOCATION:Mineral Springs Brewery\, 210 N Oak Ave\, Suite 1\, Owatonna\, MN\, 55060\, United States
CATEGORIES:Food Trucks
ATTACH;FMTTYPE=image/png:https://mineralspringsbrewery.com/wp-content/uploads/2022/04/Twisted-Chicken-Logo.png
END:VEVENT
BEGIN:VEVENT
DTSTART;TZID=America/Chicago:20250601T120000
DTEND;TZID=America/Chicago:20250601T200000
DTSTAMP:20260420T065730
CREATED:20250527T020340Z
LAST-MODIFIED:20250527T020345Z
UID:10003932-1748779200-1748808000@mineralspringsbrewery.com
SUMMARY:OTB Ice Cream
DESCRIPTION:Old Town Bagels has teamed up with a family Ice cream company from Madison\, WI called The Chocolate Shoppe to bring us the best ice cream Wisconsin dairy can make!
URL:https://mineralspringsbrewery.com/event/otb-ice-cream/
LOCATION:MN
CATEGORIES:Food Trucks
ATTACH;FMTTYPE=image/jpeg:https://mineralspringsbrewery.com/wp-content/uploads/2022/03/OTB-Ice-Cream.jpg
END:VEVENT
BEGIN:VEVENT
DTSTART;TZID=America/Chicago:20250601T120000
DTEND;TZID=America/Chicago:20250601T180000
DTSTAMP:20260420T065730
CREATED:20250506T185438Z
LAST-MODIFIED:20250506T185442Z
UID:10003900-1748779200-1748800800@mineralspringsbrewery.com
SUMMARY:Whiskey Creek BBQ
DESCRIPTION:Formerly Northwoods Smokehouse\, Whiskey Creek BBQ is a very familiar BBQ Food Trailer specializing in Texas craft BBQ focusing on pork\, chicken\, beef and gourmet sides!
URL:https://mineralspringsbrewery.com/event/whiskey-creek-bbq-5/
LOCATION:Mineral Springs Brewery\, 210 N Oak Ave\, Suite 1\, Owatonna\, MN\, 55060\, United States
CATEGORIES:Food Trucks
ATTACH;FMTTYPE=image/jpeg:https://mineralspringsbrewery.com/wp-content/uploads/2024/09/Whiskey-Creek-BBQ.jpg
END:VEVENT
BEGIN:VEVENT
DTSTART;TZID=America/Chicago:20250531T120000
DTEND;TZID=America/Chicago:20250531T190000
DTSTAMP:20260420T065730
CREATED:20250319T213219Z
LAST-MODIFIED:20250319T213232Z
UID:10003879-1748692800-1748718000@mineralspringsbrewery.com
SUMMARY:Garillers
DESCRIPTION:Garillers features the best smash burgers around!
URL:https://mineralspringsbrewery.com/event/garillers-22/
LOCATION:Mineral Springs Brewery\, 210 N Oak Ave\, Suite 1\, Owatonna\, MN\, 55060\, United States
CATEGORIES:Food Trucks
ATTACH;FMTTYPE=image/jpeg:https://mineralspringsbrewery.com/wp-content/uploads/2022/09/Garillers-Food-Truck.jpg
END:VEVENT
BEGIN:VEVENT
DTSTART;TZID=America/Chicago:20250530T160000
DTEND;TZID=America/Chicago:20250530T200000
DTSTAMP:20260420T065730
CREATED:20250319T213132Z
LAST-MODIFIED:20250319T213147Z
UID:10003877-1748620800-1748635200@mineralspringsbrewery.com
SUMMARY:Original Hockey Mom Brownies
DESCRIPTION:Brownies + Ice Cream on wheels\, that’s what we’re talking about!
URL:https://mineralspringsbrewery.com/event/original-hockey-mom-brownies-11/
LOCATION:Mineral Springs Brewery\, 210 N Oak Ave\, Suite 1\, Owatonna\, MN\, 55060\, United States
CATEGORIES:Food Trucks
ATTACH;FMTTYPE=image/jpeg:https://mineralspringsbrewery.com/wp-content/uploads/2023/05/Original-Hockey-Mom-Brownies.jpg
END:VEVENT
END:VCALENDAR