BEGIN:VCALENDAR
VERSION:2.0
PRODID:-//Mineral Springs Brewery - ECPv6.15.20//NONSGML v1.0//EN
CALSCALE:GREGORIAN
METHOD:PUBLISH
X-ORIGINAL-URL:https://mineralspringsbrewery.com
X-WR-CALDESC:Events for Mineral Springs Brewery
REFRESH-INTERVAL;VALUE=DURATION:PT1H
X-Robots-Tag:noindex
X-PUBLISHED-TTL:PT1H
BEGIN:VTIMEZONE
TZID:America/Chicago
BEGIN:DAYLIGHT
TZOFFSETFROM:-0600
TZOFFSETTO:-0500
TZNAME:CDT
DTSTART:20230312T080000
END:DAYLIGHT
BEGIN:STANDARD
TZOFFSETFROM:-0500
TZOFFSETTO:-0600
TZNAME:CST
DTSTART:20231105T070000
END:STANDARD
BEGIN:DAYLIGHT
TZOFFSETFROM:-0600
TZOFFSETTO:-0500
TZNAME:CDT
DTSTART:20240310T080000
END:DAYLIGHT
BEGIN:STANDARD
TZOFFSETFROM:-0500
TZOFFSETTO:-0600
TZNAME:CST
DTSTART:20241103T070000
END:STANDARD
BEGIN:DAYLIGHT
TZOFFSETFROM:-0600
TZOFFSETTO:-0500
TZNAME:CDT
DTSTART:20250309T080000
END:DAYLIGHT
BEGIN:STANDARD
TZOFFSETFROM:-0500
TZOFFSETTO:-0600
TZNAME:CST
DTSTART:20251102T070000
END:STANDARD
END:VTIMEZONE
BEGIN:VEVENT
DTSTART;TZID=America/Chicago:20241018T160000
DTEND;TZID=America/Chicago:20241018T200000
DTSTAMP:20260422T214936
CREATED:20240918T230107Z
LAST-MODIFIED:20240923T201819Z
UID:10003530-1729267200-1729281600@mineralspringsbrewery.com
SUMMARY:Whiskey Creek BBQ - "First" Time at MSB
DESCRIPTION:Northwoods Smokehouse Whiskey Creek BBQ is a very familiar BBQ Food Trailer specializing in Texas craft BBQ focusing on pork\, chicken\, beef and gourmet sides.
URL:https://mineralspringsbrewery.com/event/whiskey-creek-bbq-first-time-at-msb/
LOCATION:Mineral Springs Brewery\, 210 N Oak Ave\, Suite 1\, Owatonna\, MN\, 55060\, United States
CATEGORIES:Food Trucks
ATTACH;FMTTYPE=image/jpeg:https://mineralspringsbrewery.com/wp-content/uploads/2024/09/Whiskey-Creek-BBQ.jpg
END:VEVENT
BEGIN:VEVENT
DTSTART;TZID=America/Chicago:20241017T160000
DTEND;TZID=America/Chicago:20241017T200000
DTSTAMP:20260422T214936
CREATED:20240918T225534Z
LAST-MODIFIED:20240918T230427Z
UID:10003529-1729180800-1729195200@mineralspringsbrewery.com
SUMMARY:Cajun KLADS House Louisiana Gumbo
DESCRIPTION:Cajun KLADS House Louisiana Gumbo brings MSB’s first authentic Cajun experience!
URL:https://mineralspringsbrewery.com/event/cajun-klads-house-louisiana-gumbo-2/
LOCATION:Mineral Springs Brewery\, 210 N Oak Ave\, Suite 1\, Owatonna\, MN\, 55060\, United States
CATEGORIES:Food Trucks
ATTACH;FMTTYPE=image/jpeg:https://mineralspringsbrewery.com/wp-content/uploads/2024/09/Cajun-KLADS-House-Louisiana-Gumbo.jpg
END:VEVENT
BEGIN:VEVENT
DTSTART;TZID=America/Chicago:20241016T163000
DTEND;TZID=America/Chicago:20241016T163000
DTSTAMP:20260422T214936
CREATED:20240918T204004Z
LAST-MODIFIED:20250103T010139Z
UID:10003269-1729096200-1729096200@mineralspringsbrewery.com
SUMMARY:Wag's Wednesday
DESCRIPTION:We’re partnering with Wagners Lunch Pool Hall to have their delicious burgers and fries delivered hot and fresh every half hour starting at 5:30pm! \n\n\n\nEach week\, you’ll have the choice between: \n\n\n\n\nDouble Cheeseburger with Fries & an MSB beer of choice for $13\n\n\n\nOr a Special Burger of the week that will rotate from week to week with Fries and an MSB beer of choice for $15\n\n\n\n\nBe sure to let our bartender know your order!
URL:https://mineralspringsbrewery.com/event/wags-wednesday-9/2024-10-16/
LOCATION:Mineral Springs Brewery\, 210 N Oak Ave\, Suite 1\, Owatonna\, MN\, 55060\, United States
CATEGORIES:Food Trucks
ATTACH;FMTTYPE=image/jpeg:https://mineralspringsbrewery.com/wp-content/uploads/2022/10/Wags-Wednesdays.jpeg
END:VEVENT
BEGIN:VEVENT
DTSTART;TZID=America/Chicago:20241012T120000
DTEND;TZID=America/Chicago:20241012T200000
DTSTAMP:20260422T214936
CREATED:20240618T034752Z
LAST-MODIFIED:20240618T034753Z
UID:10003113-1728734400-1728763200@mineralspringsbrewery.com
SUMMARY:Brick Oven Bus
DESCRIPTION:Brick oven fired pizzas\, but on the go!
URL:https://mineralspringsbrewery.com/event/brick-oven-bus-19/
LOCATION:Mineral Springs Brewery\, 210 N Oak Ave\, Suite 1\, Owatonna\, MN\, 55060\, United States
CATEGORIES:Food Trucks
ATTACH;FMTTYPE=image/jpeg:https://mineralspringsbrewery.com/wp-content/uploads/2023/01/Brick-Oven-Bus.jpg
END:VEVENT
BEGIN:VEVENT
DTSTART;TZID=America/Chicago:20241011T160000
DTEND;TZID=America/Chicago:20241011T200000
DTSTAMP:20260422T214936
CREATED:20241007T004017Z
LAST-MODIFIED:20241007T004020Z
UID:10003560-1728662400-1728676800@mineralspringsbrewery.com
SUMMARY:Twisted Chicken
DESCRIPTION:
URL:https://mineralspringsbrewery.com/event/twisted-chicken-12/
LOCATION:Mineral Springs Brewery\, 210 N Oak Ave\, Suite 1\, Owatonna\, MN\, 55060\, United States
CATEGORIES:Food Trucks
ATTACH;FMTTYPE=image/png:https://mineralspringsbrewery.com/wp-content/uploads/2022/04/Twisted-Chicken-Logo.png
END:VEVENT
BEGIN:VEVENT
DTSTART;TZID=America/Chicago:20241010T160000
DTEND;TZID=America/Chicago:20241010T200000
DTSTAMP:20260422T214936
CREATED:20240918T225407Z
LAST-MODIFIED:20240918T225409Z
UID:10003527-1728576000-1728590400@mineralspringsbrewery.com
SUMMARY:Heimstead Food Truck
DESCRIPTION:Heimstead is a scratch kitchen on wheels\, an urban farm & a mission toward living a more earth friendly existence 🌻
URL:https://mineralspringsbrewery.com/event/heimstead-food-truck-2/
LOCATION:Mineral Springs Brewery\, 210 N Oak Ave\, Suite 1\, Owatonna\, MN\, 55060\, United States
CATEGORIES:Food Trucks
ATTACH;FMTTYPE=image/jpeg:https://mineralspringsbrewery.com/wp-content/uploads/2024/09/Heimstead.jpg
END:VEVENT
BEGIN:VEVENT
DTSTART;TZID=America/Chicago:20241009T163000
DTEND;TZID=America/Chicago:20241009T163000
DTSTAMP:20260422T214936
CREATED:20240918T204004Z
LAST-MODIFIED:20250103T010139Z
UID:10003268-1728491400-1728491400@mineralspringsbrewery.com
SUMMARY:Wag's Wednesday
DESCRIPTION:We’re partnering with Wagners Lunch Pool Hall to have their delicious burgers and fries delivered hot and fresh every half hour starting at 5:30pm! \n\n\n\nEach week\, you’ll have the choice between: \n\n\n\n\nDouble Cheeseburger with Fries & an MSB beer of choice for $13\n\n\n\nOr a Special Burger of the week that will rotate from week to week with Fries and an MSB beer of choice for $15\n\n\n\n\nBe sure to let our bartender know your order!
URL:https://mineralspringsbrewery.com/event/wags-wednesday-9/2024-10-09/
LOCATION:Mineral Springs Brewery\, 210 N Oak Ave\, Suite 1\, Owatonna\, MN\, 55060\, United States
CATEGORIES:Food Trucks
ATTACH;FMTTYPE=image/jpeg:https://mineralspringsbrewery.com/wp-content/uploads/2022/10/Wags-Wednesdays.jpeg
END:VEVENT
BEGIN:VEVENT
DTSTART;TZID=America/Chicago:20241005T120000
DTEND;TZID=America/Chicago:20241005T200000
DTSTAMP:20260422T214936
CREATED:20240904T025822Z
LAST-MODIFIED:20240904T025952Z
UID:10003262-1728129600-1728158400@mineralspringsbrewery.com
SUMMARY:Potter's Pasties
DESCRIPTION:Potter’s Pastie’s trucks are easily spotted because of the Union Jack displayed on the side of the truck\, hinting at the contents within! \n\n\n\nWhat’s a Pasty?\n\n\n\nThe pasty (pronounced pastee) originated from England centuries ago. English miners wanted a way to bring savory pies with them into the bellows of the earth so they could enjoy the taste of home whilst they were away. The biggest problems they faced back then were keeping them in one piece. That and a lack of utensils to eat them with.
URL:https://mineralspringsbrewery.com/event/potters-pasties/
LOCATION:Mineral Springs Brewery\, 210 N Oak Ave\, Suite 1\, Owatonna\, MN\, 55060\, United States
CATEGORIES:Food Trucks
ATTACH;FMTTYPE=image/jpeg:https://mineralspringsbrewery.com/wp-content/uploads/2024/09/Potters-Pasties.jpg
END:VEVENT
BEGIN:VEVENT
DTSTART;TZID=America/Chicago:20241003T160000
DTEND;TZID=America/Chicago:20241003T200000
DTSTAMP:20260422T214936
CREATED:20240904T030643Z
LAST-MODIFIED:20240904T030646Z
UID:10003263-1727971200-1727985600@mineralspringsbrewery.com
SUMMARY:Louie's Happy Dogs
DESCRIPTION:
URL:https://mineralspringsbrewery.com/event/louies-happy-dogs/
LOCATION:Mineral Springs Brewery\, 210 N Oak Ave\, Suite 1\, Owatonna\, MN\, 55060\, United States
CATEGORIES:Food Trucks
ATTACH;FMTTYPE=image/jpeg:https://mineralspringsbrewery.com/wp-content/uploads/2024/09/Louies-Happy-Dogs.jpg
END:VEVENT
BEGIN:VEVENT
DTSTART;TZID=America/Chicago:20241002T163000
DTEND;TZID=America/Chicago:20241002T163000
DTSTAMP:20260422T214936
CREATED:20240918T204004Z
LAST-MODIFIED:20250103T010139Z
UID:10003267-1727886600-1727886600@mineralspringsbrewery.com
SUMMARY:Wag's Wednesday
DESCRIPTION:We’re partnering with Wagners Lunch Pool Hall to have their delicious burgers and fries delivered hot and fresh every half hour starting at 5:30pm! \n\n\n\nEach week\, you’ll have the choice between: \n\n\n\n\nDouble Cheeseburger with Fries & an MSB beer of choice for $13\n\n\n\nOr a Special Burger of the week that will rotate from week to week with Fries and an MSB beer of choice for $15\n\n\n\n\nBe sure to let our bartender know your order!
URL:https://mineralspringsbrewery.com/event/wags-wednesday-9/2024-10-02/
LOCATION:Mineral Springs Brewery\, 210 N Oak Ave\, Suite 1\, Owatonna\, MN\, 55060\, United States
CATEGORIES:Food Trucks
ATTACH;FMTTYPE=image/jpeg:https://mineralspringsbrewery.com/wp-content/uploads/2022/10/Wags-Wednesdays.jpeg
END:VEVENT
BEGIN:VEVENT
DTSTART;TZID=America/Chicago:20240928T120000
DTEND;TZID=America/Chicago:20240928T200000
DTSTAMP:20260422T214936
CREATED:20240618T034523Z
LAST-MODIFIED:20240618T034524Z
UID:10003052-1727524800-1727553600@mineralspringsbrewery.com
SUMMARY:REBEL Lobster
DESCRIPTION:Maine to Minnesota\n\n\n\nEast Coast Flavor. \n\n\n\nMid-West Comfort.\n\n\n\nOur family came from Maine. If you are wondering if it was to bring lobster to the people of Minnesota\, well – yes it was. We just didn’t know it yet. With our roots in Maine and Minnesota; we are passionate about DELICIOUS LOBSTER ROLLS and KINDNESS. From the fresh craft baked New England style rolls\, to the North Atlantic lobster meat that we stuff inside them – we know lobster rolls and can’t wait to share them with you!
URL:https://mineralspringsbrewery.com/event/rebel-lobster-7/
LOCATION:Mineral Springs Brewery\, 210 N Oak Ave\, Suite 1\, Owatonna\, MN\, 55060\, United States
CATEGORIES:Food Trucks
ATTACH;FMTTYPE=image/jpeg:https://mineralspringsbrewery.com/wp-content/uploads/2023/05/REBEL-Lobster.jpg
END:VEVENT
BEGIN:VEVENT
DTSTART;TZID=America/Chicago:20240926T110000
DTEND;TZID=America/Chicago:20240926T190000
DTSTAMP:20260422T214936
CREATED:20240904T020039Z
LAST-MODIFIED:20240904T020101Z
UID:10003261-1727348400-1727377200@mineralspringsbrewery.com
SUMMARY:On The Hook - Fish and Chips
DESCRIPTION:On The Hook specializes in Line-Caught Wild Alaskan Cod Fish and Chips. We start with the highest quality cod available sourced from the cold clean waters of Alaska. This however\, is not just any Alaskan Cod\, our cod is caught using hook and line which means that each fish is brought aboard individually and immediately headed\, gutted\, and flash frozen to perfectly preserve the fresh caught quality and tenderness. We hand coat it with our original recipe beer batter created by our founders over months by experimenting and fine tuning while they were in college. Batter was not the only thing we created from scratch\, our signature dipping sauces are included with every meal to complete a perfect dish.
URL:https://mineralspringsbrewery.com/event/on-the-hook-fish-and-chips-9-24/
LOCATION:Mineral Springs Brewery\, 210 N Oak Ave\, Suite 1\, Owatonna\, MN\, 55060\, United States
CATEGORIES:Food Trucks
ATTACH;FMTTYPE=image/jpeg:https://mineralspringsbrewery.com/wp-content/uploads/2021/03/0EEABF12-E6AD-4366-B5BB-DAE146728E09.jpeg
END:VEVENT
BEGIN:VEVENT
DTSTART;TZID=America/Chicago:20240925T163000
DTEND;TZID=America/Chicago:20240925T163000
DTSTAMP:20260422T214936
CREATED:20240918T204004Z
LAST-MODIFIED:20250103T010139Z
UID:10003266-1727281800-1727281800@mineralspringsbrewery.com
SUMMARY:Wag's Wednesday
DESCRIPTION:We’re partnering with Wagners Lunch Pool Hall to have their delicious burgers and fries delivered hot and fresh every half hour starting at 5:30pm! \n\n\n\nEach week\, you’ll have the choice between: \n\n\n\n\nDouble Cheeseburger with Fries & an MSB beer of choice for $13\n\n\n\nOr a Special Burger of the week that will rotate from week to week with Fries and an MSB beer of choice for $15\n\n\n\n\nBe sure to let our bartender know your order!
URL:https://mineralspringsbrewery.com/event/wags-wednesday-9/2024-09-25/
LOCATION:Mineral Springs Brewery\, 210 N Oak Ave\, Suite 1\, Owatonna\, MN\, 55060\, United States
CATEGORIES:Food Trucks
ATTACH;FMTTYPE=image/jpeg:https://mineralspringsbrewery.com/wp-content/uploads/2022/10/Wags-Wednesdays.jpeg
END:VEVENT
BEGIN:VEVENT
DTSTART;TZID=America/Chicago:20240921T120000
DTEND;TZID=America/Chicago:20240921T200000
DTSTAMP:20260422T214936
CREATED:20240618T033851Z
LAST-MODIFIED:20240903T225052Z
UID:10003046-1726920000-1726948800@mineralspringsbrewery.com
SUMMARY:Oktoberfest Brats - SpareTime
DESCRIPTION:SpareTime will be on site providing the most essential piece of Oktoberfest\, the Brats!
URL:https://mineralspringsbrewery.com/event/oktoberfest-brats-sparetime-2/
LOCATION:Mineral Springs Brewery\, 210 N Oak Ave\, Suite 1\, Owatonna\, MN\, 55060\, United States
CATEGORIES:Food Trucks
ATTACH;FMTTYPE=image/jpeg:https://mineralspringsbrewery.com/wp-content/uploads/2024/06/7D9A1311-scaled.jpg
END:VEVENT
BEGIN:VEVENT
DTSTART;TZID=America/Chicago:20240921T120000
DTEND;TZID=America/Chicago:20240921T200000
DTSTAMP:20260422T214936
CREATED:20240618T033822Z
LAST-MODIFIED:20240618T033823Z
UID:10003045-1726920000-1726948800@mineralspringsbrewery.com
SUMMARY:The Pretzel Wiz
DESCRIPTION:Indulge in the true spirit of Oktoberfest with delectable pretzels served fresh! Satisfy your cravings with soft\, golden-brown pretzels\, pairing perfectly with the festivities.
URL:https://mineralspringsbrewery.com/event/the-pretzel-wiz-4/
LOCATION:Mineral Springs Brewery\, 210 N Oak Ave\, Suite 1\, Owatonna\, MN\, 55060\, United States
CATEGORIES:Food Trucks
ATTACH;FMTTYPE=image/jpeg:https://mineralspringsbrewery.com/wp-content/uploads/2023/08/The-Pretzel-Wiz.jpg
END:VEVENT
BEGIN:VEVENT
DTSTART;TZID=America/Chicago:20240921T120000
DTEND;TZID=America/Chicago:20240921T190000
DTSTAMP:20260422T214936
CREATED:20240618T033744Z
LAST-MODIFIED:20240618T033746Z
UID:10003044-1726920000-1726945200@mineralspringsbrewery.com
SUMMARY:Garillers
DESCRIPTION:Garillers features their famous Chopped Cheese Sandwich along with the best smash burgers around!
URL:https://mineralspringsbrewery.com/event/garillers-18/
LOCATION:Mineral Springs Brewery\, 210 N Oak Ave\, Suite 1\, Owatonna\, MN\, 55060\, United States
CATEGORIES:Food Trucks
ATTACH;FMTTYPE=image/jpeg:https://mineralspringsbrewery.com/wp-content/uploads/2022/09/Garillers-Food-Truck.jpg
END:VEVENT
BEGIN:VEVENT
DTSTART;TZID=America/Chicago:20240920T160000
DTEND;TZID=America/Chicago:20240920T200000
DTSTAMP:20260422T214936
CREATED:20240618T033619Z
LAST-MODIFIED:20240618T033622Z
UID:10003042-1726848000-1726862400@mineralspringsbrewery.com
SUMMARY:Pleasant Grove Pizza Farm
DESCRIPTION:Pleasant Grove Pizza Farm brings over a fresh harvest of the best pizzas grown locally!
URL:https://mineralspringsbrewery.com/event/pleasant-grove-pizza-farm-20/
LOCATION:Mineral Springs Brewery\, 210 N Oak Ave\, Suite 1\, Owatonna\, MN\, 55060\, United States
CATEGORIES:Food Trucks
ATTACH;FMTTYPE=image/jpeg:https://mineralspringsbrewery.com/wp-content/uploads/2023/05/Pleasant-Grove-Pizza-FarmV2.jpg
END:VEVENT
BEGIN:VEVENT
DTSTART;TZID=America/Chicago:20240920T150000
DTEND;TZID=America/Chicago:20240920T200000
DTSTAMP:20260422T214936
CREATED:20240618T033659Z
LAST-MODIFIED:20240903T225010Z
UID:10003043-1726844400-1726862400@mineralspringsbrewery.com
SUMMARY:Oktoberfest Brats - SpareTime
DESCRIPTION:SpareTime will be on site providing the most essential piece of Oktoberfest\, the Brats!
URL:https://mineralspringsbrewery.com/event/oktoberfest-brats-sparetime/
LOCATION:Mineral Springs Brewery\, 210 N Oak Ave\, Suite 1\, Owatonna\, MN\, 55060\, United States
CATEGORIES:Food Trucks
ATTACH;FMTTYPE=image/jpeg:https://mineralspringsbrewery.com/wp-content/uploads/2024/06/7D9A1311-scaled.jpg
END:VEVENT
BEGIN:VEVENT
DTSTART;TZID=America/Chicago:20240920T150000
DTEND;TZID=America/Chicago:20240920T200000
DTSTAMP:20260422T214936
CREATED:20240618T033531Z
LAST-MODIFIED:20240618T033533Z
UID:10003041-1726844400-1726862400@mineralspringsbrewery.com
SUMMARY:The Pretzel Wiz
DESCRIPTION:Indulge in the true spirit of Oktoberfest with delectable pretzels served fresh! Satisfy your cravings with soft\, golden-brown pretzels\, pairing perfectly with the festivities.
URL:https://mineralspringsbrewery.com/event/the-pretzel-wiz-3/
LOCATION:Mineral Springs Brewery\, 210 N Oak Ave\, Suite 1\, Owatonna\, MN\, 55060\, United States
CATEGORIES:Food Trucks
ATTACH;FMTTYPE=image/jpeg:https://mineralspringsbrewery.com/wp-content/uploads/2023/08/The-Pretzel-Wiz.jpg
END:VEVENT
BEGIN:VEVENT
DTSTART;TZID=America/Chicago:20240919T160000
DTEND;TZID=America/Chicago:20240919T200000
DTSTAMP:20260422T214936
CREATED:20240903T223939Z
LAST-MODIFIED:20240903T223942Z
UID:10003258-1726761600-1726776000@mineralspringsbrewery.com
SUMMARY:2 Cavemen Grill'in
DESCRIPTION:BBQ Wings\, Shrimp\, and Pulled Pork! Featuring Papa Eitel’s Sauces and Spices and Pine Island Meats!!
URL:https://mineralspringsbrewery.com/event/2-cavemen-grillin-9/
LOCATION:Mineral Springs Brewery\, 210 N Oak Ave\, Suite 1\, Owatonna\, MN\, 55060\, United States
CATEGORIES:Food Trucks
ATTACH;FMTTYPE=image/jpeg:https://mineralspringsbrewery.com/wp-content/uploads/2022/04/2-Cavemen-Grillin.jpg
END:VEVENT
BEGIN:VEVENT
DTSTART;TZID=America/Chicago:20240918T163000
DTEND;TZID=America/Chicago:20240918T163000
DTSTAMP:20260422T214936
CREATED:20240918T204004Z
LAST-MODIFIED:20250103T010139Z
UID:10001860-1726677000-1726677000@mineralspringsbrewery.com
SUMMARY:Wag's Wednesday
DESCRIPTION:We’re partnering with Wagners Lunch Pool Hall to have their delicious burgers and fries delivered hot and fresh every half hour starting at 5:30pm! \n\n\n\nEach week\, you’ll have the choice between: \n\n\n\n\nDouble Cheeseburger with Fries & an MSB beer of choice for $13\n\n\n\nOr a Special Burger of the week that will rotate from week to week with Fries and an MSB beer of choice for $15\n\n\n\n\nBe sure to let our bartender know your order!
URL:https://mineralspringsbrewery.com/event/wags-wednesday-9/2024-09-18/
LOCATION:Mineral Springs Brewery\, 210 N Oak Ave\, Suite 1\, Owatonna\, MN\, 55060\, United States
CATEGORIES:Food Trucks
ATTACH;FMTTYPE=image/jpeg:https://mineralspringsbrewery.com/wp-content/uploads/2022/10/Wags-Wednesdays.jpeg
END:VEVENT
BEGIN:VEVENT
DTSTART;TZID=America/Chicago:20240914T120000
DTEND;TZID=America/Chicago:20240914T200000
DTSTAMP:20260422T214936
CREATED:20240618T032454Z
LAST-MODIFIED:20240618T032456Z
UID:10003037-1726315200-1726344000@mineralspringsbrewery.com
SUMMARY:Ol' Smoky BBQ
DESCRIPTION:Ol’ Smoky BBQ is all about amazing BBQ! Ribs\, brisket\, pulled pork\, street tacos\, smoky mac n’ cheese\, kickin’ slaw\, jalapeño cornbread\, peach cobbler + more! Veteran-owned + family run. They make BBQ fun!
URL:https://mineralspringsbrewery.com/event/ol-smoky-bbq-2/
LOCATION:Mineral Springs Brewery\, 210 N Oak Ave\, Suite 1\, Owatonna\, MN\, 55060\, United States
CATEGORIES:Food Trucks
ATTACH;FMTTYPE=image/jpeg:https://mineralspringsbrewery.com/wp-content/uploads/2024/06/Ol-Smoky-BBQ.jpg
END:VEVENT
BEGIN:VEVENT
DTSTART;TZID=America/Chicago:20240913T160000
DTEND;TZID=America/Chicago:20240913T200000
DTSTAMP:20260422T214936
CREATED:20240903T223721Z
LAST-MODIFIED:20240912T003859Z
UID:10003257-1726243200-1726257600@mineralspringsbrewery.com
SUMMARY:Cajun KLADS House Louisiana Gumbo
DESCRIPTION:Cajun KLADS House Louisiana Gumbo brings MSB’s first authentic Cajun experience!
URL:https://mineralspringsbrewery.com/event/cajun-klads-house-louisiana-gumbo/
LOCATION:Mineral Springs Brewery\, 210 N Oak Ave\, Suite 1\, Owatonna\, MN\, 55060\, United States
CATEGORIES:Food Trucks
ATTACH;FMTTYPE=image/jpeg:https://mineralspringsbrewery.com/wp-content/uploads/2024/09/Cajun-KLADS-House-Louisiana-Gumbo.jpg
END:VEVENT
BEGIN:VEVENT
DTSTART;TZID=America/Chicago:20240912T160000
DTEND;TZID=America/Chicago:20240912T200000
DTSTAMP:20260422T214936
CREATED:20240903T222040Z
LAST-MODIFIED:20240903T222041Z
UID:10003253-1726156800-1726171200@mineralspringsbrewery.com
SUMMARY:Sambusa Samosa
DESCRIPTION:
URL:https://mineralspringsbrewery.com/event/sambusa-samosa/
LOCATION:Mineral Springs Brewery\, 210 N Oak Ave\, Suite 1\, Owatonna\, MN\, 55060\, United States
CATEGORIES:Food Trucks
ATTACH;FMTTYPE=image/jpeg:https://mineralspringsbrewery.com/wp-content/uploads/2024/04/IMG_0758.jpeg
END:VEVENT
BEGIN:VEVENT
DTSTART;TZID=America/Chicago:20240911T170000
DTEND;TZID=America/Chicago:20240911T170000
DTSTAMP:20260422T214936
CREATED:20230822T225146Z
LAST-MODIFIED:20230822T225148Z
UID:10001859-1726074000-1726074000@mineralspringsbrewery.com
SUMMARY:Wag's Wednesday
DESCRIPTION:We’re partnering with Wagners Lunch Pool Hall to have their delicious burgers and fries delivered hot and fresh every half hour starting at 5:30pm! \n\n\n\nEach week\, you’ll have the choice between: \n\n\n\n\nDouble Cheeseburger with Fries & an MSB beer of choice for $13\n\n\n\nOr a Special Burger of the week that will rotate from week to week with Fries and an MSB beer of choice for $15\n\n\n\n\nBe sure to let our bartender know your order!
URL:https://mineralspringsbrewery.com/event/wags-wednesday-11/2024-09-11/
LOCATION:Mineral Springs Brewery\, 210 N Oak Ave\, Suite 1\, Owatonna\, MN\, 55060\, United States
CATEGORIES:Food Trucks
ATTACH;FMTTYPE=image/jpeg:https://mineralspringsbrewery.com/wp-content/uploads/2022/10/Wags-Wednesdays.jpeg
END:VEVENT
BEGIN:VEVENT
DTSTART;TZID=America/Chicago:20240907T120000
DTEND;TZID=America/Chicago:20240907T200000
DTSTAMP:20260422T214936
CREATED:20240618T032114Z
LAST-MODIFIED:20240618T032115Z
UID:10003032-1725710400-1725739200@mineralspringsbrewery.com
SUMMARY:Brick Oven Bus
DESCRIPTION:Brick oven fired pizzas\, but on the go!
URL:https://mineralspringsbrewery.com/event/brick-oven-bus-18/
LOCATION:Mineral Springs Brewery\, 210 N Oak Ave\, Suite 1\, Owatonna\, MN\, 55060\, United States
CATEGORIES:Food Trucks
ATTACH;FMTTYPE=image/jpeg:https://mineralspringsbrewery.com/wp-content/uploads/2023/01/Brick-Oven-Bus.jpg
END:VEVENT
BEGIN:VEVENT
DTSTART;TZID=America/Chicago:20240906T160000
DTEND;TZID=America/Chicago:20240906T200000
DTSTAMP:20260422T214936
CREATED:20240618T032020Z
LAST-MODIFIED:20240618T040452Z
UID:10003031-1725638400-1725652800@mineralspringsbrewery.com
SUMMARY:Toño's Tacos
DESCRIPTION:Details
URL:https://mineralspringsbrewery.com/event/tonos-tacos-3/
LOCATION:MN
CATEGORIES:Food Trucks
ATTACH;FMTTYPE=image/jpeg:https://mineralspringsbrewery.com/wp-content/uploads/2023/11/Tonos-Tacos.jpg
END:VEVENT
BEGIN:VEVENT
DTSTART;TZID=America/Chicago:20240905T160000
DTEND;TZID=America/Chicago:20240905T200000
DTSTAMP:20260422T214936
CREATED:20240903T220637Z
LAST-MODIFIED:20240903T220640Z
UID:10003242-1725552000-1725566400@mineralspringsbrewery.com
SUMMARY:Heimstead Food Truck
DESCRIPTION:Heimstead is a scratch kitchen on wheels\, an urban farm & a mission toward living a more earth friendly existence 🌻
URL:https://mineralspringsbrewery.com/event/heimstead-food-truck/
LOCATION:Mineral Springs Brewery\, 210 N Oak Ave\, Suite 1\, Owatonna\, MN\, 55060\, United States
CATEGORIES:Food Trucks
ATTACH;FMTTYPE=image/jpeg:https://mineralspringsbrewery.com/wp-content/uploads/2024/09/Heimstead.jpg
END:VEVENT
BEGIN:VEVENT
DTSTART;TZID=America/Chicago:20240904T170000
DTEND;TZID=America/Chicago:20240904T170000
DTSTAMP:20260422T214936
CREATED:20230822T225146Z
LAST-MODIFIED:20230822T225148Z
UID:10001858-1725469200-1725469200@mineralspringsbrewery.com
SUMMARY:Wag's Wednesday
DESCRIPTION:We’re partnering with Wagners Lunch Pool Hall to have their delicious burgers and fries delivered hot and fresh every half hour starting at 5:30pm! \n\n\n\nEach week\, you’ll have the choice between: \n\n\n\n\nDouble Cheeseburger with Fries & an MSB beer of choice for $13\n\n\n\nOr a Special Burger of the week that will rotate from week to week with Fries and an MSB beer of choice for $15\n\n\n\n\nBe sure to let our bartender know your order!
URL:https://mineralspringsbrewery.com/event/wags-wednesday-11/2024-09-04/
LOCATION:Mineral Springs Brewery\, 210 N Oak Ave\, Suite 1\, Owatonna\, MN\, 55060\, United States
CATEGORIES:Food Trucks
ATTACH;FMTTYPE=image/jpeg:https://mineralspringsbrewery.com/wp-content/uploads/2022/10/Wags-Wednesdays.jpeg
END:VEVENT
BEGIN:VEVENT
DTSTART;TZID=America/Chicago:20240831T120000
DTEND;TZID=America/Chicago:20240831T200000
DTSTAMP:20260422T214936
CREATED:20240423T002122Z
LAST-MODIFIED:20240423T002122Z
UID:10002954-1725105600-1725134400@mineralspringsbrewery.com
SUMMARY:Twisted Chicken
DESCRIPTION:
URL:https://mineralspringsbrewery.com/event/twisted-chicken-10/
LOCATION:Mineral Springs Brewery\, 210 N Oak Ave\, Suite 1\, Owatonna\, MN\, 55060\, United States
CATEGORIES:Food Trucks
ATTACH;FMTTYPE=image/png:https://mineralspringsbrewery.com/wp-content/uploads/2022/04/Twisted-Chicken-Logo.png
END:VEVENT
END:VCALENDAR