BEGIN:VCALENDAR
VERSION:2.0
PRODID:-//Mineral Springs Brewery - ECPv6.15.20//NONSGML v1.0//EN
CALSCALE:GREGORIAN
METHOD:PUBLISH
X-ORIGINAL-URL:https://mineralspringsbrewery.com
X-WR-CALDESC:Events for Mineral Springs Brewery
REFRESH-INTERVAL;VALUE=DURATION:PT1H
X-Robots-Tag:noindex
X-PUBLISHED-TTL:PT1H
BEGIN:VTIMEZONE
TZID:America/Chicago
BEGIN:DAYLIGHT
TZOFFSETFROM:-0600
TZOFFSETTO:-0500
TZNAME:CDT
DTSTART:20220313T080000
END:DAYLIGHT
BEGIN:STANDARD
TZOFFSETFROM:-0500
TZOFFSETTO:-0600
TZNAME:CST
DTSTART:20221106T070000
END:STANDARD
BEGIN:DAYLIGHT
TZOFFSETFROM:-0600
TZOFFSETTO:-0500
TZNAME:CDT
DTSTART:20230312T080000
END:DAYLIGHT
BEGIN:STANDARD
TZOFFSETFROM:-0500
TZOFFSETTO:-0600
TZNAME:CST
DTSTART:20231105T070000
END:STANDARD
BEGIN:DAYLIGHT
TZOFFSETFROM:-0600
TZOFFSETTO:-0500
TZNAME:CDT
DTSTART:20240310T080000
END:DAYLIGHT
BEGIN:STANDARD
TZOFFSETFROM:-0500
TZOFFSETTO:-0600
TZNAME:CST
DTSTART:20241103T070000
END:STANDARD
END:VTIMEZONE
BEGIN:VEVENT
DTSTART;TZID=America/Chicago:20230901T160000
DTEND;TZID=America/Chicago:20230901T200000
DTSTAMP:20260424T025332
CREATED:20230519T185153Z
LAST-MODIFIED:20230526T200207Z
UID:10002603-1693584000-1693598400@mineralspringsbrewery.com
SUMMARY:Twisted Chicken
DESCRIPTION:
URL:https://mineralspringsbrewery.com/event/twisted-chicken-4/
LOCATION:Mineral Springs Brewery\, 210 N Oak Ave\, Suite 1\, Owatonna\, MN\, 55060\, United States
CATEGORIES:Food Trucks
ATTACH;FMTTYPE=image/png:https://mineralspringsbrewery.com/wp-content/uploads/2022/04/Twisted-Chicken-Logo.png
END:VEVENT
BEGIN:VEVENT
DTSTART;TZID=America/Chicago:20230831T170000
DTEND;TZID=America/Chicago:20230831T170000
DTSTAMP:20260424T025332
CREATED:20230822T225207Z
LAST-MODIFIED:20250319T185917Z
UID:10001548-1693501200-1693501200@mineralspringsbrewery.com
SUMMARY:Thursday Pizza Special
DESCRIPTION:We’ve partnered with A Taste of the Big Apple to have their delicious pizzas delivered hot and fresh every half hour starting at 5:30pm! We also have frozen pizzas from our friends over at Pleasant Grove Pizza Farm that we’re able to cook up in our ovens! \n\n\n\nOrder your choice of pizza at the bar and we’ll get it to you when it’s delivered! \n\n\n\n\n\nA Taste of the Big Apple\n\n\n\n\nCheese\n\n\n\nSausage\n\n\n\nPepperoni\n\n\n\nSausage/Pepperoni\n\n\n\nCombo\n\nSausage\, Pepperoni\, Onions\, & Mushrooms\n\n\n\n\n\n\n\n\nPleasant Grove Pizza Farm\n\n\n\n\nCheese\n\n\n\nSusie (Sausage)\n\n\n\nChuck (Pepperoni)\n\n\n\nChuck & Susie (Pepperoni & Sausage)\n\n\n\nMN Mess (Combo)\n\nSausage\, Green & Black Olives\, Green Peppers\, Onions\, & Mushrooms\n\n\n\n\n\nPizza Fries & Sauce\n\n\n\n\n\n\nBe sure to let our bartender know your order!
URL:https://mineralspringsbrewery.com/event/a-taste-of-the-big-apple-thursday-special-11/2023-08-31/
LOCATION:Mineral Springs Brewery\, 210 N Oak Ave\, Suite 1\, Owatonna\, MN\, 55060\, United States
CATEGORIES:Food Trucks
ATTACH;FMTTYPE=image/jpeg:https://mineralspringsbrewery.com/wp-content/uploads/2022/12/A-Taste-of-the-Big-Apple.jpg
END:VEVENT
BEGIN:VEVENT
DTSTART;TZID=America/Chicago:20230830T110000
DTEND;TZID=America/Chicago:20230830T190000
DTSTAMP:20260424T025332
CREATED:20230822T215400Z
LAST-MODIFIED:20230822T224550Z
UID:10002650-1693393200-1693422000@mineralspringsbrewery.com
SUMMARY:On The Hook - Fish and Chips
DESCRIPTION:On The Hook specializes in Line-Caught Wild Alaskan Cod Fish and Chips. We start with the highest quality cod available sourced from the cold clean waters of Alaska. This however\, is not just any Alaskan Cod\, our cod is caught using hook and line which means that each fish is brought aboard individually and immediately headed\, gutted\, and flash frozen to perfectly preserve the fresh caught quality and tenderness. We hand coat it with our original recipe beer batter created by our founders over months by experimenting and fine tuning while they were in college. Batter was not the only thing we created from scratch\, our signature dipping sauces are included with every meal to complete a perfect dish.
URL:https://mineralspringsbrewery.com/event/on-the-hook-fish-and-chips-5/
LOCATION:Mineral Springs Brewery\, 210 N Oak Ave\, Suite 1\, Owatonna\, MN\, 55060\, United States
CATEGORIES:Food Trucks
ATTACH;FMTTYPE=image/jpeg:https://mineralspringsbrewery.com/wp-content/uploads/2021/03/0EEABF12-E6AD-4366-B5BB-DAE146728E09.jpeg
END:VEVENT
BEGIN:VEVENT
DTSTART;TZID=America/Chicago:20230826T120000
DTEND;TZID=America/Chicago:20230826T200000
DTSTAMP:20260424T025332
CREATED:20230519T185029Z
LAST-MODIFIED:20230526T200157Z
UID:10002601-1693051200-1693080000@mineralspringsbrewery.com
SUMMARY:REBEL Lobster
DESCRIPTION:Maine to Minnesota\n\n\n\nEast Coast Flavor. \n\n\n\nMid-West Comfort.\n\n\n\nOur family came from Maine. If you are wondering if it was to bring lobster to the people of Minnesota\, well – yes it was. We just didn’t know it yet. With our roots in Maine and Minnesota; we are passionate about DELICIOUS LOBSTER ROLLS and KINDNESS. From the fresh craft baked New England style rolls\, to the North Atlantic lobster meat that we stuff inside them – we know lobster rolls and can’t wait to share them with you!
URL:https://mineralspringsbrewery.com/event/rebel-lobster-2/
LOCATION:Mineral Springs Brewery\, 210 N Oak Ave\, Suite 1\, Owatonna\, MN\, 55060\, United States
CATEGORIES:Food Trucks
ATTACH;FMTTYPE=image/jpeg:https://mineralspringsbrewery.com/wp-content/uploads/2023/05/REBEL-Lobster.jpg
END:VEVENT
BEGIN:VEVENT
DTSTART;TZID=America/Chicago:20230826T120000
DTEND;TZID=America/Chicago:20230826T200000
DTSTAMP:20260424T025332
CREATED:20230519T185014Z
LAST-MODIFIED:20230526T200000Z
UID:10002600-1693051200-1693080000@mineralspringsbrewery.com
SUMMARY:Original Hockey Mom Brownies
DESCRIPTION:Brownies + Ice Cream on wheels\, that’s what we’re talking about!
URL:https://mineralspringsbrewery.com/event/original-hockey-mom-brownies-2/
LOCATION:Mineral Springs Brewery\, 210 N Oak Ave\, Suite 1\, Owatonna\, MN\, 55060\, United States
CATEGORIES:Food Trucks
ATTACH;FMTTYPE=image/jpeg:https://mineralspringsbrewery.com/wp-content/uploads/2023/05/Original-Hockey-Mom-Brownies.jpg
END:VEVENT
BEGIN:VEVENT
DTSTART;TZID=America/Chicago:20230825T160000
DTEND;TZID=America/Chicago:20230825T200000
DTSTAMP:20260424T025332
CREATED:20230519T184907Z
LAST-MODIFIED:20230526T195946Z
UID:10002598-1692979200-1692993600@mineralspringsbrewery.com
SUMMARY:Pleasant Grove Pizza Farm
DESCRIPTION:Pleasant Grove Pizza Farm brings over a fresh harvest of the best pizzas grown locally!
URL:https://mineralspringsbrewery.com/event/pleasant-grove-pizza-farm-9/
LOCATION:Mineral Springs Brewery\, 210 N Oak Ave\, Suite 1\, Owatonna\, MN\, 55060\, United States
CATEGORIES:Food Trucks
ATTACH;FMTTYPE=image/jpeg:https://mineralspringsbrewery.com/wp-content/uploads/2023/05/Pleasant-Grove-Pizza-FarmV2.jpg
END:VEVENT
BEGIN:VEVENT
DTSTART;TZID=America/Chicago:20230824T163000
DTEND;TZID=America/Chicago:20230824T200000
DTSTAMP:20260424T025332
CREATED:20230519T184815Z
LAST-MODIFIED:20230526T195937Z
UID:10002597-1692894600-1692907200@mineralspringsbrewery.com
SUMMARY:El Rey Del Taco
DESCRIPTION:El Rey Del Taco truly is the king of tacos! Food is always fresh and salsa is made daily!
URL:https://mineralspringsbrewery.com/event/el-rey-del-taco-4/
LOCATION:Mineral Springs Brewery\, 210 N Oak Ave\, Suite 1\, Owatonna\, MN\, 55060\, United States
CATEGORIES:Food Trucks
ATTACH;FMTTYPE=image/jpeg:https://mineralspringsbrewery.com/wp-content/uploads/2022/03/elReydelTaco.jpg
END:VEVENT
BEGIN:VEVENT
DTSTART;TZID=America/Chicago:20230823T170000
DTEND;TZID=America/Chicago:20230823T170000
DTSTAMP:20260424T025332
CREATED:20230822T225146Z
LAST-MODIFIED:20230822T225148Z
UID:10001804-1692810000-1692810000@mineralspringsbrewery.com
SUMMARY:Wag's Wednesday
DESCRIPTION:We’re partnering with Wagners Lunch Pool Hall to have their delicious burgers and fries delivered hot and fresh every half hour starting at 5:30pm! \n\n\n\nEach week\, you’ll have the choice between: \n\n\n\n\nDouble Cheeseburger with Fries & an MSB beer of choice for $13\n\n\n\nOr a Special Burger of the week that will rotate from week to week with Fries and an MSB beer of choice for $15\n\n\n\n\nBe sure to let our bartender know your order!
URL:https://mineralspringsbrewery.com/event/wags-wednesday-11/2023-08-23/
LOCATION:Mineral Springs Brewery\, 210 N Oak Ave\, Suite 1\, Owatonna\, MN\, 55060\, United States
CATEGORIES:Food Trucks
ATTACH;FMTTYPE=image/jpeg:https://mineralspringsbrewery.com/wp-content/uploads/2022/10/Wags-Wednesdays.jpeg
END:VEVENT
BEGIN:VEVENT
DTSTART;TZID=America/Chicago:20230817T170000
DTEND;TZID=America/Chicago:20230817T170000
DTSTAMP:20260424T025332
CREATED:20230519T171851Z
LAST-MODIFIED:20230526T195057Z
UID:10001546-1692291600-1692291600@mineralspringsbrewery.com
SUMMARY:A Taste of the Big Apple Thursday Special
DESCRIPTION:We’re partnering with A Taste of the Big Apple to have their delicious pizzas delivered hot and fresh every half hour starting at 5:30pm! \n\n\n\nOrder your choice of large pizza at the bar and it will be delivered to your table \n\n\n\n\nCheese – $20\n\n\n\nSausage/Pepperoni – $21\n\n\n\nCombo – $23\n\n\n\nAdd MSB beer \n\nOne pour – $5\n\n\n\nTwo pours – $10\n\n\n\n\n\n\nBe sure to let our bartender know your order!
URL:https://mineralspringsbrewery.com/event/a-taste-of-the-big-apple-thursday-special-9/2023-08-17/
LOCATION:Mineral Springs Brewery\, 210 N Oak Ave\, Suite 1\, Owatonna\, MN\, 55060\, United States
CATEGORIES:Activities,Food Trucks
ATTACH;FMTTYPE=image/jpeg:https://mineralspringsbrewery.com/wp-content/uploads/2022/12/A-Taste-of-the-Big-Apple.jpg
END:VEVENT
BEGIN:VEVENT
DTSTART;TZID=America/Chicago:20230812T160000
DTEND;TZID=America/Chicago:20230812T200000
DTSTAMP:20260424T025332
CREATED:20230519T184534Z
LAST-MODIFIED:20230807T160248Z
UID:10002592-1691856000-1691870400@mineralspringsbrewery.com
SUMMARY:Pleasant Grove Pizza Farm
DESCRIPTION:Pleasant Grove Pizza Farm brings over a fresh harvest of the best pizzas grown locally!
URL:https://mineralspringsbrewery.com/event/pleasant-grove-pizza-farm-8/
LOCATION:Mineral Springs Brewery\, 210 N Oak Ave\, Suite 1\, Owatonna\, MN\, 55060\, United States
CATEGORIES:Food Trucks
ATTACH;FMTTYPE=image/jpeg:https://mineralspringsbrewery.com/wp-content/uploads/2023/05/Pleasant-Grove-Pizza-FarmV2.jpg
END:VEVENT
BEGIN:VEVENT
DTSTART;TZID=America/Chicago:20230811T160000
DTEND;TZID=America/Chicago:20230811T200000
DTSTAMP:20260424T025332
CREATED:20230519T184430Z
LAST-MODIFIED:20230526T195858Z
UID:10002590-1691769600-1691784000@mineralspringsbrewery.com
SUMMARY:Noris Cuisine
DESCRIPTION:Noris Cuisine makes fresh the greatest fusion of Latin American cuisine southern MN has to offer!
URL:https://mineralspringsbrewery.com/event/noris-cuisine-2/
LOCATION:Mineral Springs Brewery\, 210 N Oak Ave\, Suite 1\, Owatonna\, MN\, 55060\, United States
CATEGORIES:Food Trucks
ATTACH;FMTTYPE=image/png:https://mineralspringsbrewery.com/wp-content/uploads/2022/04/Noris-Cuisine.png
END:VEVENT
BEGIN:VEVENT
DTSTART;TZID=America/Chicago:20230810T160000
DTEND;TZID=America/Chicago:20230810T200000
DTSTAMP:20260424T025332
CREATED:20230726T232235Z
LAST-MODIFIED:20230726T232237Z
UID:10002642-1691683200-1691697600@mineralspringsbrewery.com
SUMMARY:Garillers
DESCRIPTION:Garillers features their famous Chopped Cheese Sandwich!
URL:https://mineralspringsbrewery.com/event/garillers-4/
LOCATION:Mineral Springs Brewery\, 210 N Oak Ave\, Suite 1\, Owatonna\, MN\, 55060\, United States
CATEGORIES:Food Trucks
ATTACH;FMTTYPE=image/jpeg:https://mineralspringsbrewery.com/wp-content/uploads/2022/09/Garillers-Food-Truck.jpg
END:VEVENT
BEGIN:VEVENT
DTSTART;TZID=America/Chicago:20230809T170000
DTEND;TZID=America/Chicago:20230809T170000
DTSTAMP:20260424T025332
CREATED:20230418T155342Z
LAST-MODIFIED:20230526T200812Z
UID:10001802-1691600400-1691600400@mineralspringsbrewery.com
SUMMARY:Wag's Wednesday
DESCRIPTION:We’re partnering with Wagners Lunch Pool Hall to have their delicious burgers and fries delivered hot and fresh every half hour starting at 5:30pm! \n\n\n\nEach week\, you’ll have the choice between: \n\n\n\n\nDouble Cheeseburger with Fries & an MSB beer of choice for $13\n\n\n\nOr a Special Burger of the week that will rotate from week to week with Fries and an MSB beer of choice for $15\n\n\n\n\nBe sure to let our bartender know your order!
URL:https://mineralspringsbrewery.com/event/wags-wednesday-7/2023-08-09/
LOCATION:Mineral Springs Brewery\, 210 N Oak Ave\, Suite 1\, Owatonna\, MN\, 55060\, United States
CATEGORIES:Food Trucks
ATTACH;FMTTYPE=image/jpeg:https://mineralspringsbrewery.com/wp-content/uploads/2022/10/Wags-Wednesdays.jpeg
END:VEVENT
BEGIN:VEVENT
DTSTART;TZID=America/Chicago:20230805T120000
DTEND;TZID=America/Chicago:20230805T200000
DTSTAMP:20260424T025332
CREATED:20230519T183925Z
LAST-MODIFIED:20230526T195850Z
UID:10002588-1691236800-1691265600@mineralspringsbrewery.com
SUMMARY:Brick Oven Bus
DESCRIPTION:Brick oven fired pizzas\, but on the go!
URL:https://mineralspringsbrewery.com/event/brick-oven-bus-6/
LOCATION:Mineral Springs Brewery\, 210 N Oak Ave\, Suite 1\, Owatonna\, MN\, 55060\, United States
CATEGORIES:Food Trucks
ATTACH;FMTTYPE=image/jpeg:https://mineralspringsbrewery.com/wp-content/uploads/2023/01/Brick-Oven-Bus.jpg
END:VEVENT
BEGIN:VEVENT
DTSTART;TZID=America/Chicago:20230804T120000
DTEND;TZID=America/Chicago:20230804T200000
DTSTAMP:20260424T025332
CREATED:20230519T183653Z
LAST-MODIFIED:20230526T195841Z
UID:10002586-1691150400-1691179200@mineralspringsbrewery.com
SUMMARY:Northwoods Smokehouse
DESCRIPTION:Northwoods Smokehouse is a BBQ Food Trailer specializing in Texas craft BBQ focusing on pork\, chicken\, beef and gourmet sides.
URL:https://mineralspringsbrewery.com/event/northwoods-smokehouse-13/
LOCATION:Mineral Springs Brewery\, 210 N Oak Ave\, Suite 1\, Owatonna\, MN\, 55060\, United States
CATEGORIES:Food Trucks
ATTACH;FMTTYPE=image/jpeg:https://mineralspringsbrewery.com/wp-content/uploads/2022/08/Northwoods-Smokehouse.jpg
END:VEVENT
BEGIN:VEVENT
DTSTART;TZID=America/Chicago:20230803T170000
DTEND;TZID=America/Chicago:20230803T170000
DTSTAMP:20260424T025332
CREATED:20230519T171851Z
LAST-MODIFIED:20230526T195057Z
UID:10001544-1691082000-1691082000@mineralspringsbrewery.com
SUMMARY:A Taste of the Big Apple Thursday Special
DESCRIPTION:We’re partnering with A Taste of the Big Apple to have their delicious pizzas delivered hot and fresh every half hour starting at 5:30pm! \n\n\n\nOrder your choice of large pizza at the bar and it will be delivered to your table \n\n\n\n\nCheese – $20\n\n\n\nSausage/Pepperoni – $21\n\n\n\nCombo – $23\n\n\n\nAdd MSB beer \n\nOne pour – $5\n\n\n\nTwo pours – $10\n\n\n\n\n\n\nBe sure to let our bartender know your order!
URL:https://mineralspringsbrewery.com/event/a-taste-of-the-big-apple-thursday-special-9/2023-08-03/
LOCATION:Mineral Springs Brewery\, 210 N Oak Ave\, Suite 1\, Owatonna\, MN\, 55060\, United States
CATEGORIES:Activities,Food Trucks
ATTACH;FMTTYPE=image/jpeg:https://mineralspringsbrewery.com/wp-content/uploads/2022/12/A-Taste-of-the-Big-Apple.jpg
END:VEVENT
BEGIN:VEVENT
DTSTART;TZID=America/Chicago:20230802T170000
DTEND;TZID=America/Chicago:20230802T170000
DTSTAMP:20260424T025332
CREATED:20230418T155342Z
LAST-MODIFIED:20230526T200812Z
UID:10001801-1690995600-1690995600@mineralspringsbrewery.com
SUMMARY:Wag's Wednesday
DESCRIPTION:We’re partnering with Wagners Lunch Pool Hall to have their delicious burgers and fries delivered hot and fresh every half hour starting at 5:30pm! \n\n\n\nEach week\, you’ll have the choice between: \n\n\n\n\nDouble Cheeseburger with Fries & an MSB beer of choice for $13\n\n\n\nOr a Special Burger of the week that will rotate from week to week with Fries and an MSB beer of choice for $15\n\n\n\n\nBe sure to let our bartender know your order!
URL:https://mineralspringsbrewery.com/event/wags-wednesday-7/2023-08-02/
LOCATION:Mineral Springs Brewery\, 210 N Oak Ave\, Suite 1\, Owatonna\, MN\, 55060\, United States
CATEGORIES:Food Trucks
ATTACH;FMTTYPE=image/jpeg:https://mineralspringsbrewery.com/wp-content/uploads/2022/10/Wags-Wednesdays.jpeg
END:VEVENT
BEGIN:VEVENT
DTSTART;TZID=America/Chicago:20230729T120000
DTEND;TZID=America/Chicago:20230729T200000
DTSTAMP:20260424T025333
CREATED:20230519T182538Z
LAST-MODIFIED:20230526T195832Z
UID:10002583-1690632000-1690660800@mineralspringsbrewery.com
SUMMARY:Twisted Chicken
DESCRIPTION:
URL:https://mineralspringsbrewery.com/event/twisted-chicken-3/
LOCATION:Mineral Springs Brewery\, 210 N Oak Ave\, Suite 1\, Owatonna\, MN\, 55060\, United States
CATEGORIES:Food Trucks
ATTACH;FMTTYPE=image/png:https://mineralspringsbrewery.com/wp-content/uploads/2022/04/Twisted-Chicken-Logo.png
END:VEVENT
BEGIN:VEVENT
DTSTART;TZID=America/Chicago:20230728T120000
DTEND;TZID=America/Chicago:20230728T200000
DTSTAMP:20260424T025333
CREATED:20230519T182431Z
LAST-MODIFIED:20230526T195819Z
UID:10002582-1690545600-1690574400@mineralspringsbrewery.com
SUMMARY:Original Hockey Mom Brownies
DESCRIPTION:Brownies + Ice Cream on wheels\, that’s what we’re talking about!
URL:https://mineralspringsbrewery.com/event/original-hockey-mom-brownies/
LOCATION:Mineral Springs Brewery\, 210 N Oak Ave\, Suite 1\, Owatonna\, MN\, 55060\, United States
CATEGORIES:Food Trucks
ATTACH;FMTTYPE=image/jpeg:https://mineralspringsbrewery.com/wp-content/uploads/2023/05/Original-Hockey-Mom-Brownies.jpg
END:VEVENT
BEGIN:VEVENT
DTSTART;TZID=America/Chicago:20230728T120000
DTEND;TZID=America/Chicago:20230728T200000
DTSTAMP:20260424T025333
CREATED:20230519T181445Z
LAST-MODIFIED:20230526T195809Z
UID:10002581-1690545600-1690574400@mineralspringsbrewery.com
SUMMARY:REBEL Lobster
DESCRIPTION:Maine to Minnesota\n\n\n\nEast Coast Flavor. \n\n\n\nMid-West Comfort.\n\n\n\nOur family came from Maine. If you are wondering if it was to bring lobster to the people of Minnesota\, well – yes it was. We just didn’t know it yet. With our roots in Maine and Minnesota; we are passionate about DELICIOUS LOBSTER ROLLS and KINDNESS. From the fresh craft baked New England style rolls\, to the North Atlantic lobster meat that we stuff inside them – we know lobster rolls and can’t wait to share them with you!
URL:https://mineralspringsbrewery.com/event/rebel-lobster/
LOCATION:Mineral Springs Brewery\, 210 N Oak Ave\, Suite 1\, Owatonna\, MN\, 55060\, United States
CATEGORIES:Food Trucks
ATTACH;FMTTYPE=image/jpeg:https://mineralspringsbrewery.com/wp-content/uploads/2023/05/REBEL-Lobster.jpg
END:VEVENT
BEGIN:VEVENT
DTSTART;TZID=America/Chicago:20230727T170000
DTEND;TZID=America/Chicago:20230727T170000
DTSTAMP:20260424T025333
CREATED:20230519T171851Z
LAST-MODIFIED:20230526T195057Z
UID:10001543-1690477200-1690477200@mineralspringsbrewery.com
SUMMARY:A Taste of the Big Apple Thursday Special
DESCRIPTION:We’re partnering with A Taste of the Big Apple to have their delicious pizzas delivered hot and fresh every half hour starting at 5:30pm! \n\n\n\nOrder your choice of large pizza at the bar and it will be delivered to your table \n\n\n\n\nCheese – $20\n\n\n\nSausage/Pepperoni – $21\n\n\n\nCombo – $23\n\n\n\nAdd MSB beer \n\nOne pour – $5\n\n\n\nTwo pours – $10\n\n\n\n\n\n\nBe sure to let our bartender know your order!
URL:https://mineralspringsbrewery.com/event/a-taste-of-the-big-apple-thursday-special-9/2023-07-27/
LOCATION:Mineral Springs Brewery\, 210 N Oak Ave\, Suite 1\, Owatonna\, MN\, 55060\, United States
CATEGORIES:Activities,Food Trucks
ATTACH;FMTTYPE=image/jpeg:https://mineralspringsbrewery.com/wp-content/uploads/2022/12/A-Taste-of-the-Big-Apple.jpg
END:VEVENT
BEGIN:VEVENT
DTSTART;TZID=America/Chicago:20230726T110000
DTEND;TZID=America/Chicago:20230726T190000
DTSTAMP:20260424T025333
CREATED:20230724T152512Z
LAST-MODIFIED:20230724T152514Z
UID:10002628-1690369200-1690398000@mineralspringsbrewery.com
SUMMARY:On The Hook - Fish and Chips
DESCRIPTION:On The Hook specializes in Line-Caught Wild Alaskan Cod Fish and Chips. We start with the highest quality cod available sourced from the cold clean waters of Alaska. This however\, is not just any Alaskan Cod\, our cod is caught using hook and line which means that each fish is brought aboard individually and immediately headed\, gutted\, and flash frozen to perfectly preserve the fresh caught quality and tenderness. We hand coat it with our original recipe beer batter created by our founders over months by experimenting and fine tuning while they were in college. Batter was not the only thing we created from scratch\, our signature dipping sauces are included with every meal to complete a perfect dish.
URL:https://mineralspringsbrewery.com/event/on-the-hook-fish-and-chips-4/
LOCATION:MN
CATEGORIES:Food Trucks
ATTACH;FMTTYPE=image/jpeg:https://mineralspringsbrewery.com/wp-content/uploads/2021/03/0EEABF12-E6AD-4366-B5BB-DAE146728E09.jpeg
END:VEVENT
BEGIN:VEVENT
DTSTART;TZID=America/Chicago:20230723T140000
DTEND;TZID=America/Chicago:20230723T190000
DTSTAMP:20260424T025333
CREATED:20230519T180543Z
LAST-MODIFIED:20230526T195800Z
UID:10002580-1690120800-1690138800@mineralspringsbrewery.com
SUMMARY:Pleasant Grove Pizza Farm
DESCRIPTION:Pleasant Grove Pizza Farm brings over a fresh harvest of the best pizzas grown locally!
URL:https://mineralspringsbrewery.com/event/pleasant-grove-pizza-farm-7/
LOCATION:Mineral Springs Brewery\, 210 N Oak Ave\, Suite 1\, Owatonna\, MN\, 55060\, United States
CATEGORIES:Food Trucks
ATTACH;FMTTYPE=image/jpeg:https://mineralspringsbrewery.com/wp-content/uploads/2023/05/Pleasant-Grove-Pizza-FarmV2.jpg
END:VEVENT
BEGIN:VEVENT
DTSTART;TZID=America/Chicago:20230722T120000
DTEND;TZID=America/Chicago:20230722T200000
DTSTAMP:20260424T025333
CREATED:20230519T175900Z
LAST-MODIFIED:20230526T195731Z
UID:10002578-1690027200-1690056000@mineralspringsbrewery.com
SUMMARY:Philly Station
DESCRIPTION:Philly Cheesesteaks so good you might find yourself cheering for the Eagles!
URL:https://mineralspringsbrewery.com/event/philly-station-7/
LOCATION:Mineral Springs Brewery\, 210 N Oak Ave\, Suite 1\, Owatonna\, MN\, 55060\, United States
CATEGORIES:Food Trucks
ATTACH;FMTTYPE=image/jpeg:https://mineralspringsbrewery.com/wp-content/uploads/2022/10/Philly-Station.jpg
END:VEVENT
BEGIN:VEVENT
DTSTART;TZID=America/Chicago:20230721T160000
DTEND;TZID=America/Chicago:20230721T200000
DTSTAMP:20260424T025333
CREATED:20230519T175816Z
LAST-MODIFIED:20230526T195722Z
UID:10002577-1689955200-1689969600@mineralspringsbrewery.com
SUMMARY:2 Cavemen Grill'in
DESCRIPTION:BBQ Wings\, Shrimp\, and Pulled Pork! Featuring Papa Eitel’s Sauces and Spices and Pine Island Meats!!
URL:https://mineralspringsbrewery.com/event/2-cavemen-grillin-2/
LOCATION:Mineral Springs Brewery\, 210 N Oak Ave\, Suite 1\, Owatonna\, MN\, 55060\, United States
CATEGORIES:Food Trucks
ATTACH;FMTTYPE=image/jpeg:https://mineralspringsbrewery.com/wp-content/uploads/2022/04/2-Cavemen-Grillin.jpg
END:VEVENT
BEGIN:VEVENT
DTSTART;TZID=America/Chicago:20230720T170000
DTEND;TZID=America/Chicago:20230720T170000
DTSTAMP:20260424T025333
CREATED:20230519T171851Z
LAST-MODIFIED:20230526T195057Z
UID:10001542-1689872400-1689872400@mineralspringsbrewery.com
SUMMARY:A Taste of the Big Apple Thursday Special
DESCRIPTION:We’re partnering with A Taste of the Big Apple to have their delicious pizzas delivered hot and fresh every half hour starting at 5:30pm! \n\n\n\nOrder your choice of large pizza at the bar and it will be delivered to your table \n\n\n\n\nCheese – $20\n\n\n\nSausage/Pepperoni – $21\n\n\n\nCombo – $23\n\n\n\nAdd MSB beer \n\nOne pour – $5\n\n\n\nTwo pours – $10\n\n\n\n\n\n\nBe sure to let our bartender know your order!
URL:https://mineralspringsbrewery.com/event/a-taste-of-the-big-apple-thursday-special-9/2023-07-20/
LOCATION:Mineral Springs Brewery\, 210 N Oak Ave\, Suite 1\, Owatonna\, MN\, 55060\, United States
CATEGORIES:Activities,Food Trucks
ATTACH;FMTTYPE=image/jpeg:https://mineralspringsbrewery.com/wp-content/uploads/2022/12/A-Taste-of-the-Big-Apple.jpg
END:VEVENT
BEGIN:VEVENT
DTSTART;TZID=America/Chicago:20230719T170000
DTEND;TZID=America/Chicago:20230719T170000
DTSTAMP:20260424T025333
CREATED:20230418T155342Z
LAST-MODIFIED:20230526T200812Z
UID:10001799-1689786000-1689786000@mineralspringsbrewery.com
SUMMARY:Wag's Wednesday
DESCRIPTION:We’re partnering with Wagners Lunch Pool Hall to have their delicious burgers and fries delivered hot and fresh every half hour starting at 5:30pm! \n\n\n\nEach week\, you’ll have the choice between: \n\n\n\n\nDouble Cheeseburger with Fries & an MSB beer of choice for $13\n\n\n\nOr a Special Burger of the week that will rotate from week to week with Fries and an MSB beer of choice for $15\n\n\n\n\nBe sure to let our bartender know your order!
URL:https://mineralspringsbrewery.com/event/wags-wednesday-7/2023-07-19/
LOCATION:Mineral Springs Brewery\, 210 N Oak Ave\, Suite 1\, Owatonna\, MN\, 55060\, United States
CATEGORIES:Food Trucks
ATTACH;FMTTYPE=image/jpeg:https://mineralspringsbrewery.com/wp-content/uploads/2022/10/Wags-Wednesdays.jpeg
END:VEVENT
BEGIN:VEVENT
DTSTART;TZID=America/Chicago:20230715T120000
DTEND;TZID=America/Chicago:20230715T200000
DTSTAMP:20260424T025333
CREATED:20230519T175743Z
LAST-MODIFIED:20230526T195712Z
UID:10002576-1689422400-1689451200@mineralspringsbrewery.com
SUMMARY:Pleasant Grove Pizza Farm
DESCRIPTION:Pleasant Grove Pizza Farm brings over a fresh harvest of the best pizzas grown locally!
URL:https://mineralspringsbrewery.com/event/pleasant-grove-pizza-farm-6/
LOCATION:Mineral Springs Brewery\, 210 N Oak Ave\, Suite 1\, Owatonna\, MN\, 55060\, United States
CATEGORIES:Food Trucks
ATTACH;FMTTYPE=image/jpeg:https://mineralspringsbrewery.com/wp-content/uploads/2023/05/Pleasant-Grove-Pizza-FarmV2.jpg
END:VEVENT
BEGIN:VEVENT
DTSTART;TZID=America/Chicago:20230714T160000
DTEND;TZID=America/Chicago:20230714T200000
DTSTAMP:20260424T025333
CREATED:20230708T000549Z
LAST-MODIFIED:20230708T000551Z
UID:10002627-1689350400-1689364800@mineralspringsbrewery.com
SUMMARY:Twisted Chicken
DESCRIPTION:
URL:https://mineralspringsbrewery.com/event/twisted-chicken-5/
LOCATION:Mineral Springs Brewery\, 210 N Oak Ave\, Suite 1\, Owatonna\, MN\, 55060\, United States
CATEGORIES:Food Trucks
ATTACH;FMTTYPE=image/png:https://mineralspringsbrewery.com/wp-content/uploads/2022/04/Twisted-Chicken-Logo.png
END:VEVENT
BEGIN:VEVENT
DTSTART;TZID=America/Chicago:20230713T160000
DTEND;TZID=America/Chicago:20230713T200000
DTSTAMP:20260424T025333
CREATED:20230519T175623Z
LAST-MODIFIED:20230705T175412Z
UID:10002574-1689264000-1689278400@mineralspringsbrewery.com
SUMMARY:Canceled - Delicious Pupusas
DESCRIPTION:Delicious Pupusas serves the best of El Salvador with a dish made of a thick corn tortilla and stuffed with savory filling and salsa!
URL:https://mineralspringsbrewery.com/event/delicious-pupusas-7/
LOCATION:Mineral Springs Brewery\, 210 N Oak Ave\, Suite 1\, Owatonna\, MN\, 55060\, United States
CATEGORIES:Food Trucks
ATTACH;FMTTYPE=image/jpeg:https://mineralspringsbrewery.com/wp-content/uploads/2022/12/Delicious-Pupusas-Food.jpg
END:VEVENT
END:VCALENDAR