BEGIN:VCALENDAR
VERSION:2.0
PRODID:-//Mineral Springs Brewery - ECPv6.15.20//NONSGML v1.0//EN
CALSCALE:GREGORIAN
METHOD:PUBLISH
X-ORIGINAL-URL:https://mineralspringsbrewery.com
X-WR-CALDESC:Events for Mineral Springs Brewery
REFRESH-INTERVAL;VALUE=DURATION:PT1H
X-Robots-Tag:noindex
X-PUBLISHED-TTL:PT1H
BEGIN:VTIMEZONE
TZID:America/Chicago
BEGIN:DAYLIGHT
TZOFFSETFROM:-0600
TZOFFSETTO:-0500
TZNAME:CDT
DTSTART:20240310T080000
END:DAYLIGHT
BEGIN:STANDARD
TZOFFSETFROM:-0500
TZOFFSETTO:-0600
TZNAME:CST
DTSTART:20241103T070000
END:STANDARD
BEGIN:DAYLIGHT
TZOFFSETFROM:-0600
TZOFFSETTO:-0500
TZNAME:CDT
DTSTART:20250309T080000
END:DAYLIGHT
BEGIN:STANDARD
TZOFFSETFROM:-0500
TZOFFSETTO:-0600
TZNAME:CST
DTSTART:20251102T070000
END:STANDARD
BEGIN:DAYLIGHT
TZOFFSETFROM:-0600
TZOFFSETTO:-0500
TZNAME:CDT
DTSTART:20260308T080000
END:DAYLIGHT
BEGIN:STANDARD
TZOFFSETFROM:-0500
TZOFFSETTO:-0600
TZNAME:CST
DTSTART:20261101T070000
END:STANDARD
END:VTIMEZONE
BEGIN:VEVENT
DTSTART;TZID=America/Chicago:20250621T180000
DTEND;TZID=America/Chicago:20250621T200000
DTSTAMP:20260419T193846
CREATED:20250528T223330Z
LAST-MODIFIED:20250528T223335Z
UID:10003938-1750528800-1750536000@mineralspringsbrewery.com
SUMMARY:Angel Val
DESCRIPTION:Angel grew up listening to her mom sing in an 80s rock band. She has a strong background and love for rock music and has grown to love country as well. Angel has taken her two favorite genre’s and mixed them into a more rock country style. Angel began playing guitar in Jr High where she found her passion for writing. \n\n\n\nAngel began working with her friend and now manager and producer\, Doug Olson in 2016 when they recorded her 1st album\, Gravel Road\, in Nashville with producer Buddy Hyatt. \n\n\n\n\nAngel puts her Mom at the top of her Influences… Growing up watching her Mom sing and perform has giving her the inspiration and drive to continue the passion for music. She also credits Miranda Lambert and the Cranberries. Angel also uses personal experiences in life to influence her writing… Such as relationships and spending time with friends. \n\n\n\n\nWhether you are looking for a solo acoustic show\, duet\, or full band\, Angel Val delivers a great performance!
URL:https://mineralspringsbrewery.com/event/angel-val-4/
LOCATION:Mineral Springs Brewery\, 210 N Oak Ave\, Suite 1\, Owatonna\, MN\, 55060\, United States
CATEGORIES:Music
ATTACH;FMTTYPE=image/jpeg:https://mineralspringsbrewery.com/wp-content/uploads/2023/11/Angel-Val-Music.jpg
END:VEVENT
BEGIN:VEVENT
DTSTART;TZID=America/Chicago:20250622T150000
DTEND;TZID=America/Chicago:20250622T150000
DTSTAMP:20260419T193846
CREATED:20250305T203948Z
LAST-MODIFIED:20250305T203954Z
UID:10002412-1750604400-1750604400@mineralspringsbrewery.com
SUMMARY:MSBGO
DESCRIPTION:On Sundays\, we’ll be hosting a free and fun game of chance! Come on down to play along and win FREE BEER!
URL:https://mineralspringsbrewery.com/event/msbgo-8/2025-06-22/
LOCATION:Mineral Springs Brewery\, 210 N Oak Ave\, Suite 1\, Owatonna\, MN\, 55060\, United States
CATEGORIES:Events
ATTACH;FMTTYPE=image/png:https://mineralspringsbrewery.com/wp-content/uploads/2022/04/Bingo.png
END:VEVENT
BEGIN:VEVENT
DTSTART;TZID=America/Chicago:20250624T173000
DTEND;TZID=America/Chicago:20250624T190000
DTSTAMP:20260419T193846
CREATED:20250528T231235Z
LAST-MODIFIED:20250528T231315Z
UID:10003955-1750786200-1750791600@mineralspringsbrewery.com
SUMMARY:Business After Hours
DESCRIPTION:Business After Hours is a networking event designed for professionals to connect\, socialize\, and build relationships in a casual setting. The Owatonna Chamber of Commerce hosts this event\, offering an opportunity for local business people to engage with peers\, learn about current happenings from event hosts\, and possibly win prizes. \n\n\n\nWith an average attendance of over 75 people\, it’s a great chance to expand your professional network\, share ideas\, and stay informed about business trends in the community. The event is held on the last Tuesday of each month\, so it’s a consistent opportunity to connect and grow your business relationships.
URL:https://mineralspringsbrewery.com/event/business-after-hours/
LOCATION:Mineral Springs Brewery\, 210 N Oak Ave\, Suite 1\, Owatonna\, MN\, 55060\, United States
CATEGORIES:Events
ATTACH;FMTTYPE=image/jpeg:https://mineralspringsbrewery.com/wp-content/uploads/2025/05/Business-After-Hours.jpg
END:VEVENT
BEGIN:VEVENT
DTSTART;TZID=America/Chicago:20250625T180000
DTEND;TZID=America/Chicago:20250625T180000
DTSTAMP:20260419T193846
CREATED:20250305T203954Z
LAST-MODIFIED:20250305T203959Z
UID:10002156-1750874400-1750874400@mineralspringsbrewery.com
SUMMARY:Trivia Night
DESCRIPTION:MSB Trivia Night!!
URL:https://mineralspringsbrewery.com/event/trivia-night-32/2025-06-25/
LOCATION:Mineral Springs Brewery\, 210 N Oak Ave\, Suite 1\, Owatonna\, MN\, 55060\, United States
CATEGORIES:Events
ATTACH;FMTTYPE=image/png:https://mineralspringsbrewery.com/wp-content/uploads/2022/02/MSB-Trivia-Night.png
END:VEVENT
BEGIN:VEVENT
DTSTART;TZID=America/Chicago:20250626T160000
DTEND;TZID=America/Chicago:20250626T200000
DTSTAMP:20260419T193846
CREATED:20250610T101011Z
LAST-MODIFIED:20250610T101014Z
UID:10003977-1750953600-1750968000@mineralspringsbrewery.com
SUMMARY:Whiskey Creek BBQ
DESCRIPTION:Formerly Northwoods Smokehouse\, Whiskey Creek BBQ is a very familiar BBQ Food Trailer specializing in Texas craft BBQ focusing on pork\, chicken\, beef and gourmet sides!
URL:https://mineralspringsbrewery.com/event/whiskey-creek-bbq-6/
LOCATION:Mineral Springs Brewery\, 210 N Oak Ave\, Suite 1\, Owatonna\, MN\, 55060\, United States
CATEGORIES:Food Trucks
ATTACH;FMTTYPE=image/jpeg:https://mineralspringsbrewery.com/wp-content/uploads/2024/09/Whiskey-Creek-BBQ.jpg
END:VEVENT
BEGIN:VEVENT
DTSTART;TZID=America/Chicago:20250626T170000
DTEND;TZID=America/Chicago:20250626T170000
DTSTAMP:20260419T193846
CREATED:20230822T225207Z
LAST-MODIFIED:20250319T185917Z
UID:10001643-1750957200-1750957200@mineralspringsbrewery.com
SUMMARY:Thursday Pizza Special
DESCRIPTION:We’ve partnered with A Taste of the Big Apple to have their delicious pizzas delivered hot and fresh every half hour starting at 5:30pm! We also have frozen pizzas from our friends over at Pleasant Grove Pizza Farm that we’re able to cook up in our ovens! \n\n\n\nOrder your choice of pizza at the bar and we’ll get it to you when it’s delivered! \n\n\n\n\n\nA Taste of the Big Apple\n\n\n\n\nCheese\n\n\n\nSausage\n\n\n\nPepperoni\n\n\n\nSausage/Pepperoni\n\n\n\nCombo\n\nSausage\, Pepperoni\, Onions\, & Mushrooms\n\n\n\n\n\n\n\n\nPleasant Grove Pizza Farm\n\n\n\n\nCheese\n\n\n\nSusie (Sausage)\n\n\n\nChuck (Pepperoni)\n\n\n\nChuck & Susie (Pepperoni & Sausage)\n\n\n\nMN Mess (Combo)\n\nSausage\, Green & Black Olives\, Green Peppers\, Onions\, & Mushrooms\n\n\n\n\n\nPizza Fries & Sauce\n\n\n\n\n\n\nBe sure to let our bartender know your order!
URL:https://mineralspringsbrewery.com/event/a-taste-of-the-big-apple-thursday-special-11/2025-06-26/
LOCATION:Mineral Springs Brewery\, 210 N Oak Ave\, Suite 1\, Owatonna\, MN\, 55060\, United States
CATEGORIES:Food Trucks
ATTACH;FMTTYPE=image/jpeg:https://mineralspringsbrewery.com/wp-content/uploads/2022/12/A-Taste-of-the-Big-Apple.jpg
END:VEVENT
BEGIN:VEVENT
DTSTART;TZID=America/Chicago:20250626T180000
DTEND;TZID=America/Chicago:20250626T200000
DTSTAMP:20260419T193846
CREATED:20250610T101112Z
LAST-MODIFIED:20250610T101116Z
UID:10003978-1750960800-1750968000@mineralspringsbrewery.com
SUMMARY:Han & Jon Aldrich
DESCRIPTION:
URL:https://mineralspringsbrewery.com/event/han-jon-aldrich/
LOCATION:Mineral Springs Brewery\, 210 N Oak Ave\, Suite 1\, Owatonna\, MN\, 55060\, United States
CATEGORIES:Music
END:VEVENT
BEGIN:VEVENT
DTSTART;TZID=America/Chicago:20250627T000000
DTEND;TZID=America/Chicago:20250627T235959
DTSTAMP:20260419T193846
CREATED:20250319T211249Z
LAST-MODIFIED:20250319T211254Z
UID:10003854-1750982400-1751068799@mineralspringsbrewery.com
SUMMARY:Final(ly) Friday
DESCRIPTION:Join us for the last Friday of every month through September to kick off the weekend! We’ll have live music and a fan-favorite food truck on site! The perfect end to the week and the month with something for the whole family! \n\n\n\n\n\n\n\nDetails
URL:https://mineralspringsbrewery.com/event/finally-friday-7/2025-06-27/
LOCATION:MN
CATEGORIES:Activities,Events,Music
ATTACH;FMTTYPE=image/png:https://mineralspringsbrewery.com/wp-content/uploads/2023/02/0AC096FB-5A0E-4FA8-B869-C385FF518D16.png
END:VEVENT
BEGIN:VEVENT
DTSTART;TZID=America/Chicago:20250627T160000
DTEND;TZID=America/Chicago:20250627T200000
DTSTAMP:20260419T193846
CREATED:20250528T223701Z
LAST-MODIFIED:20250528T223707Z
UID:10003946-1751040000-1751054400@mineralspringsbrewery.com
SUMMARY:Norseman Lobster
DESCRIPTION:From small Beginnings come great things. We are here to bring the BEST Lobster Rolls to the masses. \n\n\n\nFresh lobster & wagyu burgers\, the best surf and turf around!
URL:https://mineralspringsbrewery.com/event/norseman-lobster-5/
LOCATION:Mineral Springs Brewery\, 210 N Oak Ave\, Suite 1\, Owatonna\, MN\, 55060\, United States
CATEGORIES:Food Trucks
ATTACH;FMTTYPE=image/jpeg:https://mineralspringsbrewery.com/wp-content/uploads/2024/02/Norseman-Lobster.jpg
END:VEVENT
BEGIN:VEVENT
DTSTART;TZID=America/Chicago:20250627T173000
DTEND;TZID=America/Chicago:20250627T193000
DTSTAMP:20260419T193846
CREATED:20250528T223614Z
LAST-MODIFIED:20250624T165322Z
UID:10003945-1751045400-1751052600@mineralspringsbrewery.com
SUMMARY:Madison Kolbet
DESCRIPTION:
URL:https://mineralspringsbrewery.com/event/madison-kolbet/
LOCATION:Mineral Springs Brewery\, 210 N Oak Ave\, Suite 1\, Owatonna\, MN\, 55060\, United States
CATEGORIES:Music
ATTACH;FMTTYPE=image/jpeg:https://mineralspringsbrewery.com/wp-content/uploads/2025/05/Madison-Kolbet-6.27.25-2.jpg
END:VEVENT
BEGIN:VEVENT
DTSTART;TZID=America/Chicago:20250628T120000
DTEND;TZID=America/Chicago:20250628T200000
DTSTAMP:20260419T193846
CREATED:20250528T224025Z
LAST-MODIFIED:20250528T224053Z
UID:10003947-1751112000-1751140800@mineralspringsbrewery.com
SUMMARY:Noris Cuisine
DESCRIPTION:Noris Cuisine makes fresh the greatest fusion of Latin American cuisine southern MN has to offer!
URL:https://mineralspringsbrewery.com/event/noris-cuisine-3/
LOCATION:Mineral Springs Brewery\, 210 N Oak Ave\, Suite 1\, Owatonna\, MN\, 55060\, United States
CATEGORIES:Food Trucks
ATTACH;FMTTYPE=image/png:https://mineralspringsbrewery.com/wp-content/uploads/2022/04/Noris-Cuisine.png
END:VEVENT
BEGIN:VEVENT
DTSTART;TZID=America/Chicago:20250628T183000
DTEND;TZID=America/Chicago:20250628T203000
DTSTAMP:20260419T193846
CREATED:20250528T224043Z
LAST-MODIFIED:20250528T224048Z
UID:10003948-1751135400-1751142600@mineralspringsbrewery.com
SUMMARY:Jeff Reinartz
DESCRIPTION:Jeff Reinartz is a singer/songwriter from  Austin\, Minnesota. He’s been performing live for over 30 years and is a veteran of several bands. He is now a solo acoustic performer and has released two EPs that were produced by Scotty Rohr at Zension Studio in Austin. \n\n\n\n\nI believe that we’re here to use our talents and abilities to the benefit of others\, so after 22 years in the corporate world with a Fortune 300 company\, I resigned in 2019 to pursue my music interests full time. I didn’t necessarily count on a global pandemic\, but as things have loosened up I’ve been able to play more and more\, doing acoustic shows at primarily breweries and wineries in Southern Minnesota and Northern Iowa\, and building a small following organically.” \nJeff Reinartz
URL:https://mineralspringsbrewery.com/event/jeff-reinartz-22/
LOCATION:Mineral Springs Brewery\, 210 N Oak Ave\, Suite 1\, Owatonna\, MN\, 55060\, United States
CATEGORIES:Music
ATTACH;FMTTYPE=image/jpeg:https://mineralspringsbrewery.com/wp-content/uploads/2025/02/Jeff-Reinartz-Day-by-Day.jpg
END:VEVENT
BEGIN:VEVENT
DTSTART;TZID=America/Chicago:20250629T150000
DTEND;TZID=America/Chicago:20250629T150000
DTSTAMP:20260419T193846
CREATED:20250305T203948Z
LAST-MODIFIED:20250305T203954Z
UID:10002413-1751209200-1751209200@mineralspringsbrewery.com
SUMMARY:MSBGO
DESCRIPTION:On Sundays\, we’ll be hosting a free and fun game of chance! Come on down to play along and win FREE BEER!
URL:https://mineralspringsbrewery.com/event/msbgo-8/2025-06-29/
LOCATION:Mineral Springs Brewery\, 210 N Oak Ave\, Suite 1\, Owatonna\, MN\, 55060\, United States
CATEGORIES:Events
ATTACH;FMTTYPE=image/png:https://mineralspringsbrewery.com/wp-content/uploads/2022/04/Bingo.png
END:VEVENT
BEGIN:VEVENT
DTSTART;TZID=America/Chicago:20250701T160000
DTEND;TZID=America/Chicago:20250701T190000
DTSTAMP:20260419T193846
CREATED:20250513T213407Z
LAST-MODIFIED:20250513T213609Z
UID:10003921-1751385600-1751396400@mineralspringsbrewery.com
SUMMARY:Classic Car Roll-In
DESCRIPTION:MSB is home to the Classic Car Roll In! \n\n\n\nSpring/Summer/Fall weather is perfect for both showing off and admiring these southern Minnesota classic cars!
URL:https://mineralspringsbrewery.com/event/classic-car-roll-in-4/2025-07-01/
LOCATION:Mineral Springs Brewery\, 210 N Oak Ave\, Suite 1\, Owatonna\, MN\, 55060\, United States
CATEGORIES:Events
ATTACH;FMTTYPE=image/png:https://mineralspringsbrewery.com/wp-content/uploads/2022/05/Classic-Car-Roll-IN-1.png
END:VEVENT
BEGIN:VEVENT
DTSTART;TZID=America/Chicago:20250701T183000
DTEND;TZID=America/Chicago:20250701T193000
DTSTAMP:20260419T193846
CREATED:20250528T224247Z
LAST-MODIFIED:20250528T224251Z
UID:10003949-1751394600-1751398200@mineralspringsbrewery.com
SUMMARY:Bruce Bernhart
DESCRIPTION:Bruce Bernhart has played in several bluegrass bands at the Steele County Fair over the past 35+ years\, plus various other county fairs across south-central Minnesota. \n\n\n\nBruce has also been featured playing mandolin on a number of CDs recorded by bands he’s been a part of since the early 90’s. Prior to the mandolin\, Bruce had been strumming the banjo and bass. Since then\, Bruce has mastered the lost art of flatpicking old time fiddle tunes on the guitar with no amplifier and no microphone.
URL:https://mineralspringsbrewery.com/event/bruce-bernhart-8/
LOCATION:Mineral Springs Brewery\, 210 N Oak Ave\, Suite 1\, Owatonna\, MN\, 55060\, United States
CATEGORIES:Music
ATTACH;FMTTYPE=image/jpeg:https://mineralspringsbrewery.com/wp-content/uploads/2025/02/Image.jpg
END:VEVENT
BEGIN:VEVENT
DTSTART;TZID=America/Chicago:20250702T163000
DTEND;TZID=America/Chicago:20250702T163000
DTSTAMP:20260419T193846
CREATED:20240918T204004Z
LAST-MODIFIED:20250103T010139Z
UID:10003306-1751473800-1751473800@mineralspringsbrewery.com
SUMMARY:Wag's Wednesday
DESCRIPTION:We’re partnering with Wagners Lunch Pool Hall to have their delicious burgers and fries delivered hot and fresh every half hour starting at 5:30pm! \n\n\n\nEach week\, you’ll have the choice between: \n\n\n\n\nDouble Cheeseburger with Fries & an MSB beer of choice for $13\n\n\n\nOr a Special Burger of the week that will rotate from week to week with Fries and an MSB beer of choice for $15\n\n\n\n\nBe sure to let our bartender know your order!
URL:https://mineralspringsbrewery.com/event/wags-wednesday-9/2025-07-02/
LOCATION:Mineral Springs Brewery\, 210 N Oak Ave\, Suite 1\, Owatonna\, MN\, 55060\, United States
CATEGORIES:Food Trucks
ATTACH;FMTTYPE=image/jpeg:https://mineralspringsbrewery.com/wp-content/uploads/2022/10/Wags-Wednesdays.jpeg
END:VEVENT
BEGIN:VEVENT
DTSTART;TZID=America/Chicago:20250702T180000
DTEND;TZID=America/Chicago:20250702T180000
DTSTAMP:20260419T193846
CREATED:20250305T203954Z
LAST-MODIFIED:20250305T203959Z
UID:10002157-1751479200-1751479200@mineralspringsbrewery.com
SUMMARY:Trivia Night
DESCRIPTION:MSB Trivia Night!!
URL:https://mineralspringsbrewery.com/event/trivia-night-32/2025-07-02/
LOCATION:Mineral Springs Brewery\, 210 N Oak Ave\, Suite 1\, Owatonna\, MN\, 55060\, United States
CATEGORIES:Events
ATTACH;FMTTYPE=image/png:https://mineralspringsbrewery.com/wp-content/uploads/2022/02/MSB-Trivia-Night.png
END:VEVENT
BEGIN:VEVENT
DTSTART;TZID=America/Chicago:20250703T160000
DTEND;TZID=America/Chicago:20250703T203000
DTSTAMP:20260419T193846
CREATED:20250528T231706Z
LAST-MODIFIED:20250528T231711Z
UID:10003956-1751558400-1751574600@mineralspringsbrewery.com
SUMMARY:Downtown Thursday
DESCRIPTION:We’re downtown! We’ve got space set up for Downtown Thursdays all summer! \n\n\n\nStop into the taproom to get the full range of variety and then head up to downtown for some live music and a couple refreshing MSB beers in central park! \n\n\n\nPerforming in Central Park’s bandshell this week is a familiar face\, it’s our friend Jeff Reinartz!
URL:https://mineralspringsbrewery.com/event/downtown-thursday-2/
LOCATION:Central Park\, 100 E Main St\, Owatonna\, Minnesota\, 55060\, United States
CATEGORIES:Events
END:VEVENT
BEGIN:VEVENT
DTSTART;TZID=America/Chicago:20250703T170000
DTEND;TZID=America/Chicago:20250703T170000
DTSTAMP:20260419T193846
CREATED:20230822T225207Z
LAST-MODIFIED:20250319T185917Z
UID:10001644-1751562000-1751562000@mineralspringsbrewery.com
SUMMARY:Thursday Pizza Special
DESCRIPTION:We’ve partnered with A Taste of the Big Apple to have their delicious pizzas delivered hot and fresh every half hour starting at 5:30pm! We also have frozen pizzas from our friends over at Pleasant Grove Pizza Farm that we’re able to cook up in our ovens! \n\n\n\nOrder your choice of pizza at the bar and we’ll get it to you when it’s delivered! \n\n\n\n\n\nA Taste of the Big Apple\n\n\n\n\nCheese\n\n\n\nSausage\n\n\n\nPepperoni\n\n\n\nSausage/Pepperoni\n\n\n\nCombo\n\nSausage\, Pepperoni\, Onions\, & Mushrooms\n\n\n\n\n\n\n\n\nPleasant Grove Pizza Farm\n\n\n\n\nCheese\n\n\n\nSusie (Sausage)\n\n\n\nChuck (Pepperoni)\n\n\n\nChuck & Susie (Pepperoni & Sausage)\n\n\n\nMN Mess (Combo)\n\nSausage\, Green & Black Olives\, Green Peppers\, Onions\, & Mushrooms\n\n\n\n\n\nPizza Fries & Sauce\n\n\n\n\n\n\nBe sure to let our bartender know your order!
URL:https://mineralspringsbrewery.com/event/a-taste-of-the-big-apple-thursday-special-11/2025-07-03/
LOCATION:Mineral Springs Brewery\, 210 N Oak Ave\, Suite 1\, Owatonna\, MN\, 55060\, United States
CATEGORIES:Food Trucks
ATTACH;FMTTYPE=image/jpeg:https://mineralspringsbrewery.com/wp-content/uploads/2022/12/A-Taste-of-the-Big-Apple.jpg
END:VEVENT
BEGIN:VEVENT
DTSTART;TZID=America/Chicago:20250705T120000
DTEND;TZID=America/Chicago:20250705T200000
DTSTAMP:20260419T193846
CREATED:20250528T225243Z
LAST-MODIFIED:20250528T225304Z
UID:10003951-1751716800-1751745600@mineralspringsbrewery.com
SUMMARY:Smash N Dash
DESCRIPTION:After seeing them frequent a few of our brewery friends\, we knew we had to get them down to Owatonna! This is Smash N Dash’s first time at MSB\, but we’re hoping it’ll be the first of many!
URL:https://mineralspringsbrewery.com/event/smash-n-dash/
LOCATION:Mineral Springs Brewery\, 210 N Oak Ave\, Suite 1\, Owatonna\, MN\, 55060\, United States
CATEGORIES:Food Trucks
ATTACH;FMTTYPE=image/jpeg:https://mineralspringsbrewery.com/wp-content/uploads/2025/05/Smash-N-Dash-Logo.jpg
END:VEVENT
BEGIN:VEVENT
DTSTART;TZID=America/Chicago:20250705T183000
DTEND;TZID=America/Chicago:20250705T203000
DTSTAMP:20260419T193846
CREATED:20250528T232909Z
LAST-MODIFIED:20250528T232914Z
UID:10003958-1751740200-1751747400@mineralspringsbrewery.com
SUMMARY:Mike Fugazzi (The Real Spooky Mike)
DESCRIPTION:Mike Fugazzi is a dynamic harmonica player and vocalist with over 20 years of experience pushing the instrument beyond its traditional role. Known for his lyrical phrasing\, soulful tone\, and technical precision\, he seamlessly blends harmonica into rock\, blues\, and country music—whether as a melodic lead\, a rhythmic accent\, or an atmospheric texture. A seasoned live performer and recording artist\, Mike has built a strong reputation across the Midwest and online\, showcasing harmonica’s power in modern rock settings. His innovative approach often replaces traditional guitar or horn parts\, making him a go-to collaborator for artists seeking a fresh\, expressive sound. \n\n\n\n\nhttps://www.tiktok.com/@therealspookymike?fbclid=IwZXh0bgNhZW0CMTAAYnJpZBExVXpWa2Z6eU9FcnpOTllPYQEeQSjCgwT2Y4GNNYgbPuKhioFR1PUGvRCLRywWPoDIwS4R1elQ_IhyWhvzCqQ_aem_BrIHoVLWomvPz4oTMAmi5Q\n\n\n\n\nDM him to collab!
URL:https://mineralspringsbrewery.com/event/mike-fugazzi-the-real-spooky-mike/
LOCATION:Mineral Springs Brewery\, 210 N Oak Ave\, Suite 1\, Owatonna\, MN\, 55060\, United States
CATEGORIES:Music
ATTACH;FMTTYPE=image/png:https://mineralspringsbrewery.com/wp-content/uploads/2025/05/Mike-Fugazzi-Harmonica.png
END:VEVENT
BEGIN:VEVENT
DTSTART;TZID=America/Chicago:20250706T150000
DTEND;TZID=America/Chicago:20250706T150000
DTSTAMP:20260419T193846
CREATED:20250305T203948Z
LAST-MODIFIED:20250305T203954Z
UID:10002414-1751814000-1751814000@mineralspringsbrewery.com
SUMMARY:MSBGO
DESCRIPTION:On Sundays\, we’ll be hosting a free and fun game of chance! Come on down to play along and win FREE BEER!
URL:https://mineralspringsbrewery.com/event/msbgo-8/2025-07-06/
LOCATION:Mineral Springs Brewery\, 210 N Oak Ave\, Suite 1\, Owatonna\, MN\, 55060\, United States
CATEGORIES:Events
ATTACH;FMTTYPE=image/png:https://mineralspringsbrewery.com/wp-content/uploads/2022/04/Bingo.png
END:VEVENT
BEGIN:VEVENT
DTSTART;TZID=America/Chicago:20250709T163000
DTEND;TZID=America/Chicago:20250709T163000
DTSTAMP:20260419T193846
CREATED:20250709T234807Z
LAST-MODIFIED:20250709T234811Z
UID:10003307-1752078600-1752078600@mineralspringsbrewery.com
SUMMARY:Wag's Wednesday
DESCRIPTION:We’re partnering with Wagners Lunch Pool Hall to have their delicious burgers and fries delivered hot and fresh every half hour starting at 4:30pm! \n\n\n\nEach week\, you’ll have the choice between: \n\n\n\n\nDouble Cheeseburger with the works and Fries for $13\n\n\n\nOr a Special Burger of the week that will rotate from week to week with Fries for $13\n\n\n\n\nBe sure to let our bartender know your order!
URL:https://mineralspringsbrewery.com/event/wags-wednesday-17/
LOCATION:Mineral Springs Brewery\, 210 N Oak Ave\, Suite 1\, Owatonna\, MN\, 55060\, United States
CATEGORIES:Food Trucks
ATTACH;FMTTYPE=image/jpeg:https://mineralspringsbrewery.com/wp-content/uploads/2022/10/Wags-Wednesdays.jpeg
END:VEVENT
BEGIN:VEVENT
DTSTART;TZID=America/Chicago:20250709T180000
DTEND;TZID=America/Chicago:20250709T180000
DTSTAMP:20260419T193846
CREATED:20250305T203954Z
LAST-MODIFIED:20250305T203959Z
UID:10002158-1752084000-1752084000@mineralspringsbrewery.com
SUMMARY:Trivia Night
DESCRIPTION:MSB Trivia Night!!
URL:https://mineralspringsbrewery.com/event/trivia-night-32/2025-07-09/
LOCATION:Mineral Springs Brewery\, 210 N Oak Ave\, Suite 1\, Owatonna\, MN\, 55060\, United States
CATEGORIES:Events
ATTACH;FMTTYPE=image/png:https://mineralspringsbrewery.com/wp-content/uploads/2022/02/MSB-Trivia-Night.png
END:VEVENT
BEGIN:VEVENT
DTSTART;TZID=America/Chicago:20250710T110000
DTEND;TZID=America/Chicago:20250710T190000
DTSTAMP:20260419T193846
CREATED:20250702T212033Z
LAST-MODIFIED:20250702T212037Z
UID:10004024-1752145200-1752174000@mineralspringsbrewery.com
SUMMARY:On The Hook - Fish and Chips
DESCRIPTION:On The Hook specializes in Line-Caught Wild Alaskan Cod Fish and Chips. They start with the highest quality cod available sourced from the cold clean waters of Alaska. This however\, is not just any Alaskan Cod\, their cod is caught using hook and line which means that each fish is brought aboard individually and immediately headed\, gutted\, and flash frozen to perfectly preserve the fresh caught quality and tenderness. They hand coat it with their original recipe beer batter created by their founders over months by experimenting and fine tuning while they were in college. Batter was not the only thing they created from scratch\, their signature dipping sauces are included with every meal to complete a perfect dish.
URL:https://mineralspringsbrewery.com/event/on-the-hook-fish-and-chips-17/
LOCATION:Mineral Springs Brewery\, 210 N Oak Ave\, Suite 1\, Owatonna\, MN\, 55060\, United States
CATEGORIES:Food Trucks
ATTACH;FMTTYPE=image/jpeg:https://mineralspringsbrewery.com/wp-content/uploads/2021/03/0EEABF12-E6AD-4366-B5BB-DAE146728E09.jpeg
END:VEVENT
BEGIN:VEVENT
DTSTART;TZID=America/Chicago:20250710T173000
DTEND;TZID=America/Chicago:20250710T190000
DTSTAMP:20260419T193847
CREATED:20250305T203841Z
LAST-MODIFIED:20250305T203847Z
UID:10003065-1752168600-1752174000@mineralspringsbrewery.com
SUMMARY:News & Brews
DESCRIPTION:Annie Harman\, the Owatonna People’s Press editor\, will be with us to discuss all things having to do with the OPP newspaper\, answer questions\, hear your news tips and more. Learn more about giveaways from both MSB and OPP when you check in at the event!
URL:https://mineralspringsbrewery.com/event/news-brews-7/2025-07-10/
LOCATION:Mineral Springs Brewery\, 210 N Oak Ave\, Suite 1\, Owatonna\, MN\, 55060\, United States
CATEGORIES:Events
ATTACH;FMTTYPE=image/jpeg:https://mineralspringsbrewery.com/wp-content/uploads/2024/06/News-and-Brews-spec-3x6.25.jpg
END:VEVENT
BEGIN:VEVENT
DTSTART;TZID=America/Chicago:20250710T180000
DTEND;TZID=America/Chicago:20250710T200000
DTSTAMP:20260419T193847
CREATED:20250707T194139Z
LAST-MODIFIED:20250707T194143Z
UID:10004028-1752170400-1752177600@mineralspringsbrewery.com
SUMMARY:The Initials Game Live
DESCRIPTION:Based on the addictive trivia game made famous on KFAN radio. \n\n\n\nTrivia Mafia has partnered with the creators of The Initials Game—famously played every Friday on KFAN’s “Power Trip Morning Show”—to bring this addictive trivia game to the masses. The Initials Game Live is a fun and competitive general knowledge and pop culture party game for players of all skill levels. Gather your friends and test your wits as you try to guess the initials of famous people\, places\, and things.
URL:https://mineralspringsbrewery.com/event/the-initials-game-live/
LOCATION:Mineral Springs Brewery\, 210 N Oak Ave\, Suite 1\, Owatonna\, MN\, 55060\, United States
CATEGORIES:Events
ATTACH;FMTTYPE=image/png:https://mineralspringsbrewery.com/wp-content/uploads/2025/07/InitialsGameLive_7-10.png
END:VEVENT
BEGIN:VEVENT
DTSTART;TZID=America/Chicago:20250711T160000
DTEND;TZID=America/Chicago:20250711T190000
DTSTAMP:20260419T193847
CREATED:20250610T101521Z
LAST-MODIFIED:20250610T101527Z
UID:10003979-1752249600-1752260400@mineralspringsbrewery.com
SUMMARY:Tips and Taps Takeover - Medford Fire Department
DESCRIPTION:Medford Fire Department members will be pouring beers from 4-7\, with 100% of tips are being put towards the club!
URL:https://mineralspringsbrewery.com/event/tips-and-taps-takeover-medford-fire-department/
LOCATION:MN
CATEGORIES:Events
ATTACH;FMTTYPE=image/jpeg:https://mineralspringsbrewery.com/wp-content/uploads/2025/06/Medford-Fire-Dept.jpg
END:VEVENT
BEGIN:VEVENT
DTSTART;TZID=America/Chicago:20250711T160000
DTEND;TZID=America/Chicago:20250711T200000
DTSTAMP:20260419T193847
CREATED:20250528T233414Z
LAST-MODIFIED:20250528T233418Z
UID:10003959-1752249600-1752264000@mineralspringsbrewery.com
SUMMARY:Reubens and Things - Tips and Tails
DESCRIPTION:
URL:https://mineralspringsbrewery.com/event/reubens-and-things-tips-and-tails/
LOCATION:Mineral Springs Brewery\, 210 N Oak Ave\, Suite 1\, Owatonna\, MN\, 55060\, United States
CATEGORIES:Food Trucks
ATTACH;FMTTYPE=image/jpeg:https://mineralspringsbrewery.com/wp-content/uploads/2025/05/Reubens-and-Things.jpg
END:VEVENT
BEGIN:VEVENT
DTSTART;TZID=America/Chicago:20250712T120000
DTEND;TZID=America/Chicago:20250712T190000
DTSTAMP:20260419T193847
CREATED:20250528T233455Z
LAST-MODIFIED:20250528T233459Z
UID:10003960-1752321600-1752346800@mineralspringsbrewery.com
SUMMARY:Garillers
DESCRIPTION:Garillers features the best smash burgers around!
URL:https://mineralspringsbrewery.com/event/garillers-24/
LOCATION:Mineral Springs Brewery\, 210 N Oak Ave\, Suite 1\, Owatonna\, MN\, 55060\, United States
CATEGORIES:Food Trucks
ATTACH;FMTTYPE=image/jpeg:https://mineralspringsbrewery.com/wp-content/uploads/2022/09/Garillers-Food-Truck.jpg
END:VEVENT
END:VCALENDAR