BEGIN:VCALENDAR
VERSION:2.0
PRODID:-//Mineral Springs Brewery - ECPv6.15.20//NONSGML v1.0//EN
CALSCALE:GREGORIAN
METHOD:PUBLISH
X-WR-CALNAME:Mineral Springs Brewery
X-ORIGINAL-URL:https://mineralspringsbrewery.com
X-WR-CALDESC:Events for Mineral Springs Brewery
REFRESH-INTERVAL;VALUE=DURATION:PT1H
X-Robots-Tag:noindex
X-PUBLISHED-TTL:PT1H
BEGIN:VTIMEZONE
TZID:America/Chicago
BEGIN:DAYLIGHT
TZOFFSETFROM:-0600
TZOFFSETTO:-0500
TZNAME:CDT
DTSTART:20220313T080000
END:DAYLIGHT
BEGIN:STANDARD
TZOFFSETFROM:-0500
TZOFFSETTO:-0600
TZNAME:CST
DTSTART:20221106T070000
END:STANDARD
BEGIN:DAYLIGHT
TZOFFSETFROM:-0600
TZOFFSETTO:-0500
TZNAME:CDT
DTSTART:20230312T080000
END:DAYLIGHT
BEGIN:STANDARD
TZOFFSETFROM:-0500
TZOFFSETTO:-0600
TZNAME:CST
DTSTART:20231105T070000
END:STANDARD
BEGIN:DAYLIGHT
TZOFFSETFROM:-0600
TZOFFSETTO:-0500
TZNAME:CDT
DTSTART:20240310T080000
END:DAYLIGHT
BEGIN:STANDARD
TZOFFSETFROM:-0500
TZOFFSETTO:-0600
TZNAME:CST
DTSTART:20241103T070000
END:STANDARD
END:VTIMEZONE
BEGIN:VEVENT
DTSTART;TZID=America/Chicago:20230923T120000
DTEND;TZID=America/Chicago:20230923T200000
DTSTAMP:20260420T163338
CREATED:20230822T230144Z
LAST-MODIFIED:20230921T002221Z
UID:10002698-1695470400-1695499200@mineralspringsbrewery.com
SUMMARY:Oktoberfest Brats - SpareTime
DESCRIPTION:SpareTime will be on site providing the Oktoberfest essential Brats!
URL:https://mineralspringsbrewery.com/event/oktoberfest-special-sparetime-2/
LOCATION:Mineral Springs Brewery\, 210 N Oak Ave\, Suite 1\, Owatonna\, MN\, 55060\, United States
CATEGORIES:Food Trucks
ATTACH;FMTTYPE=image/jpeg:https://mineralspringsbrewery.com/wp-content/uploads/2022/02/SpareTime.jpg
END:VEVENT
BEGIN:VEVENT
DTSTART;TZID=America/Chicago:20230923T120000
DTEND;TZID=America/Chicago:20230923T200000
DTSTAMP:20260420T163338
CREATED:20230822T225944Z
LAST-MODIFIED:20230823T000458Z
UID:10002696-1695470400-1695499200@mineralspringsbrewery.com
SUMMARY:Northwoods Smokehouse
DESCRIPTION:Northwoods Smokehouse is a BBQ Food Trailer specializing in Texas craft BBQ focusing on pork\, chicken\, beef and gourmet sides.
URL:https://mineralspringsbrewery.com/event/northwoods-smokehouse-14/
LOCATION:Mineral Springs Brewery\, 210 N Oak Ave\, Suite 1\, Owatonna\, MN\, 55060\, United States
CATEGORIES:Food Trucks
ATTACH;FMTTYPE=image/jpeg:https://mineralspringsbrewery.com/wp-content/uploads/2022/08/Northwoods-Smokehouse.jpg
END:VEVENT
BEGIN:VEVENT
DTSTART;TZID=America/Chicago:20230922T173000
DTEND;TZID=America/Chicago:20230922T213000
DTSTAMP:20260420T163338
CREATED:20230822T232153Z
LAST-MODIFIED:20240618T032829Z
UID:10002699-1695403800-1695418200@mineralspringsbrewery.com
SUMMARY:The iPolka Band
DESCRIPTION:The iPolka Band is a group of veteran musicians who love to play polkas! \n\n\n\nThe perfect compliment to our Oktoberfest activities!
URL:https://mineralspringsbrewery.com/event/the-ipolka-band/
LOCATION:Mineral Springs Brewery\, 210 N Oak Ave\, Suite 1\, Owatonna\, MN\, 55060\, United States
CATEGORIES:Activities,Music
ATTACH;FMTTYPE=image/jpeg:https://mineralspringsbrewery.com/wp-content/uploads/2023/08/iPolka-Band.jpg
END:VEVENT
BEGIN:VEVENT
DTSTART;TZID=America/Chicago:20230922T163000
DTEND;TZID=America/Chicago:20230922T200000
DTSTAMP:20260420T163338
CREATED:20230822T225802Z
LAST-MODIFIED:20240618T032822Z
UID:10002695-1695400200-1695412800@mineralspringsbrewery.com
SUMMARY:El Rey Del Taco
DESCRIPTION:El Rey Del Taco truly is the king of tacos! Food is always fresh and salsa is made daily!
URL:https://mineralspringsbrewery.com/event/el-rey-del-taco-7/
LOCATION:Mineral Springs Brewery\, 210 N Oak Ave\, Suite 1\, Owatonna\, MN\, 55060\, United States
CATEGORIES:Food Trucks
ATTACH;FMTTYPE=image/jpeg:https://mineralspringsbrewery.com/wp-content/uploads/2022/03/elReydelTaco.jpg
END:VEVENT
BEGIN:VEVENT
DTSTART;TZID=America/Chicago:20230922T143000
DTEND;TZID=America/Chicago:20230922T163000
DTSTAMP:20260420T163338
CREATED:20230822T234902Z
LAST-MODIFIED:20240618T032816Z
UID:10002704-1695393000-1695400200@mineralspringsbrewery.com
SUMMARY:Lori Lachner
DESCRIPTION:Lori Lachner of the iPolka band is booked solo with us to fulfill all your concertina favorites! \n\n\n\nThe perfect compliment to our Oktoberfest activities!
URL:https://mineralspringsbrewery.com/event/lori-lachner-2/
LOCATION:Mineral Springs Brewery\, 210 N Oak Ave\, Suite 1\, Owatonna\, MN\, 55060\, United States
CATEGORIES:Activities,Music
END:VEVENT
BEGIN:VEVENT
DTSTART;TZID=America/Chicago:20230922T140000
DTEND;TZID=America/Chicago:20230922T200000
DTSTAMP:20260420T163338
CREATED:20230822T234446Z
LAST-MODIFIED:20240618T032807Z
UID:10002701-1695391200-1695412800@mineralspringsbrewery.com
SUMMARY:The Pretzel Wiz
DESCRIPTION:Indulge in the true spirit of Oktoberfest with delectable pretzels served fresh! Satisfy your cravings with soft\, golden-brown pretzels\, pairing perfectly with the festivities.
URL:https://mineralspringsbrewery.com/event/the-pretzel-wiz/
LOCATION:Mineral Springs Brewery\, 210 N Oak Ave\, Suite 1\, Owatonna\, MN\, 55060\, United States
CATEGORIES:Food Trucks
ATTACH;FMTTYPE=image/jpeg:https://mineralspringsbrewery.com/wp-content/uploads/2023/08/The-Pretzel-Wiz.jpg
END:VEVENT
BEGIN:VEVENT
DTSTART;TZID=America/Chicago:20230922T120000
DTEND;TZID=America/Chicago:20230923T230000
DTSTAMP:20260420T163338
CREATED:20230818T031952Z
LAST-MODIFIED:20230823T001321Z
UID:10002649-1695384000-1695510000@mineralspringsbrewery.com
SUMMARY:MSB Oktoberfest
DESCRIPTION:Our third annual Oktoberfest is free and fun for the whole family! \n\n\n\n\nLive Music\n\n\n\nOktoberfest Classic Pretzels\n\n\n\nMultiple Food Trucks\n\n\n\nGames and Competitions with Prizes To Win\n\n\n\nBeer!\n\n\n\n\n\n	\n		\n\n			\n			\n\n							\n					\n						Oktoberfest Events					\n				\n			\n			\n				\n											\n\n	\n	\n		\n			Jun		\n		\n			20		\n	\n\n\n	\n		\n			\n\n				\n					\n		\n		6:00 pm – 8:00 pm	\n	\n					\n	\n		Barefoot Winos	\n\n				\n\n				\n			\n		\n	\n\n\n									\n\n				\n	\n		View Calendar
URL:https://mineralspringsbrewery.com/event/oktoberfest-2023/
LOCATION:Mineral Springs Brewery\, 210 N Oak Ave\, Suite 1\, Owatonna\, MN\, 55060\, United States
CATEGORIES:Activities
ATTACH;FMTTYPE=image/png:https://mineralspringsbrewery.com/wp-content/uploads/2023/08/Okotoberfest-2024-Blue.png
END:VEVENT
BEGIN:VEVENT
DTSTART;TZID=America/Chicago:20230922T120000
DTEND;TZID=America/Chicago:20230922T200000
DTSTAMP:20260420T163338
CREATED:20230822T230039Z
LAST-MODIFIED:20240618T032800Z
UID:10002697-1695384000-1695412800@mineralspringsbrewery.com
SUMMARY:Oktoberfest Special - SpareTime
DESCRIPTION:SpareTime will be on site providing the Oktoberfest essential Brats!
URL:https://mineralspringsbrewery.com/event/oktoberfest-special-sparetime/
LOCATION:Mineral Springs Brewery\, 210 N Oak Ave\, Suite 1\, Owatonna\, MN\, 55060\, United States
CATEGORIES:Food Trucks
ATTACH;FMTTYPE=image/jpeg:https://mineralspringsbrewery.com/wp-content/uploads/2022/02/SpareTime.jpg
END:VEVENT
BEGIN:VEVENT
DTSTART;TZID=America/Chicago:20230921T163000
DTEND;TZID=America/Chicago:20230921T200000
DTSTAMP:20260420T163338
CREATED:20230822T223804Z
LAST-MODIFIED:20230822T223806Z
UID:10002668-1695313800-1695326400@mineralspringsbrewery.com
SUMMARY:El Rey Del Taco
DESCRIPTION:El Rey Del Taco truly is the king of tacos! Food is always fresh and salsa is made daily!
URL:https://mineralspringsbrewery.com/event/el-rey-del-taco-6/
LOCATION:Mineral Springs Brewery\, 210 N Oak Ave\, Suite 1\, Owatonna\, MN\, 55060\, United States
CATEGORIES:Food Trucks
ATTACH;FMTTYPE=image/jpeg:https://mineralspringsbrewery.com/wp-content/uploads/2022/03/elReydelTaco.jpg
END:VEVENT
BEGIN:VEVENT
DTSTART;TZID=America/Chicago:20230921T160000
DTEND;TZID=America/Chicago:20230921T200000
DTSTAMP:20260420T163338
CREATED:20230822T223739Z
LAST-MODIFIED:20230822T223740Z
UID:10002667-1695312000-1695326400@mineralspringsbrewery.com
SUMMARY:Blake's BETtor Spread
DESCRIPTION:Blake’s BETtor spread offers a variety of items catering to your likings in a fast-paced setting. Blake’s BETtor Spread offers everything from Cowboy Tacos\, to Wings\, to Cheese Curds! Check out their link below since they’ll post on Facebook what they’re bringing specifically for us!
URL:https://mineralspringsbrewery.com/event/blakes-bettor-spread-2/
LOCATION:Mineral Springs Brewery\, 210 N Oak Ave\, Suite 1\, Owatonna\, MN\, 55060\, United States
CATEGORIES:Food Trucks
ATTACH;FMTTYPE=image/jpeg:https://mineralspringsbrewery.com/wp-content/uploads/2023/05/Blakes-Bettor-Spread.jpg
END:VEVENT
BEGIN:VEVENT
DTSTART;TZID=America/Chicago:20230920T180000
DTEND;TZID=America/Chicago:20230920T180000
DTSTAMP:20260420T163338
CREATED:20230424T222632Z
LAST-MODIFIED:20250103T010113Z
UID:10002064-1695232800-1695232800@mineralspringsbrewery.com
SUMMARY:Trivia Night
DESCRIPTION:MSB Trivia Night!!
URL:https://mineralspringsbrewery.com/event/trivia-night-10/2023-09-20/
LOCATION:Mineral Springs Brewery\, 210 N Oak Ave\, Suite 1\, Owatonna\, MN\, 55060\, United States
CATEGORIES:Activities
ATTACH;FMTTYPE=image/png:https://mineralspringsbrewery.com/wp-content/uploads/2022/02/MSB-Trivia-Night.png
END:VEVENT
BEGIN:VEVENT
DTSTART;TZID=America/Chicago:20230920T170000
DTEND;TZID=America/Chicago:20230920T170000
DTSTAMP:20260420T163338
CREATED:20230822T225146Z
LAST-MODIFIED:20230822T225148Z
UID:10001808-1695229200-1695229200@mineralspringsbrewery.com
SUMMARY:Wag's Wednesday
DESCRIPTION:We’re partnering with Wagners Lunch Pool Hall to have their delicious burgers and fries delivered hot and fresh every half hour starting at 5:30pm! \n\n\n\nEach week\, you’ll have the choice between: \n\n\n\n\nDouble Cheeseburger with Fries & an MSB beer of choice for $13\n\n\n\nOr a Special Burger of the week that will rotate from week to week with Fries and an MSB beer of choice for $15\n\n\n\n\nBe sure to let our bartender know your order!
URL:https://mineralspringsbrewery.com/event/wags-wednesday-11/2023-09-20/
LOCATION:Mineral Springs Brewery\, 210 N Oak Ave\, Suite 1\, Owatonna\, MN\, 55060\, United States
CATEGORIES:Food Trucks
ATTACH;FMTTYPE=image/jpeg:https://mineralspringsbrewery.com/wp-content/uploads/2022/10/Wags-Wednesdays.jpeg
END:VEVENT
BEGIN:VEVENT
DTSTART;TZID=America/Chicago:20230919T000000
DTEND;TZID=America/Chicago:20230919T235959
DTSTAMP:20260420T163338
CREATED:20230822T221545Z
LAST-MODIFIED:20230822T221545Z
UID:10002653-1695081600-1695167999@mineralspringsbrewery.com
SUMMARY:Dog Happy Hour
DESCRIPTION:Join us (and our fur-iends!) for our Dog Happy Hour! \n\n\n\nBring your four-legged friend and your second beer is on us!
URL:https://mineralspringsbrewery.com/event/dog-happy-hour-5/
LOCATION:Mineral Springs Brewery\, 210 N Oak Ave\, Suite 1\, Owatonna\, MN\, 55060\, United States
CATEGORIES:Activities
ATTACH;FMTTYPE=image/jpeg:https://mineralspringsbrewery.com/wp-content/uploads/2023/08/Wally-Brewery-Boi-scaled.jpg
END:VEVENT
BEGIN:VEVENT
DTSTART;TZID=America/Chicago:20230917T150000
DTEND;TZID=America/Chicago:20230917T150000
DTSTAMP:20260420T163338
CREATED:20230822T225107Z
LAST-MODIFIED:20230822T225109Z
UID:10002320-1694962800-1694962800@mineralspringsbrewery.com
SUMMARY:MSBGO
DESCRIPTION:On Sundays\, we’ll be hosting a free and fun game of chance! Come on down to play along and win FREE BEER!
URL:https://mineralspringsbrewery.com/event/msbgo-7/2023-09-17/
LOCATION:Mineral Springs Brewery\, 210 N Oak Ave\, Suite 1\, Owatonna\, MN\, 55060\, United States
CATEGORIES:Activities
ATTACH;FMTTYPE=image/png:https://mineralspringsbrewery.com/wp-content/uploads/2022/04/Bingo.png
END:VEVENT
BEGIN:VEVENT
DTSTART;TZID=America/Chicago:20230916T180000
DTEND;TZID=America/Chicago:20230916T200000
DTSTAMP:20260420T163338
CREATED:20230822T223400Z
LAST-MODIFIED:20230822T223401Z
UID:10002666-1694887200-1694894400@mineralspringsbrewery.com
SUMMARY:Acoustic View
DESCRIPTION:Acoustic View is a two-piece acoustic Duo for all occasions playing variety from Fleetwood Mac to Johnny Cash & Pink Floyd
URL:https://mineralspringsbrewery.com/event/acoustic-view-4/
LOCATION:Mineral Springs Brewery\, 210 N Oak Ave\, Suite 1\, Owatonna\, MN\, 55060\, United States
CATEGORIES:Activities,Music
ATTACH;FMTTYPE=image/jpeg:https://mineralspringsbrewery.com/wp-content/uploads/2023/04/329337066_873746507191597_6764542972983042728_n.jpg
END:VEVENT
BEGIN:VEVENT
DTSTART;TZID=America/Chicago:20230916T120000
DTEND;TZID=America/Chicago:20230916T200000
DTSTAMP:20260420T163338
CREATED:20230822T223011Z
LAST-MODIFIED:20230822T223012Z
UID:10002665-1694865600-1694894400@mineralspringsbrewery.com
SUMMARY:Bummy's BBQ
DESCRIPTION:Serving mouth watering BBQ that is sure to please even the most picky of eaters!
URL:https://mineralspringsbrewery.com/event/bummys-bbq-12/
LOCATION:Mineral Springs Brewery\, 210 N Oak Ave\, Suite 1\, Owatonna\, MN\, 55060\, United States
CATEGORIES:Food Trucks
ATTACH;FMTTYPE=image/jpeg:https://mineralspringsbrewery.com/wp-content/uploads/2021/07/BummysBBQ.jpg
END:VEVENT
BEGIN:VEVENT
DTSTART;TZID=America/Chicago:20230915T163000
DTEND;TZID=America/Chicago:20230915T200000
DTSTAMP:20260420T163338
CREATED:20230822T222935Z
LAST-MODIFIED:20230822T222936Z
UID:10002664-1694795400-1694808000@mineralspringsbrewery.com
SUMMARY:Bummy's BBQ
DESCRIPTION:Serving mouth watering BBQ that is sure to please even the most picky of eaters!
URL:https://mineralspringsbrewery.com/event/bummys-bbq-11/
LOCATION:Mineral Springs Brewery\, 210 N Oak Ave\, Suite 1\, Owatonna\, MN\, 55060\, United States
CATEGORIES:Food Trucks
ATTACH;FMTTYPE=image/jpeg:https://mineralspringsbrewery.com/wp-content/uploads/2021/07/BummysBBQ.jpg
END:VEVENT
BEGIN:VEVENT
DTSTART;TZID=America/Chicago:20230914T170000
DTEND;TZID=America/Chicago:20230914T170000
DTSTAMP:20260420T163338
CREATED:20230822T225207Z
LAST-MODIFIED:20250319T185917Z
UID:10001550-1694710800-1694710800@mineralspringsbrewery.com
SUMMARY:Thursday Pizza Special
DESCRIPTION:We’ve partnered with A Taste of the Big Apple to have their delicious pizzas delivered hot and fresh every half hour starting at 5:30pm! We also have frozen pizzas from our friends over at Pleasant Grove Pizza Farm that we’re able to cook up in our ovens! \n\n\n\nOrder your choice of pizza at the bar and we’ll get it to you when it’s delivered! \n\n\n\n\n\nA Taste of the Big Apple\n\n\n\n\nCheese\n\n\n\nSausage\n\n\n\nPepperoni\n\n\n\nSausage/Pepperoni\n\n\n\nCombo\n\nSausage\, Pepperoni\, Onions\, & Mushrooms\n\n\n\n\n\n\n\n\nPleasant Grove Pizza Farm\n\n\n\n\nCheese\n\n\n\nSusie (Sausage)\n\n\n\nChuck (Pepperoni)\n\n\n\nChuck & Susie (Pepperoni & Sausage)\n\n\n\nMN Mess (Combo)\n\nSausage\, Green & Black Olives\, Green Peppers\, Onions\, & Mushrooms\n\n\n\n\n\nPizza Fries & Sauce\n\n\n\n\n\n\nBe sure to let our bartender know your order!
URL:https://mineralspringsbrewery.com/event/a-taste-of-the-big-apple-thursday-special-11/2023-09-14/
LOCATION:Mineral Springs Brewery\, 210 N Oak Ave\, Suite 1\, Owatonna\, MN\, 55060\, United States
CATEGORIES:Food Trucks
ATTACH;FMTTYPE=image/jpeg:https://mineralspringsbrewery.com/wp-content/uploads/2022/12/A-Taste-of-the-Big-Apple.jpg
END:VEVENT
BEGIN:VEVENT
DTSTART;TZID=America/Chicago:20230913T180000
DTEND;TZID=America/Chicago:20230913T180000
DTSTAMP:20260420T163338
CREATED:20230424T222632Z
LAST-MODIFIED:20250103T010113Z
UID:10002063-1694628000-1694628000@mineralspringsbrewery.com
SUMMARY:Trivia Night
DESCRIPTION:MSB Trivia Night!!
URL:https://mineralspringsbrewery.com/event/trivia-night-10/2023-09-13/
LOCATION:Mineral Springs Brewery\, 210 N Oak Ave\, Suite 1\, Owatonna\, MN\, 55060\, United States
CATEGORIES:Activities
ATTACH;FMTTYPE=image/png:https://mineralspringsbrewery.com/wp-content/uploads/2022/02/MSB-Trivia-Night.png
END:VEVENT
BEGIN:VEVENT
DTSTART;TZID=America/Chicago:20230913T170000
DTEND;TZID=America/Chicago:20230913T170000
DTSTAMP:20260420T163338
CREATED:20230822T225146Z
LAST-MODIFIED:20230822T225148Z
UID:10001807-1694624400-1694624400@mineralspringsbrewery.com
SUMMARY:Wag's Wednesday
DESCRIPTION:We’re partnering with Wagners Lunch Pool Hall to have their delicious burgers and fries delivered hot and fresh every half hour starting at 5:30pm! \n\n\n\nEach week\, you’ll have the choice between: \n\n\n\n\nDouble Cheeseburger with Fries & an MSB beer of choice for $13\n\n\n\nOr a Special Burger of the week that will rotate from week to week with Fries and an MSB beer of choice for $15\n\n\n\n\nBe sure to let our bartender know your order!
URL:https://mineralspringsbrewery.com/event/wags-wednesday-11/2023-09-13/
LOCATION:Mineral Springs Brewery\, 210 N Oak Ave\, Suite 1\, Owatonna\, MN\, 55060\, United States
CATEGORIES:Food Trucks
ATTACH;FMTTYPE=image/jpeg:https://mineralspringsbrewery.com/wp-content/uploads/2022/10/Wags-Wednesdays.jpeg
END:VEVENT
BEGIN:VEVENT
DTSTART;TZID=America/Chicago:20230910T150000
DTEND;TZID=America/Chicago:20230910T150000
DTSTAMP:20260420T163338
CREATED:20230822T225107Z
LAST-MODIFIED:20230822T225109Z
UID:10002319-1694358000-1694358000@mineralspringsbrewery.com
SUMMARY:MSBGO
DESCRIPTION:On Sundays\, we’ll be hosting a free and fun game of chance! Come on down to play along and win FREE BEER!
URL:https://mineralspringsbrewery.com/event/msbgo-7/2023-09-10/
LOCATION:Mineral Springs Brewery\, 210 N Oak Ave\, Suite 1\, Owatonna\, MN\, 55060\, United States
CATEGORIES:Activities
ATTACH;FMTTYPE=image/png:https://mineralspringsbrewery.com/wp-content/uploads/2022/04/Bingo.png
END:VEVENT
BEGIN:VEVENT
DTSTART;TZID=America/Chicago:20230909T183000
DTEND;TZID=America/Chicago:20230909T203000
DTSTAMP:20260420T163338
CREATED:20230822T222842Z
LAST-MODIFIED:20230822T222844Z
UID:10002663-1694284200-1694291400@mineralspringsbrewery.com
SUMMARY:Shasta Kings
DESCRIPTION:The Shasta Kings are Scott Rogness (guitar/lead vocals) and Bruce Watts (guitars/vocals) playing a wide variety of songs from classic rock to new country.
URL:https://mineralspringsbrewery.com/event/shasta-kings-5/
LOCATION:Mineral Springs Brewery\, 210 N Oak Ave\, Suite 1\, Owatonna\, MN\, 55060\, United States
CATEGORIES:Activities,Music
ATTACH;FMTTYPE=image/jpeg:https://mineralspringsbrewery.com/wp-content/uploads/2022/06/Shasta-Kings.jpg
END:VEVENT
BEGIN:VEVENT
DTSTART;TZID=America/Chicago:20230909T150000
DTEND;TZID=America/Chicago:20230909T200000
DTSTAMP:20260420T163338
CREATED:20230822T222629Z
LAST-MODIFIED:20230822T222630Z
UID:10002662-1694271600-1694289600@mineralspringsbrewery.com
SUMMARY:Garillers
DESCRIPTION:Garillers features their famous Chopped Cheese Sandwich along with the best smash burgers around!
URL:https://mineralspringsbrewery.com/event/garillers-5/
LOCATION:Mineral Springs Brewery\, 210 N Oak Ave\, Suite 1\, Owatonna\, MN\, 55060\, United States
CATEGORIES:Food Trucks
ATTACH;FMTTYPE=image/jpeg:https://mineralspringsbrewery.com/wp-content/uploads/2022/09/Garillers-Food-Truck.jpg
END:VEVENT
BEGIN:VEVENT
DTSTART;TZID=America/Chicago:20230908T163000
DTEND;TZID=America/Chicago:20230908T200000
DTSTAMP:20260420T163338
CREATED:20230822T222506Z
LAST-MODIFIED:20230822T222508Z
UID:10002661-1694190600-1694203200@mineralspringsbrewery.com
SUMMARY:El Rey Del Taco
DESCRIPTION:El Rey Del Taco truly is the king of tacos! Food is always fresh and salsa is made daily!
URL:https://mineralspringsbrewery.com/event/el-rey-del-taco-5/
LOCATION:Mineral Springs Brewery\, 210 N Oak Ave\, Suite 1\, Owatonna\, MN\, 55060\, United States
CATEGORIES:Food Trucks
ATTACH;FMTTYPE=image/jpeg:https://mineralspringsbrewery.com/wp-content/uploads/2022/03/elReydelTaco.jpg
END:VEVENT
BEGIN:VEVENT
DTSTART;TZID=America/Chicago:20230907T160000
DTEND;TZID=America/Chicago:20230907T200000
DTSTAMP:20260420T163338
CREATED:20230822T222338Z
LAST-MODIFIED:20230822T222340Z
UID:10002656-1694102400-1694116800@mineralspringsbrewery.com
SUMMARY:Mr Taco
DESCRIPTION:Street tacos\, burrito bowls\, nachos\, quesadillas & more!
URL:https://mineralspringsbrewery.com/event/mr-taco-6/
LOCATION:Mineral Springs Brewery\, 210 N Oak Ave\, Suite 1\, Owatonna\, MN\, 55060\, United States
CATEGORIES:Food Trucks
ATTACH;FMTTYPE=image/jpeg:https://mineralspringsbrewery.com/wp-content/uploads/2022/07/CasperMrTaco-Food-Truck.jpg
END:VEVENT
BEGIN:VEVENT
DTSTART;TZID=America/Chicago:20230906T180000
DTEND;TZID=America/Chicago:20230906T180000
DTSTAMP:20260420T163338
CREATED:20230424T222632Z
LAST-MODIFIED:20250103T010113Z
UID:10002062-1694023200-1694023200@mineralspringsbrewery.com
SUMMARY:Trivia Night
DESCRIPTION:MSB Trivia Night!!
URL:https://mineralspringsbrewery.com/event/trivia-night-10/2023-09-06/
LOCATION:Mineral Springs Brewery\, 210 N Oak Ave\, Suite 1\, Owatonna\, MN\, 55060\, United States
CATEGORIES:Activities
ATTACH;FMTTYPE=image/png:https://mineralspringsbrewery.com/wp-content/uploads/2022/02/MSB-Trivia-Night.png
END:VEVENT
BEGIN:VEVENT
DTSTART;TZID=America/Chicago:20230906T170000
DTEND;TZID=America/Chicago:20230906T170000
DTSTAMP:20260420T163338
CREATED:20230822T225146Z
LAST-MODIFIED:20230822T225148Z
UID:10001806-1694019600-1694019600@mineralspringsbrewery.com
SUMMARY:Wag's Wednesday
DESCRIPTION:We’re partnering with Wagners Lunch Pool Hall to have their delicious burgers and fries delivered hot and fresh every half hour starting at 5:30pm! \n\n\n\nEach week\, you’ll have the choice between: \n\n\n\n\nDouble Cheeseburger with Fries & an MSB beer of choice for $13\n\n\n\nOr a Special Burger of the week that will rotate from week to week with Fries and an MSB beer of choice for $15\n\n\n\n\nBe sure to let our bartender know your order!
URL:https://mineralspringsbrewery.com/event/wags-wednesday-11/2023-09-06/
LOCATION:Mineral Springs Brewery\, 210 N Oak Ave\, Suite 1\, Owatonna\, MN\, 55060\, United States
CATEGORIES:Food Trucks
ATTACH;FMTTYPE=image/jpeg:https://mineralspringsbrewery.com/wp-content/uploads/2022/10/Wags-Wednesdays.jpeg
END:VEVENT
BEGIN:VEVENT
DTSTART;TZID=America/Chicago:20230906T150000
DTEND;TZID=America/Chicago:20230906T210000
DTSTAMP:20260420T163338
CREATED:20230822T221700Z
LAST-MODIFIED:20230822T224954Z
UID:10001517-1694012400-1694034000@mineralspringsbrewery.com
SUMMARY:Classic Car Roll In
DESCRIPTION:MSB is home to the Classic Car Roll In! \n\n\n\nFall weather is perfect for both showing off and admiring these southern Minnesota classic cars!
URL:https://mineralspringsbrewery.com/event/classic-car-roll-in/2023-09-06/
LOCATION:Mineral Springs Brewery\, 210 N Oak Ave\, Suite 1\, Owatonna\, MN\, 55060\, United States
CATEGORIES:Activities
ATTACH;FMTTYPE=image/png:https://mineralspringsbrewery.com/wp-content/uploads/2022/05/Classic-Car-Roll-IN.png
END:VEVENT
BEGIN:VEVENT
DTSTART;TZID=America/Chicago:20230905T000000
DTEND;TZID=America/Chicago:20230905T235959
DTSTAMP:20260420T163338
CREATED:20230822T221357Z
LAST-MODIFIED:20230822T221507Z
UID:10002652-1693872000-1693958399@mineralspringsbrewery.com
SUMMARY:Dog Happy Hour
DESCRIPTION:Join us (and our fur-iends!) for our Dog Happy Hour! \n\n\n\nBring your four-legged friend and your second beer is on us!
URL:https://mineralspringsbrewery.com/event/dog-happy-hour-4/
LOCATION:Mineral Springs Brewery\, 210 N Oak Ave\, Suite 1\, Owatonna\, MN\, 55060\, United States
CATEGORIES:Activities
ATTACH;FMTTYPE=image/jpeg:https://mineralspringsbrewery.com/wp-content/uploads/2023/08/Wally-Brewery-Boi-scaled.jpg
END:VEVENT
BEGIN:VEVENT
DTSTART;TZID=America/Chicago:20230903T150000
DTEND;TZID=America/Chicago:20230903T150000
DTSTAMP:20260420T163338
CREATED:20230822T225107Z
LAST-MODIFIED:20230822T225109Z
UID:10002318-1693753200-1693753200@mineralspringsbrewery.com
SUMMARY:MSBGO
DESCRIPTION:On Sundays\, we’ll be hosting a free and fun game of chance! Come on down to play along and win FREE BEER!
URL:https://mineralspringsbrewery.com/event/msbgo-7/2023-09-03/
LOCATION:Mineral Springs Brewery\, 210 N Oak Ave\, Suite 1\, Owatonna\, MN\, 55060\, United States
CATEGORIES:Activities
ATTACH;FMTTYPE=image/png:https://mineralspringsbrewery.com/wp-content/uploads/2022/04/Bingo.png
END:VEVENT
END:VCALENDAR