BEGIN:VCALENDAR
VERSION:2.0
PRODID:-//Mineral Springs Brewery - ECPv6.15.20//NONSGML v1.0//EN
CALSCALE:GREGORIAN
METHOD:PUBLISH
X-WR-CALNAME:Mineral Springs Brewery
X-ORIGINAL-URL:https://mineralspringsbrewery.com
X-WR-CALDESC:Events for Mineral Springs Brewery
REFRESH-INTERVAL;VALUE=DURATION:PT1H
X-Robots-Tag:noindex
X-PUBLISHED-TTL:PT1H
BEGIN:VTIMEZONE
TZID:America/Chicago
BEGIN:DAYLIGHT
TZOFFSETFROM:-0600
TZOFFSETTO:-0500
TZNAME:CDT
DTSTART:20240310T080000
END:DAYLIGHT
BEGIN:STANDARD
TZOFFSETFROM:-0500
TZOFFSETTO:-0600
TZNAME:CST
DTSTART:20241103T070000
END:STANDARD
BEGIN:DAYLIGHT
TZOFFSETFROM:-0600
TZOFFSETTO:-0500
TZNAME:CDT
DTSTART:20250309T080000
END:DAYLIGHT
BEGIN:STANDARD
TZOFFSETFROM:-0500
TZOFFSETTO:-0600
TZNAME:CST
DTSTART:20251102T070000
END:STANDARD
BEGIN:DAYLIGHT
TZOFFSETFROM:-0600
TZOFFSETTO:-0500
TZNAME:CDT
DTSTART:20260308T080000
END:DAYLIGHT
BEGIN:STANDARD
TZOFFSETFROM:-0500
TZOFFSETTO:-0600
TZNAME:CST
DTSTART:20261101T070000
END:STANDARD
END:VTIMEZONE
BEGIN:VEVENT
DTSTART;TZID=America/Chicago:20250716T163000
DTEND;TZID=America/Chicago:20250716T163000
DTSTAMP:20260420T022852
CREATED:20250709T234018Z
LAST-MODIFIED:20250709T234455Z
UID:10003308-1752683400-1752683400@mineralspringsbrewery.com
SUMMARY:Wag's Wednesday
DESCRIPTION:We’re partnering with Wagners Lunch Pool Hall to have their delicious burgers and fries delivered hot and fresh every half hour with orders starting as early as 4:30pm! \n\n\n\nEach week\, you’ll have the choice between: \n\n\n\n\nDouble Cheeseburger with the works and Fries for $13\n\n\n\nOr a Special Burger of the week that will rotate from week to week with Fries for $13\n\n\n\n\nBe sure to let our bartender know your order!
URL:https://mineralspringsbrewery.com/event/wags-wednesday-16/2025-07-16/
LOCATION:Mineral Springs Brewery\, 210 N Oak Ave\, Suite 1\, Owatonna\, MN\, 55060\, United States
CATEGORIES:Food Trucks
ATTACH;FMTTYPE=image/jpeg:https://mineralspringsbrewery.com/wp-content/uploads/2022/10/Wags-Wednesdays.jpeg
END:VEVENT
BEGIN:VEVENT
DTSTART;TZID=America/Chicago:20250716T180000
DTEND;TZID=America/Chicago:20250716T180000
DTSTAMP:20260420T022852
CREATED:20250305T203954Z
LAST-MODIFIED:20250305T203959Z
UID:10002159-1752688800-1752688800@mineralspringsbrewery.com
SUMMARY:Trivia Night
DESCRIPTION:MSB Trivia Night!!
URL:https://mineralspringsbrewery.com/event/trivia-night-32/2025-07-16/
LOCATION:Mineral Springs Brewery\, 210 N Oak Ave\, Suite 1\, Owatonna\, MN\, 55060\, United States
CATEGORIES:Events
ATTACH;FMTTYPE=image/png:https://mineralspringsbrewery.com/wp-content/uploads/2022/02/MSB-Trivia-Night.png
END:VEVENT
BEGIN:VEVENT
DTSTART;TZID=America/Chicago:20250717T170000
DTEND;TZID=America/Chicago:20250717T170000
DTSTAMP:20260420T022852
CREATED:20230822T225207Z
LAST-MODIFIED:20250319T185917Z
UID:10001646-1752771600-1752771600@mineralspringsbrewery.com
SUMMARY:Thursday Pizza Special
DESCRIPTION:We’ve partnered with A Taste of the Big Apple to have their delicious pizzas delivered hot and fresh every half hour starting at 5:30pm! We also have frozen pizzas from our friends over at Pleasant Grove Pizza Farm that we’re able to cook up in our ovens! \n\n\n\nOrder your choice of pizza at the bar and we’ll get it to you when it’s delivered! \n\n\n\n\n\nA Taste of the Big Apple\n\n\n\n\nCheese\n\n\n\nSausage\n\n\n\nPepperoni\n\n\n\nSausage/Pepperoni\n\n\n\nCombo\n\nSausage\, Pepperoni\, Onions\, & Mushrooms\n\n\n\n\n\n\n\n\nPleasant Grove Pizza Farm\n\n\n\n\nCheese\n\n\n\nSusie (Sausage)\n\n\n\nChuck (Pepperoni)\n\n\n\nChuck & Susie (Pepperoni & Sausage)\n\n\n\nMN Mess (Combo)\n\nSausage\, Green & Black Olives\, Green Peppers\, Onions\, & Mushrooms\n\n\n\n\n\nPizza Fries & Sauce\n\n\n\n\n\n\nBe sure to let our bartender know your order!
URL:https://mineralspringsbrewery.com/event/a-taste-of-the-big-apple-thursday-special-11/2025-07-17/
LOCATION:Mineral Springs Brewery\, 210 N Oak Ave\, Suite 1\, Owatonna\, MN\, 55060\, United States
CATEGORIES:Food Trucks
ATTACH;FMTTYPE=image/jpeg:https://mineralspringsbrewery.com/wp-content/uploads/2022/12/A-Taste-of-the-Big-Apple.jpg
END:VEVENT
BEGIN:VEVENT
DTSTART;TZID=America/Chicago:20250717T180000
DTEND;TZID=America/Chicago:20250717T180000
DTSTAMP:20260420T022852
CREATED:20250702T212454Z
LAST-MODIFIED:20250702T212458Z
UID:10003125-1752775200-1752775200@mineralspringsbrewery.com
SUMMARY:Name that Tune
DESCRIPTION:Just like it sounds! \n\n\n\nWe play clips of songs\, and your team tries to guess the correct song title and group/artist! \n\n\n\nFREE To PlayCrowlers for the winning team as well as prizes given away throughout!Up To 6 People per Team
URL:https://mineralspringsbrewery.com/event/name-that-tune-17/
LOCATION:Mineral Springs Brewery\, 210 N Oak Ave\, Suite 1\, Owatonna\, MN\, 55060\, United States
CATEGORIES:Events
ATTACH;FMTTYPE=image/jpeg:https://mineralspringsbrewery.com/wp-content/uploads/2025/03/Name-That-Tune-7.17.25.jpg
END:VEVENT
BEGIN:VEVENT
DTSTART;TZID=America/Chicago:20250718T160000
DTEND;TZID=America/Chicago:20250718T200000
DTSTAMP:20260420T022852
CREATED:20250528T234208Z
LAST-MODIFIED:20250528T234212Z
UID:10003963-1752854400-1752868800@mineralspringsbrewery.com
SUMMARY:Sambusa Samosa
DESCRIPTION:
URL:https://mineralspringsbrewery.com/event/sambusa-samosa-3/
LOCATION:Mineral Springs Brewery\, 210 N Oak Ave\, Suite 1\, Owatonna\, MN\, 55060\, United States
CATEGORIES:Food Trucks
ATTACH;FMTTYPE=image/jpeg:https://mineralspringsbrewery.com/wp-content/uploads/2024/04/IMG_0758.jpeg
END:VEVENT
BEGIN:VEVENT
DTSTART;TZID=America/Chicago:20250718T173000
DTEND;TZID=America/Chicago:20250718T193000
DTSTAMP:20260420T022852
CREATED:20250528T234045Z
LAST-MODIFIED:20250528T234102Z
UID:10003964-1752859800-1752867000@mineralspringsbrewery.com
SUMMARY:Between Howls
DESCRIPTION:A duo in life and in music since 2018\, Between Howls are Ren Howl (Violin) & Nick Howl (Guitar)
URL:https://mineralspringsbrewery.com/event/between-howls/
LOCATION:Mineral Springs Brewery\, 210 N Oak Ave\, Suite 1\, Owatonna\, MN\, 55060\, United States
CATEGORIES:Music
ATTACH;FMTTYPE=image/jpeg:https://mineralspringsbrewery.com/wp-content/uploads/2025/05/Between-Howls.jpg
END:VEVENT
BEGIN:VEVENT
DTSTART;TZID=America/Chicago:20250718T190000
DTEND;TZID=America/Chicago:20250718T203000
DTSTAMP:20260420T022852
CREATED:20250528T233632Z
LAST-MODIFIED:20250528T233635Z
UID:10003965-1752865200-1752870600@mineralspringsbrewery.com
SUMMARY:Little Fish Improv
DESCRIPTION:Little Fish Improv is a group of local actors and comedians that bring Improv to life! \n\n\n\nNo two shows are the same; please join us as this troupe brings comedy to life through the art of improv. \n\n\n\nTheir improv is family friendly for people of all ages. The evening guarantees to be FULL of laughter for all!
URL:https://mineralspringsbrewery.com/event/little-fish-improv-4/
LOCATION:Mineral Springs Brewery\, 210 N Oak Ave\, Suite 1\, Owatonna\, MN\, 55060\, United States
CATEGORIES:Events
ATTACH;FMTTYPE=image/jpeg:https://mineralspringsbrewery.com/wp-content/uploads/2025/01/Little-Fish-Improv.jpg
END:VEVENT
BEGIN:VEVENT
DTSTART;TZID=America/Chicago:20250719T110000
DTEND;TZID=America/Chicago:20250719T130000
DTSTAMP:20260420T022852
CREATED:20250603T153635Z
LAST-MODIFIED:20250603T173841Z
UID:10003973-1752922800-1752930000@mineralspringsbrewery.com
SUMMARY:Mandala Stone Art Class
DESCRIPTION:Mandala Stone Art Painting Class at Mineral Springs Brewery\, Owatonna!! \n\n\n\nThis is your opportunity to tap into your creative spirit and learn the meditative art of mandala stone painting! Absolutely no painting or artistic skill or experience needed\, PROMISE!You are sure to be surprised how learning just a few\, easy dotting techniques will lead to gorgeous painted stones. \n\n\n\nClasses are geared for adults\, though registration welcome for kids as well (works best for ages 10 and up). \n\n\n\nIn this class format\, you will be painting the mandala pattern that you’ll select from a variety of options available. Paintings will be done on a hand casted 4-inch stone (or wood plaque with stand\, if you’d prefer) included in class. Through this process\, and class instruction\, you will learn all the dotting basics\, plus tips & tricks\, and leave class with the knowledge to make various mandala stone designs on any type of stone (or other surface). \n\n\n\nRegistration Instructions:\n\n\n\nTo register\, please email: mandalastoneartclasses@yahoo.com \n\n\n\n\nOn the subject line\, please note “Mineral Springs”\n\n\n\nIf you are registering for anyone else\, please include their name AND CC THEIR EMAIL ADDRESS (unless children). Participants will receive a confirmation email back within 24 hours with additional class information. You will also receive one more email a week before class with a link to sign up for which pattern you would like to paint.\n\n\n\n\nSeating:\n\n\n\nSeating is prearranged to help keep groups together. If you are taking the class with others\, though are emailing separately to register\, please mention their names\, so your group can be sure to be seated together. \n\n\n\nFood:\n\n\n\nYou are welcome to eat during class!Food available for purchase:* Currently scheduled for that day is Nozy’s Grill\, smash burger truck* Pleasant Grove Pizza Farm (local) pizza in a variety of flavors
URL:https://mineralspringsbrewery.com/event/mandala-stone-art-class/
LOCATION:Mineral Springs Brewery\, 210 N Oak Ave\, Suite 1\, Owatonna\, MN\, 55060\, United States
CATEGORIES:Events
ATTACH;FMTTYPE=image/jpeg:https://mineralspringsbrewery.com/wp-content/uploads/2025/06/MandalaStoneArtClass.jpg
ORGANIZER;CN="Mandala Stone Art Classes":MAILTO:mandalastoneartclasses@yahoo.com
END:VEVENT
BEGIN:VEVENT
DTSTART;TZID=America/Chicago:20250719T120000
DTEND;TZID=America/Chicago:20250719T200000
DTSTAMP:20260420T022852
CREATED:20250528T234414Z
LAST-MODIFIED:20250528T234417Z
UID:10003966-1752926400-1752955200@mineralspringsbrewery.com
SUMMARY:Nozy's Grill
DESCRIPTION:Scratch made food specializing in pork tenderloin sandwiches\, smash burgers\, and artisan sausages.
URL:https://mineralspringsbrewery.com/event/nozys-grill-6/
LOCATION:Mineral Springs Brewery\, 210 N Oak Ave\, Suite 1\, Owatonna\, MN\, 55060\, United States
CATEGORIES:Food Trucks
ATTACH;FMTTYPE=image/jpeg:https://mineralspringsbrewery.com/wp-content/uploads/2024/10/Nozys-Grill.jpg
END:VEVENT
BEGIN:VEVENT
DTSTART;TZID=America/Chicago:20250719T140000
DTEND;TZID=America/Chicago:20250719T160000
DTSTAMP:20260420T022852
CREATED:20250528T235002Z
LAST-MODIFIED:20250528T235007Z
UID:10003968-1752933600-1752940800@mineralspringsbrewery.com
SUMMARY:Tips and Taps Takeover - Boksprings Rugby
DESCRIPTION:Faribault Boksprings RFC players will be pouring beers from 2-4\, with 100% of tips are being put towards the club!
URL:https://mineralspringsbrewery.com/event/tips-and-taps-takeover-boksprings-rugby/
LOCATION:MN
CATEGORIES:Events
ATTACH;FMTTYPE=image/jpeg:https://mineralspringsbrewery.com/wp-content/uploads/2025/05/Bokspring-Rugby-scaled.jpg
END:VEVENT
BEGIN:VEVENT
DTSTART;TZID=America/Chicago:20250719T180000
DTEND;TZID=America/Chicago:20250719T200000
DTSTAMP:20260420T022852
CREATED:20250528T235045Z
LAST-MODIFIED:20250528T235050Z
UID:10003967-1752948000-1752955200@mineralspringsbrewery.com
SUMMARY:Jamison Murphy
DESCRIPTION:
URL:https://mineralspringsbrewery.com/event/jamison-murphy-3/
LOCATION:Mineral Springs Brewery\, 210 N Oak Ave\, Suite 1\, Owatonna\, MN\, 55060\, United States
CATEGORIES:Music
ATTACH;FMTTYPE=image/jpeg:https://mineralspringsbrewery.com/wp-content/uploads/2024/10/JamisonMurphy-10.19-e1734405491703.jpg
END:VEVENT
BEGIN:VEVENT
DTSTART;TZID=America/Chicago:20250720T150000
DTEND;TZID=America/Chicago:20250720T150000
DTSTAMP:20260420T022852
CREATED:20250305T203948Z
LAST-MODIFIED:20250305T203954Z
UID:10002416-1753023600-1753023600@mineralspringsbrewery.com
SUMMARY:MSBGO
DESCRIPTION:On Sundays\, we’ll be hosting a free and fun game of chance! Come on down to play along and win FREE BEER!
URL:https://mineralspringsbrewery.com/event/msbgo-8/2025-07-20/
LOCATION:Mineral Springs Brewery\, 210 N Oak Ave\, Suite 1\, Owatonna\, MN\, 55060\, United States
CATEGORIES:Events
ATTACH;FMTTYPE=image/png:https://mineralspringsbrewery.com/wp-content/uploads/2022/04/Bingo.png
END:VEVENT
BEGIN:VEVENT
DTSTART;TZID=America/Chicago:20250722T180000
DTEND;TZID=America/Chicago:20250722T200000
DTSTAMP:20260420T022852
CREATED:20250708T154201Z
LAST-MODIFIED:20250708T154228Z
UID:10004029-1753207200-1753214400@mineralspringsbrewery.com
SUMMARY:Plant 101 & Bingo
DESCRIPTION:Come on down to learn about the wonderful world of houseplants\, all while playing some fun games of bingo\, all while enjoying some drinks! One drink ticket will be provided with purchase of event ticket. \n\n\n\nEach round of bingo will shine light and focus on one specific houseplant; you’ll learn about that plant and how to take care of it! The winner of that bingo round will take that plant home! \n\n\n\nThis educational event is $25* for the two hours of houseplant fun! This event is being run by Dirty Girl’s Soil Co. Please register using the link below to help us anticipate participation.
URL:https://mineralspringsbrewery.com/event/plant-101-bingo/
LOCATION:Mineral Springs Brewery\, 210 N Oak Ave\, Suite 1\, Owatonna\, MN\, 55060\, United States
CATEGORIES:Events
ATTACH;FMTTYPE=image/jpeg:https://mineralspringsbrewery.com/wp-content/uploads/2025/07/Plant101wBingo.jpg
END:VEVENT
BEGIN:VEVENT
DTSTART;TZID=America/Chicago:20250723T163000
DTEND;TZID=America/Chicago:20250723T163000
DTSTAMP:20260420T022852
CREATED:20250709T234018Z
LAST-MODIFIED:20250709T234455Z
UID:10003309-1753288200-1753288200@mineralspringsbrewery.com
SUMMARY:Wag's Wednesday
DESCRIPTION:We’re partnering with Wagners Lunch Pool Hall to have their delicious burgers and fries delivered hot and fresh every half hour with orders starting as early as 4:30pm! \n\n\n\nEach week\, you’ll have the choice between: \n\n\n\n\nDouble Cheeseburger with the works and Fries for $13\n\n\n\nOr a Special Burger of the week that will rotate from week to week with Fries for $13\n\n\n\n\nBe sure to let our bartender know your order!
URL:https://mineralspringsbrewery.com/event/wags-wednesday-16/2025-07-23/
LOCATION:Mineral Springs Brewery\, 210 N Oak Ave\, Suite 1\, Owatonna\, MN\, 55060\, United States
CATEGORIES:Food Trucks
ATTACH;FMTTYPE=image/jpeg:https://mineralspringsbrewery.com/wp-content/uploads/2022/10/Wags-Wednesdays.jpeg
END:VEVENT
BEGIN:VEVENT
DTSTART;TZID=America/Chicago:20250723T180000
DTEND;TZID=America/Chicago:20250723T180000
DTSTAMP:20260420T022852
CREATED:20250305T203954Z
LAST-MODIFIED:20250305T203959Z
UID:10002160-1753293600-1753293600@mineralspringsbrewery.com
SUMMARY:Trivia Night
DESCRIPTION:MSB Trivia Night!!
URL:https://mineralspringsbrewery.com/event/trivia-night-32/2025-07-23/
LOCATION:Mineral Springs Brewery\, 210 N Oak Ave\, Suite 1\, Owatonna\, MN\, 55060\, United States
CATEGORIES:Events
ATTACH;FMTTYPE=image/png:https://mineralspringsbrewery.com/wp-content/uploads/2022/02/MSB-Trivia-Night.png
END:VEVENT
BEGIN:VEVENT
DTSTART;TZID=America/Chicago:20250724T170000
DTEND;TZID=America/Chicago:20250724T170000
DTSTAMP:20260420T022852
CREATED:20230822T225207Z
LAST-MODIFIED:20250319T185917Z
UID:10001647-1753376400-1753376400@mineralspringsbrewery.com
SUMMARY:Thursday Pizza Special
DESCRIPTION:We’ve partnered with A Taste of the Big Apple to have their delicious pizzas delivered hot and fresh every half hour starting at 5:30pm! We also have frozen pizzas from our friends over at Pleasant Grove Pizza Farm that we’re able to cook up in our ovens! \n\n\n\nOrder your choice of pizza at the bar and we’ll get it to you when it’s delivered! \n\n\n\n\n\nA Taste of the Big Apple\n\n\n\n\nCheese\n\n\n\nSausage\n\n\n\nPepperoni\n\n\n\nSausage/Pepperoni\n\n\n\nCombo\n\nSausage\, Pepperoni\, Onions\, & Mushrooms\n\n\n\n\n\n\n\n\nPleasant Grove Pizza Farm\n\n\n\n\nCheese\n\n\n\nSusie (Sausage)\n\n\n\nChuck (Pepperoni)\n\n\n\nChuck & Susie (Pepperoni & Sausage)\n\n\n\nMN Mess (Combo)\n\nSausage\, Green & Black Olives\, Green Peppers\, Onions\, & Mushrooms\n\n\n\n\n\nPizza Fries & Sauce\n\n\n\n\n\n\nBe sure to let our bartender know your order!
URL:https://mineralspringsbrewery.com/event/a-taste-of-the-big-apple-thursday-special-11/2025-07-24/
LOCATION:Mineral Springs Brewery\, 210 N Oak Ave\, Suite 1\, Owatonna\, MN\, 55060\, United States
CATEGORIES:Food Trucks
ATTACH;FMTTYPE=image/jpeg:https://mineralspringsbrewery.com/wp-content/uploads/2022/12/A-Taste-of-the-Big-Apple.jpg
END:VEVENT
BEGIN:VEVENT
DTSTART;TZID=America/Chicago:20250725T000000
DTEND;TZID=America/Chicago:20250725T235959
DTSTAMP:20260420T022852
CREATED:20250319T211249Z
LAST-MODIFIED:20250319T211254Z
UID:10003855-1753401600-1753487999@mineralspringsbrewery.com
SUMMARY:Final(ly) Friday
DESCRIPTION:Join us for the last Friday of every month through September to kick off the weekend! We’ll have live music and a fan-favorite food truck on site! The perfect end to the week and the month with something for the whole family! \n\n\n\n\n\n\n\nDetails
URL:https://mineralspringsbrewery.com/event/finally-friday-7/2025-07-25/
LOCATION:MN
CATEGORIES:Activities,Events,Music
ATTACH;FMTTYPE=image/png:https://mineralspringsbrewery.com/wp-content/uploads/2023/02/0AC096FB-5A0E-4FA8-B869-C385FF518D16.png
END:VEVENT
BEGIN:VEVENT
DTSTART;TZID=America/Chicago:20250725T160000
DTEND;TZID=America/Chicago:20250725T200000
DTSTAMP:20260420T022852
CREATED:20250529T000156Z
LAST-MODIFIED:20250529T000202Z
UID:10003970-1753459200-1753473600@mineralspringsbrewery.com
SUMMARY:Pleasant Grove Pizza Farm
DESCRIPTION:Pleasant Grove Pizza Farm brings over a fresh harvest of the best pizzas grown locally! \n\n\n\n\n\n\n\n\n\n\n\nDetails
URL:https://mineralspringsbrewery.com/event/pleasant-grove-pizza-farm-24/
LOCATION:Mineral Springs Brewery\, 210 N Oak Ave\, Suite 1\, Owatonna\, MN\, 55060\, United States
CATEGORIES:Food Trucks
ATTACH;FMTTYPE=image/jpeg:https://mineralspringsbrewery.com/wp-content/uploads/2023/05/Pleasant-Grove-Pizza-FarmV2.jpg
END:VEVENT
BEGIN:VEVENT
DTSTART;TZID=America/Chicago:20250725T180000
DTEND;TZID=America/Chicago:20250725T210000
DTSTAMP:20260420T022852
CREATED:20250528T235245Z
LAST-MODIFIED:20250714T013046Z
UID:10003969-1753466400-1753477200@mineralspringsbrewery.com
SUMMARY:The Space Force
DESCRIPTION:THE SPACE FORCE are a buncha dudes playing songs that were overplayed way before they were born.
URL:https://mineralspringsbrewery.com/event/the-space-force-5/
LOCATION:Mineral Springs Brewery\, 210 N Oak Ave\, Suite 1\, Owatonna\, MN\, 55060\, United States
CATEGORIES:Music
ATTACH;FMTTYPE=image/jpeg:https://mineralspringsbrewery.com/wp-content/uploads/2025/05/The-Space-Force.jpg
END:VEVENT
BEGIN:VEVENT
DTSTART;TZID=America/Chicago:20250726T120000
DTEND;TZID=America/Chicago:20250726T200000
DTSTAMP:20260420T022852
CREATED:20250610T101942Z
LAST-MODIFIED:20250610T101945Z
UID:10003981-1753531200-1753560000@mineralspringsbrewery.com
SUMMARY:Toño's Tacos
DESCRIPTION:Details
URL:https://mineralspringsbrewery.com/event/tonos-tacos-7/
LOCATION:MN
CATEGORIES:Food Trucks
ATTACH;FMTTYPE=image/jpeg:https://mineralspringsbrewery.com/wp-content/uploads/2025/03/Tonos-Tacos-Updated.jpg
END:VEVENT
BEGIN:VEVENT
DTSTART;TZID=America/Chicago:20250726T180000
DTEND;TZID=America/Chicago:20250726T200000
DTSTAMP:20260420T022852
CREATED:20250610T101952Z
LAST-MODIFIED:20250729T200843Z
UID:10003982-1753552800-1753560000@mineralspringsbrewery.com
SUMMARY:Chris Mims
DESCRIPTION:From the soulful rhythms of blues to the electrifying melodies of rock and country\, Chris Mims is a versatile guitarist and singer with over 30 years of experience.
URL:https://mineralspringsbrewery.com/event/chris-mims-9/
LOCATION:Mineral Springs Brewery\, 210 N Oak Ave\, Suite 1\, Owatonna\, MN\, 55060\, United States
CATEGORIES:Music
ATTACH;FMTTYPE=image/jpeg:https://mineralspringsbrewery.com/wp-content/uploads/2024/04/ChrisMims.jpg
END:VEVENT
BEGIN:VEVENT
DTSTART;TZID=America/Chicago:20250727T120000
DTEND;TZID=America/Chicago:20250727T180000
DTSTAMP:20260420T022852
CREATED:20250702T210516Z
LAST-MODIFIED:20250702T211402Z
UID:10004018-1753617600-1753639200@mineralspringsbrewery.com
SUMMARY:Blues and Brews!
DESCRIPTION:Make-A-Wish Minnesota is with us in the taproom and behind the bar for a Tap Takeover of Make-A-Wish families and volunteers! There’s also a ton of other fun going on\, with raffles\, a silent auction\, live music from the Barefoot Winos\, food\, and more!
URL:https://mineralspringsbrewery.com/event/blues-and-brews/
LOCATION:Mineral Springs Brewery\, 210 N Oak Ave\, Suite 1\, Owatonna\, MN\, 55060\, United States
CATEGORIES:Events
ATTACH;FMTTYPE=image/avif:https://mineralspringsbrewery.com/wp-content/uploads/2025/07/Make-A-Wish-MN-Blues-and-Brews.avif
END:VEVENT
BEGIN:VEVENT
DTSTART;TZID=America/Chicago:20250727T150000
DTEND;TZID=America/Chicago:20250727T150000
DTSTAMP:20260420T022852
CREATED:20250305T203948Z
LAST-MODIFIED:20250305T203954Z
UID:10002417-1753628400-1753628400@mineralspringsbrewery.com
SUMMARY:MSBGO
DESCRIPTION:On Sundays\, we’ll be hosting a free and fun game of chance! Come on down to play along and win FREE BEER!
URL:https://mineralspringsbrewery.com/event/msbgo-8/2025-07-27/
LOCATION:Mineral Springs Brewery\, 210 N Oak Ave\, Suite 1\, Owatonna\, MN\, 55060\, United States
CATEGORIES:Events
ATTACH;FMTTYPE=image/png:https://mineralspringsbrewery.com/wp-content/uploads/2022/04/Bingo.png
END:VEVENT
BEGIN:VEVENT
DTSTART;TZID=America/Chicago:20250730T163000
DTEND;TZID=America/Chicago:20250730T163000
DTSTAMP:20260420T022852
CREATED:20250709T234018Z
LAST-MODIFIED:20250709T234455Z
UID:10003310-1753893000-1753893000@mineralspringsbrewery.com
SUMMARY:Wag's Wednesday
DESCRIPTION:We’re partnering with Wagners Lunch Pool Hall to have their delicious burgers and fries delivered hot and fresh every half hour with orders starting as early as 4:30pm! \n\n\n\nEach week\, you’ll have the choice between: \n\n\n\n\nDouble Cheeseburger with the works and Fries for $13\n\n\n\nOr a Special Burger of the week that will rotate from week to week with Fries for $13\n\n\n\n\nBe sure to let our bartender know your order!
URL:https://mineralspringsbrewery.com/event/wags-wednesday-16/2025-07-30/
LOCATION:Mineral Springs Brewery\, 210 N Oak Ave\, Suite 1\, Owatonna\, MN\, 55060\, United States
CATEGORIES:Food Trucks
ATTACH;FMTTYPE=image/jpeg:https://mineralspringsbrewery.com/wp-content/uploads/2022/10/Wags-Wednesdays.jpeg
END:VEVENT
BEGIN:VEVENT
DTSTART;TZID=America/Chicago:20250730T180000
DTEND;TZID=America/Chicago:20250730T180000
DTSTAMP:20260420T022852
CREATED:20250305T203954Z
LAST-MODIFIED:20250305T203959Z
UID:10002161-1753898400-1753898400@mineralspringsbrewery.com
SUMMARY:Trivia Night
DESCRIPTION:MSB Trivia Night!!
URL:https://mineralspringsbrewery.com/event/trivia-night-32/2025-07-30/
LOCATION:Mineral Springs Brewery\, 210 N Oak Ave\, Suite 1\, Owatonna\, MN\, 55060\, United States
CATEGORIES:Events
ATTACH;FMTTYPE=image/png:https://mineralspringsbrewery.com/wp-content/uploads/2022/02/MSB-Trivia-Night.png
END:VEVENT
BEGIN:VEVENT
DTSTART;TZID=America/Chicago:20250731T170000
DTEND;TZID=America/Chicago:20250731T193000
DTSTAMP:20260420T022852
CREATED:20250729T124833Z
LAST-MODIFIED:20250731T022255Z
UID:10004074-1753981200-1753990200@mineralspringsbrewery.com
SUMMARY:Mike's Pasta
DESCRIPTION:
URL:https://mineralspringsbrewery.com/event/mikes-pasta/
LOCATION:Mineral Springs Brewery\, 210 N Oak Ave\, Suite 1\, Owatonna\, MN\, 55060\, United States
CATEGORIES:Food Trucks
ATTACH;FMTTYPE=image/png:https://mineralspringsbrewery.com/wp-content/uploads/2025/07/IMG_6297-e1768427896786.png
END:VEVENT
BEGIN:VEVENT
DTSTART;TZID=America/Chicago:20250801T160000
DTEND;TZID=America/Chicago:20250801T200000
DTSTAMP:20260420T022852
CREATED:20250610T102307Z
LAST-MODIFIED:20250610T102311Z
UID:10003984-1754064000-1754078400@mineralspringsbrewery.com
SUMMARY:Whiskey Creek BBQ
DESCRIPTION:Formerly Northwoods Smokehouse\, Whiskey Creek BBQ is a very familiar BBQ Food Trailer specializing in Texas craft BBQ focusing on pork\, chicken\, beef and gourmet sides!
URL:https://mineralspringsbrewery.com/event/whiskey-creek-bbq-7/
LOCATION:Mineral Springs Brewery\, 210 N Oak Ave\, Suite 1\, Owatonna\, MN\, 55060\, United States
CATEGORIES:Food Trucks
ATTACH;FMTTYPE=image/jpeg:https://mineralspringsbrewery.com/wp-content/uploads/2024/09/Whiskey-Creek-BBQ.jpg
END:VEVENT
BEGIN:VEVENT
DTSTART;TZID=America/Chicago:20250801T160000
DTEND;TZID=America/Chicago:20250801T200000
DTSTAMP:20260420T022852
CREATED:20250610T102316Z
LAST-MODIFIED:20250610T102319Z
UID:10003985-1754064000-1754078400@mineralspringsbrewery.com
SUMMARY:Original Hockey Mom Brownies
DESCRIPTION:Brownies + Ice Cream on wheels\, that’s what we’re talking about!
URL:https://mineralspringsbrewery.com/event/original-hockey-mom-brownies-13/
LOCATION:Mineral Springs Brewery\, 210 N Oak Ave\, Suite 1\, Owatonna\, MN\, 55060\, United States
CATEGORIES:Food Trucks
ATTACH;FMTTYPE=image/jpeg:https://mineralspringsbrewery.com/wp-content/uploads/2023/05/Original-Hockey-Mom-Brownies.jpg
END:VEVENT
BEGIN:VEVENT
DTSTART;TZID=America/Chicago:20250802T120000
DTEND;TZID=America/Chicago:20250802T200000
DTSTAMP:20260420T022852
CREATED:20250610T102206Z
LAST-MODIFIED:20250610T102209Z
UID:10003983-1754136000-1754164800@mineralspringsbrewery.com
SUMMARY:Smash N Dash
DESCRIPTION:After seeing them frequent a few of our brewery friends\, we knew we had to get them down to Owatonna! This is Smash N Dash’s first time at MSB\, but we’re hoping it’ll be the first of many!
URL:https://mineralspringsbrewery.com/event/smash-n-dash-2/
LOCATION:Mineral Springs Brewery\, 210 N Oak Ave\, Suite 1\, Owatonna\, MN\, 55060\, United States
CATEGORIES:Food Trucks
ATTACH;FMTTYPE=image/jpeg:https://mineralspringsbrewery.com/wp-content/uploads/2025/05/Smash-N-Dash-Logo.jpg
END:VEVENT
BEGIN:VEVENT
DTSTART;TZID=America/Chicago:20250802T183000
DTEND;TZID=America/Chicago:20250802T203000
DTSTAMP:20260420T022852
CREATED:20250728T235131Z
LAST-MODIFIED:20250728T235134Z
UID:10004040-1754159400-1754166600@mineralspringsbrewery.com
SUMMARY:Ferchvana
DESCRIPTION:
URL:https://mineralspringsbrewery.com/event/ferchvana/
LOCATION:Mineral Springs Brewery\, 210 N Oak Ave\, Suite 1\, Owatonna\, MN\, 55060\, United States
CATEGORIES:Music
ATTACH;FMTTYPE=image/jpeg:https://mineralspringsbrewery.com/wp-content/uploads/2025/07/5032452498519507847.jpeg
END:VEVENT
END:VCALENDAR