BEGIN:VCALENDAR
VERSION:2.0
PRODID:-//Mineral Springs Brewery - ECPv6.15.20//NONSGML v1.0//EN
CALSCALE:GREGORIAN
METHOD:PUBLISH
X-WR-CALNAME:Mineral Springs Brewery
X-ORIGINAL-URL:https://mineralspringsbrewery.com
X-WR-CALDESC:Events for Mineral Springs Brewery
REFRESH-INTERVAL;VALUE=DURATION:PT1H
X-Robots-Tag:noindex
X-PUBLISHED-TTL:PT1H
BEGIN:VTIMEZONE
TZID:America/Chicago
BEGIN:DAYLIGHT
TZOFFSETFROM:-0600
TZOFFSETTO:-0500
TZNAME:CDT
DTSTART:20230312T080000
END:DAYLIGHT
BEGIN:STANDARD
TZOFFSETFROM:-0500
TZOFFSETTO:-0600
TZNAME:CST
DTSTART:20231105T070000
END:STANDARD
BEGIN:DAYLIGHT
TZOFFSETFROM:-0600
TZOFFSETTO:-0500
TZNAME:CDT
DTSTART:20240310T080000
END:DAYLIGHT
BEGIN:STANDARD
TZOFFSETFROM:-0500
TZOFFSETTO:-0600
TZNAME:CST
DTSTART:20241103T070000
END:STANDARD
BEGIN:DAYLIGHT
TZOFFSETFROM:-0600
TZOFFSETTO:-0500
TZNAME:CDT
DTSTART:20250309T080000
END:DAYLIGHT
BEGIN:STANDARD
TZOFFSETFROM:-0500
TZOFFSETTO:-0600
TZNAME:CST
DTSTART:20251102T070000
END:STANDARD
END:VTIMEZONE
BEGIN:VEVENT
DTSTART;TZID=America/Chicago:20240224T180000
DTEND;TZID=America/Chicago:20240224T200000
DTSTAMP:20260420T013241
CREATED:20231101T230339Z
LAST-MODIFIED:20231101T230346Z
UID:10002779-1708797600-1708804800@mineralspringsbrewery.com
SUMMARY:Gaucho Bros
DESCRIPTION:
URL:https://mineralspringsbrewery.com/event/gaucho-bros/
LOCATION:Mineral Springs Brewery\, 210 N Oak Ave\, Suite 1\, Owatonna\, MN\, 55060\, United States
CATEGORIES:Activities,Music
END:VEVENT
BEGIN:VEVENT
DTSTART;TZID=America/Chicago:20240223T160000
DTEND;TZID=America/Chicago:20240223T200000
DTSTAMP:20260420T013241
CREATED:20231101T230204Z
LAST-MODIFIED:20231101T230205Z
UID:10002778-1708704000-1708718400@mineralspringsbrewery.com
SUMMARY:Linos Taqueria
DESCRIPTION:Linos offers some of the best: \n\n\n\n\nMexican Style Tacos\n\n\n\nTortes Mexican Tacos\n\n\n\nBurritos\n\n\n\nQuesadillas\n\n\n\nTamales
URL:https://mineralspringsbrewery.com/event/linos-taqueria-14/
LOCATION:Mineral Springs Brewery\, 210 N Oak Ave\, Suite 1\, Owatonna\, MN\, 55060\, United States
CATEGORIES:Food Trucks
ATTACH;FMTTYPE=image/jpeg:https://mineralspringsbrewery.com/wp-content/uploads/2022/12/7F17D32C-0220-48D7-BDB5-70ECA4173A53.jpeg
END:VEVENT
BEGIN:VEVENT
DTSTART;TZID=America/Chicago:20240222T180000
DTEND;TZID=America/Chicago:20240222T180000
DTSTAMP:20260420T013241
CREATED:20240121T231329Z
LAST-MODIFIED:20240121T235444Z
UID:10002822-1708624800-1708624800@mineralspringsbrewery.com
SUMMARY:Name that Tune
DESCRIPTION:More details to follow soon! \n\n\n\n\n\n\n\n\n\n\n\nDetails
URL:https://mineralspringsbrewery.com/event/name-that-tune/
LOCATION:Mineral Springs Brewery\, 210 N Oak Ave\, Suite 1\, Owatonna\, MN\, 55060\, United States
CATEGORIES:Activities
END:VEVENT
BEGIN:VEVENT
DTSTART;TZID=America/Chicago:20240222T170000
DTEND;TZID=America/Chicago:20240222T170000
DTSTAMP:20260420T013241
CREATED:20230822T225207Z
LAST-MODIFIED:20250319T185917Z
UID:10001573-1708621200-1708621200@mineralspringsbrewery.com
SUMMARY:Thursday Pizza Special
DESCRIPTION:We’ve partnered with A Taste of the Big Apple to have their delicious pizzas delivered hot and fresh every half hour starting at 5:30pm! We also have frozen pizzas from our friends over at Pleasant Grove Pizza Farm that we’re able to cook up in our ovens! \n\n\n\nOrder your choice of pizza at the bar and we’ll get it to you when it’s delivered! \n\n\n\n\n\nA Taste of the Big Apple\n\n\n\n\nCheese\n\n\n\nSausage\n\n\n\nPepperoni\n\n\n\nSausage/Pepperoni\n\n\n\nCombo\n\nSausage\, Pepperoni\, Onions\, & Mushrooms\n\n\n\n\n\n\n\n\nPleasant Grove Pizza Farm\n\n\n\n\nCheese\n\n\n\nSusie (Sausage)\n\n\n\nChuck (Pepperoni)\n\n\n\nChuck & Susie (Pepperoni & Sausage)\n\n\n\nMN Mess (Combo)\n\nSausage\, Green & Black Olives\, Green Peppers\, Onions\, & Mushrooms\n\n\n\n\n\nPizza Fries & Sauce\n\n\n\n\n\n\nBe sure to let our bartender know your order!
URL:https://mineralspringsbrewery.com/event/a-taste-of-the-big-apple-thursday-special-11/2024-02-22/
LOCATION:Mineral Springs Brewery\, 210 N Oak Ave\, Suite 1\, Owatonna\, MN\, 55060\, United States
CATEGORIES:Food Trucks
ATTACH;FMTTYPE=image/jpeg:https://mineralspringsbrewery.com/wp-content/uploads/2022/12/A-Taste-of-the-Big-Apple.jpg
END:VEVENT
BEGIN:VEVENT
DTSTART;TZID=America/Chicago:20240221T180000
DTEND;TZID=America/Chicago:20240221T180000
DTSTAMP:20260420T013241
CREATED:20240121T222604Z
LAST-MODIFIED:20240121T223123Z
UID:10002819-1708538400-1708538400@mineralspringsbrewery.com
SUMMARY:Frontal Cortex Freeze - Trivia Tournament
DESCRIPTION:This is our inaugural 6-week winter trivia tournament! You and up to 5 teammates will register to take part and win prizes! \n\n\n\n1 point will be recorded for every correct answer submitted throughout the 6 weeks (20 questions per night) The team with the most points at the conclusion of trivia on February 21st wins! \n\n\n\nPrizes: \n\n\n\n\nOne full growler to each winning team member\n\n\n\nA plaque with the winning team’s name and photo placed in the MSB taproom\n\n\n\nOne of a kind Frontal Cortex Freeze Tournament t-shirt\n\n\n\nBragging rights until next year’s tournament!\n\n\n\n\n\n\n\n\nOur weekly trivia will continue as normal\, with teams participating in the tournament also able to win weekly trivia! \n\n\n\n(No new team members once game play begins on 1/17)
URL:https://mineralspringsbrewery.com/event/frontal-cortex-freeze-trivia-tournament/2024-02-21/
LOCATION:Mineral Springs Brewery\, 210 N Oak Ave\, Suite 1\, Owatonna\, MN\, 55060\, United States
CATEGORIES:Activities
ATTACH;FMTTYPE=image/jpeg:https://mineralspringsbrewery.com/wp-content/uploads/2024/01/Frontal-Cortex-Freeze-Tournament.jpeg
END:VEVENT
BEGIN:VEVENT
DTSTART;TZID=America/Chicago:20240221T180000
DTEND;TZID=America/Chicago:20240221T180000
DTSTAMP:20260420T013241
CREATED:20230424T222632Z
LAST-MODIFIED:20250103T010113Z
UID:10002086-1708538400-1708538400@mineralspringsbrewery.com
SUMMARY:Trivia Night
DESCRIPTION:MSB Trivia Night!!
URL:https://mineralspringsbrewery.com/event/trivia-night-10/2024-02-21/
LOCATION:Mineral Springs Brewery\, 210 N Oak Ave\, Suite 1\, Owatonna\, MN\, 55060\, United States
CATEGORIES:Activities
ATTACH;FMTTYPE=image/png:https://mineralspringsbrewery.com/wp-content/uploads/2022/02/MSB-Trivia-Night.png
END:VEVENT
BEGIN:VEVENT
DTSTART;TZID=America/Chicago:20240221T170000
DTEND;TZID=America/Chicago:20240221T170000
DTSTAMP:20260420T013241
CREATED:20230822T225146Z
LAST-MODIFIED:20230822T225148Z
UID:10001830-1708534800-1708534800@mineralspringsbrewery.com
SUMMARY:Wag's Wednesday
DESCRIPTION:We’re partnering with Wagners Lunch Pool Hall to have their delicious burgers and fries delivered hot and fresh every half hour starting at 5:30pm! \n\n\n\nEach week\, you’ll have the choice between: \n\n\n\n\nDouble Cheeseburger with Fries & an MSB beer of choice for $13\n\n\n\nOr a Special Burger of the week that will rotate from week to week with Fries and an MSB beer of choice for $15\n\n\n\n\nBe sure to let our bartender know your order!
URL:https://mineralspringsbrewery.com/event/wags-wednesday-11/2024-02-21/
LOCATION:Mineral Springs Brewery\, 210 N Oak Ave\, Suite 1\, Owatonna\, MN\, 55060\, United States
CATEGORIES:Food Trucks
ATTACH;FMTTYPE=image/jpeg:https://mineralspringsbrewery.com/wp-content/uploads/2022/10/Wags-Wednesdays.jpeg
END:VEVENT
BEGIN:VEVENT
DTSTART;TZID=America/Chicago:20240218T150000
DTEND;TZID=America/Chicago:20240218T150000
DTSTAMP:20260420T013241
CREATED:20230822T225107Z
LAST-MODIFIED:20230822T225109Z
UID:10002342-1708268400-1708268400@mineralspringsbrewery.com
SUMMARY:MSBGO
DESCRIPTION:On Sundays\, we’ll be hosting a free and fun game of chance! Come on down to play along and win FREE BEER!
URL:https://mineralspringsbrewery.com/event/msbgo-7/2024-02-18/
LOCATION:Mineral Springs Brewery\, 210 N Oak Ave\, Suite 1\, Owatonna\, MN\, 55060\, United States
CATEGORIES:Activities
ATTACH;FMTTYPE=image/png:https://mineralspringsbrewery.com/wp-content/uploads/2022/04/Bingo.png
END:VEVENT
BEGIN:VEVENT
DTSTART;TZID=America/Chicago:20240217T183000
DTEND;TZID=America/Chicago:20240217T203000
DTSTAMP:20260420T013241
CREATED:20231213T221832Z
LAST-MODIFIED:20240618T040317Z
UID:10002807-1708194600-1708201800@mineralspringsbrewery.com
SUMMARY:Whiskey Whiskers
DESCRIPTION:Southern Minnesota Band playing music you love!
URL:https://mineralspringsbrewery.com/event/whiskey-whiskers-3/
LOCATION:MN
CATEGORIES:Activities,Music
ATTACH;FMTTYPE=image/jpeg:https://mineralspringsbrewery.com/wp-content/uploads/2022/04/Whiskey-Whiskers-1.jpg
END:VEVENT
BEGIN:VEVENT
DTSTART;TZID=America/Chicago:20240217T120000
DTEND;TZID=America/Chicago:20240217T200000
DTSTAMP:20260420T013241
CREATED:20231101T230148Z
LAST-MODIFIED:20231101T230149Z
UID:10002777-1708171200-1708200000@mineralspringsbrewery.com
SUMMARY:Bummy's BBQ
DESCRIPTION:Serving mouth watering BBQ that is sure to please even the most picky of eaters!
URL:https://mineralspringsbrewery.com/event/bummys-bbq-20/
LOCATION:Mineral Springs Brewery\, 210 N Oak Ave\, Suite 1\, Owatonna\, MN\, 55060\, United States
CATEGORIES:Food Trucks
ATTACH;FMTTYPE=image/jpeg:https://mineralspringsbrewery.com/wp-content/uploads/2021/07/BummysBBQ.jpg
END:VEVENT
BEGIN:VEVENT
DTSTART;TZID=America/Chicago:20240216T160000
DTEND;TZID=America/Chicago:20240216T200000
DTSTAMP:20260420T013241
CREATED:20231101T230137Z
LAST-MODIFIED:20231101T230138Z
UID:10002776-1708099200-1708113600@mineralspringsbrewery.com
SUMMARY:Brick Oven Bus
DESCRIPTION:Brick oven fired pizzas\, but on the go!
URL:https://mineralspringsbrewery.com/event/brick-oven-bus-11/
LOCATION:Mineral Springs Brewery\, 210 N Oak Ave\, Suite 1\, Owatonna\, MN\, 55060\, United States
CATEGORIES:Food Trucks
ATTACH;FMTTYPE=image/jpeg:https://mineralspringsbrewery.com/wp-content/uploads/2023/01/Brick-Oven-Bus.jpg
END:VEVENT
BEGIN:VEVENT
DTSTART;TZID=America/Chicago:20240215T170000
DTEND;TZID=America/Chicago:20240215T170000
DTSTAMP:20260420T013241
CREATED:20230822T225207Z
LAST-MODIFIED:20250319T185917Z
UID:10001572-1708016400-1708016400@mineralspringsbrewery.com
SUMMARY:Thursday Pizza Special
DESCRIPTION:We’ve partnered with A Taste of the Big Apple to have their delicious pizzas delivered hot and fresh every half hour starting at 5:30pm! We also have frozen pizzas from our friends over at Pleasant Grove Pizza Farm that we’re able to cook up in our ovens! \n\n\n\nOrder your choice of pizza at the bar and we’ll get it to you when it’s delivered! \n\n\n\n\n\nA Taste of the Big Apple\n\n\n\n\nCheese\n\n\n\nSausage\n\n\n\nPepperoni\n\n\n\nSausage/Pepperoni\n\n\n\nCombo\n\nSausage\, Pepperoni\, Onions\, & Mushrooms\n\n\n\n\n\n\n\n\nPleasant Grove Pizza Farm\n\n\n\n\nCheese\n\n\n\nSusie (Sausage)\n\n\n\nChuck (Pepperoni)\n\n\n\nChuck & Susie (Pepperoni & Sausage)\n\n\n\nMN Mess (Combo)\n\nSausage\, Green & Black Olives\, Green Peppers\, Onions\, & Mushrooms\n\n\n\n\n\nPizza Fries & Sauce\n\n\n\n\n\n\nBe sure to let our bartender know your order!
URL:https://mineralspringsbrewery.com/event/a-taste-of-the-big-apple-thursday-special-11/2024-02-15/
LOCATION:Mineral Springs Brewery\, 210 N Oak Ave\, Suite 1\, Owatonna\, MN\, 55060\, United States
CATEGORIES:Food Trucks
ATTACH;FMTTYPE=image/jpeg:https://mineralspringsbrewery.com/wp-content/uploads/2022/12/A-Taste-of-the-Big-Apple.jpg
END:VEVENT
BEGIN:VEVENT
DTSTART;TZID=America/Chicago:20240214T180000
DTEND;TZID=America/Chicago:20240214T180000
DTSTAMP:20260420T013241
CREATED:20240121T222604Z
LAST-MODIFIED:20240121T223123Z
UID:10002818-1707933600-1707933600@mineralspringsbrewery.com
SUMMARY:Frontal Cortex Freeze - Trivia Tournament
DESCRIPTION:This is our inaugural 6-week winter trivia tournament! You and up to 5 teammates will register to take part and win prizes! \n\n\n\n1 point will be recorded for every correct answer submitted throughout the 6 weeks (20 questions per night) The team with the most points at the conclusion of trivia on February 21st wins! \n\n\n\nPrizes: \n\n\n\n\nOne full growler to each winning team member\n\n\n\nA plaque with the winning team’s name and photo placed in the MSB taproom\n\n\n\nOne of a kind Frontal Cortex Freeze Tournament t-shirt\n\n\n\nBragging rights until next year’s tournament!\n\n\n\n\n\n\n\n\nOur weekly trivia will continue as normal\, with teams participating in the tournament also able to win weekly trivia! \n\n\n\n(No new team members once game play begins on 1/17)
URL:https://mineralspringsbrewery.com/event/frontal-cortex-freeze-trivia-tournament/2024-02-14/
LOCATION:Mineral Springs Brewery\, 210 N Oak Ave\, Suite 1\, Owatonna\, MN\, 55060\, United States
CATEGORIES:Activities
ATTACH;FMTTYPE=image/jpeg:https://mineralspringsbrewery.com/wp-content/uploads/2024/01/Frontal-Cortex-Freeze-Tournament.jpeg
END:VEVENT
BEGIN:VEVENT
DTSTART;TZID=America/Chicago:20240214T180000
DTEND;TZID=America/Chicago:20240214T180000
DTSTAMP:20260420T013241
CREATED:20230424T222632Z
LAST-MODIFIED:20250103T010113Z
UID:10002085-1707933600-1707933600@mineralspringsbrewery.com
SUMMARY:Trivia Night
DESCRIPTION:MSB Trivia Night!!
URL:https://mineralspringsbrewery.com/event/trivia-night-10/2024-02-14/
LOCATION:Mineral Springs Brewery\, 210 N Oak Ave\, Suite 1\, Owatonna\, MN\, 55060\, United States
CATEGORIES:Activities
ATTACH;FMTTYPE=image/png:https://mineralspringsbrewery.com/wp-content/uploads/2022/02/MSB-Trivia-Night.png
END:VEVENT
BEGIN:VEVENT
DTSTART;TZID=America/Chicago:20240214T170000
DTEND;TZID=America/Chicago:20240214T170000
DTSTAMP:20260420T013241
CREATED:20230822T225146Z
LAST-MODIFIED:20230822T225148Z
UID:10001829-1707930000-1707930000@mineralspringsbrewery.com
SUMMARY:Wag's Wednesday
DESCRIPTION:We’re partnering with Wagners Lunch Pool Hall to have their delicious burgers and fries delivered hot and fresh every half hour starting at 5:30pm! \n\n\n\nEach week\, you’ll have the choice between: \n\n\n\n\nDouble Cheeseburger with Fries & an MSB beer of choice for $13\n\n\n\nOr a Special Burger of the week that will rotate from week to week with Fries and an MSB beer of choice for $15\n\n\n\n\nBe sure to let our bartender know your order!
URL:https://mineralspringsbrewery.com/event/wags-wednesday-11/2024-02-14/
LOCATION:Mineral Springs Brewery\, 210 N Oak Ave\, Suite 1\, Owatonna\, MN\, 55060\, United States
CATEGORIES:Food Trucks
ATTACH;FMTTYPE=image/jpeg:https://mineralspringsbrewery.com/wp-content/uploads/2022/10/Wags-Wednesdays.jpeg
END:VEVENT
BEGIN:VEVENT
DTSTART;TZID=America/Chicago:20240211T150000
DTEND;TZID=America/Chicago:20240211T150000
DTSTAMP:20260420T013241
CREATED:20230822T225107Z
LAST-MODIFIED:20230822T225109Z
UID:10002341-1707663600-1707663600@mineralspringsbrewery.com
SUMMARY:MSBGO
DESCRIPTION:On Sundays\, we’ll be hosting a free and fun game of chance! Come on down to play along and win FREE BEER!
URL:https://mineralspringsbrewery.com/event/msbgo-7/2024-02-11/
LOCATION:Mineral Springs Brewery\, 210 N Oak Ave\, Suite 1\, Owatonna\, MN\, 55060\, United States
CATEGORIES:Activities
ATTACH;FMTTYPE=image/png:https://mineralspringsbrewery.com/wp-content/uploads/2022/04/Bingo.png
END:VEVENT
BEGIN:VEVENT
DTSTART;TZID=America/Chicago:20240210T183000
DTEND;TZID=America/Chicago:20240210T203000
DTSTAMP:20260420T013241
CREATED:20231101T230101Z
LAST-MODIFIED:20231101T230102Z
UID:10002774-1707589800-1707597000@mineralspringsbrewery.com
SUMMARY:Jeff Reinartz
DESCRIPTION:Jeff Reinartz is a singer/songwriter from  Austin\, Minnesota. He’s been performing live for over 30 years and is a veteran of several bands. He is now a solo acoustic performer and has released two EPs that were produced by Scotty Rohr at Zension Studio in Austin. \n\n\n\n\nI believe that we’re here to use our talents and abilities to the benefit of others\, so after 22 years in the corporate world with a Fortune 300 company\, I resigned in 2019 to pursue my music interests full time. I didn’t necessarily count on a global pandemic\, but as things have loosened up I’ve been able to play more and more\, doing acoustic shows at primarily breweries and wineries in Southern Minnesota and Northern Iowa\, and building a small following organically.” \nJeff Reinartz
URL:https://mineralspringsbrewery.com/event/jeff-reinartz-11/
LOCATION:Mineral Springs Brewery\, 210 N Oak Ave\, Suite 1\, Owatonna\, MN\, 55060\, United States
CATEGORIES:Activities,Music
ATTACH;FMTTYPE=image/jpeg:https://mineralspringsbrewery.com/wp-content/uploads/2022/04/Jeff-Reinartz-scaled.jpg
END:VEVENT
BEGIN:VEVENT
DTSTART;TZID=America/Chicago:20240210T120000
DTEND;TZID=America/Chicago:20240210T190000
DTSTAMP:20260420T013241
CREATED:20240207T021307Z
LAST-MODIFIED:20240207T021309Z
UID:10002833-1707566400-1707591600@mineralspringsbrewery.com
SUMMARY:Garillers
DESCRIPTION:Garillers features the best smash burgers around!
URL:https://mineralspringsbrewery.com/event/garillers-9/
LOCATION:Mineral Springs Brewery\, 210 N Oak Ave\, Suite 1\, Owatonna\, MN\, 55060\, United States
CATEGORIES:Food Trucks
ATTACH;FMTTYPE=image/jpeg:https://mineralspringsbrewery.com/wp-content/uploads/2022/09/Garillers-Food-Truck.jpg
END:VEVENT
BEGIN:VEVENT
DTSTART;TZID=America/Chicago:20240209T160000
DTEND;TZID=America/Chicago:20240209T200000
DTSTAMP:20260420T013241
CREATED:20231101T230118Z
LAST-MODIFIED:20231101T230119Z
UID:10002775-1707494400-1707508800@mineralspringsbrewery.com
SUMMARY:Louie's BBQ Shack
DESCRIPTION:The best BBQ around! Recently crowned Taste of Shakopee 2023 winner!
URL:https://mineralspringsbrewery.com/event/louies-bbq-shack-7/
LOCATION:Mineral Springs Brewery\, 210 N Oak Ave\, Suite 1\, Owatonna\, MN\, 55060\, United States
CATEGORIES:Food Trucks
ATTACH;FMTTYPE=image/jpeg:https://mineralspringsbrewery.com/wp-content/uploads/2022/10/B0647B0D-5C8E-4466-AB77-6C8A56782312.jpeg
END:VEVENT
BEGIN:VEVENT
DTSTART;TZID=America/Chicago:20240208T170000
DTEND;TZID=America/Chicago:20240208T170000
DTSTAMP:20260420T013241
CREATED:20230822T225207Z
LAST-MODIFIED:20250319T185917Z
UID:10001571-1707411600-1707411600@mineralspringsbrewery.com
SUMMARY:Thursday Pizza Special
DESCRIPTION:We’ve partnered with A Taste of the Big Apple to have their delicious pizzas delivered hot and fresh every half hour starting at 5:30pm! We also have frozen pizzas from our friends over at Pleasant Grove Pizza Farm that we’re able to cook up in our ovens! \n\n\n\nOrder your choice of pizza at the bar and we’ll get it to you when it’s delivered! \n\n\n\n\n\nA Taste of the Big Apple\n\n\n\n\nCheese\n\n\n\nSausage\n\n\n\nPepperoni\n\n\n\nSausage/Pepperoni\n\n\n\nCombo\n\nSausage\, Pepperoni\, Onions\, & Mushrooms\n\n\n\n\n\n\n\n\nPleasant Grove Pizza Farm\n\n\n\n\nCheese\n\n\n\nSusie (Sausage)\n\n\n\nChuck (Pepperoni)\n\n\n\nChuck & Susie (Pepperoni & Sausage)\n\n\n\nMN Mess (Combo)\n\nSausage\, Green & Black Olives\, Green Peppers\, Onions\, & Mushrooms\n\n\n\n\n\nPizza Fries & Sauce\n\n\n\n\n\n\nBe sure to let our bartender know your order!
URL:https://mineralspringsbrewery.com/event/a-taste-of-the-big-apple-thursday-special-11/2024-02-08/
LOCATION:Mineral Springs Brewery\, 210 N Oak Ave\, Suite 1\, Owatonna\, MN\, 55060\, United States
CATEGORIES:Food Trucks
ATTACH;FMTTYPE=image/jpeg:https://mineralspringsbrewery.com/wp-content/uploads/2022/12/A-Taste-of-the-Big-Apple.jpg
END:VEVENT
BEGIN:VEVENT
DTSTART;TZID=America/Chicago:20240207T180000
DTEND;TZID=America/Chicago:20240207T180000
DTSTAMP:20260420T013241
CREATED:20240121T222604Z
LAST-MODIFIED:20240121T223123Z
UID:10002817-1707328800-1707328800@mineralspringsbrewery.com
SUMMARY:Frontal Cortex Freeze - Trivia Tournament
DESCRIPTION:This is our inaugural 6-week winter trivia tournament! You and up to 5 teammates will register to take part and win prizes! \n\n\n\n1 point will be recorded for every correct answer submitted throughout the 6 weeks (20 questions per night) The team with the most points at the conclusion of trivia on February 21st wins! \n\n\n\nPrizes: \n\n\n\n\nOne full growler to each winning team member\n\n\n\nA plaque with the winning team’s name and photo placed in the MSB taproom\n\n\n\nOne of a kind Frontal Cortex Freeze Tournament t-shirt\n\n\n\nBragging rights until next year’s tournament!\n\n\n\n\n\n\n\n\nOur weekly trivia will continue as normal\, with teams participating in the tournament also able to win weekly trivia! \n\n\n\n(No new team members once game play begins on 1/17)
URL:https://mineralspringsbrewery.com/event/frontal-cortex-freeze-trivia-tournament/2024-02-07/
LOCATION:Mineral Springs Brewery\, 210 N Oak Ave\, Suite 1\, Owatonna\, MN\, 55060\, United States
CATEGORIES:Activities
ATTACH;FMTTYPE=image/jpeg:https://mineralspringsbrewery.com/wp-content/uploads/2024/01/Frontal-Cortex-Freeze-Tournament.jpeg
END:VEVENT
BEGIN:VEVENT
DTSTART;TZID=America/Chicago:20240207T180000
DTEND;TZID=America/Chicago:20240207T180000
DTSTAMP:20260420T013241
CREATED:20230424T222632Z
LAST-MODIFIED:20250103T010113Z
UID:10002084-1707328800-1707328800@mineralspringsbrewery.com
SUMMARY:Trivia Night
DESCRIPTION:MSB Trivia Night!!
URL:https://mineralspringsbrewery.com/event/trivia-night-10/2024-02-07/
LOCATION:Mineral Springs Brewery\, 210 N Oak Ave\, Suite 1\, Owatonna\, MN\, 55060\, United States
CATEGORIES:Activities
ATTACH;FMTTYPE=image/png:https://mineralspringsbrewery.com/wp-content/uploads/2022/02/MSB-Trivia-Night.png
END:VEVENT
BEGIN:VEVENT
DTSTART;TZID=America/Chicago:20240207T170000
DTEND;TZID=America/Chicago:20240207T170000
DTSTAMP:20260420T013241
CREATED:20230822T225146Z
LAST-MODIFIED:20230822T225148Z
UID:10001828-1707325200-1707325200@mineralspringsbrewery.com
SUMMARY:Wag's Wednesday
DESCRIPTION:We’re partnering with Wagners Lunch Pool Hall to have their delicious burgers and fries delivered hot and fresh every half hour starting at 5:30pm! \n\n\n\nEach week\, you’ll have the choice between: \n\n\n\n\nDouble Cheeseburger with Fries & an MSB beer of choice for $13\n\n\n\nOr a Special Burger of the week that will rotate from week to week with Fries and an MSB beer of choice for $15\n\n\n\n\nBe sure to let our bartender know your order!
URL:https://mineralspringsbrewery.com/event/wags-wednesday-11/2024-02-07/
LOCATION:Mineral Springs Brewery\, 210 N Oak Ave\, Suite 1\, Owatonna\, MN\, 55060\, United States
CATEGORIES:Food Trucks
ATTACH;FMTTYPE=image/jpeg:https://mineralspringsbrewery.com/wp-content/uploads/2022/10/Wags-Wednesdays.jpeg
END:VEVENT
BEGIN:VEVENT
DTSTART;TZID=America/Chicago:20240206T110000
DTEND;TZID=America/Chicago:20240206T190000
DTSTAMP:20260420T013241
CREATED:20240122T040651Z
LAST-MODIFIED:20240122T040654Z
UID:10002829-1707217200-1707246000@mineralspringsbrewery.com
SUMMARY:On The Hook - Fish and Chips
DESCRIPTION:On The Hook specializes in Line-Caught Wild Alaskan Cod Fish and Chips. We start with the highest quality cod available sourced from the cold clean waters of Alaska. This however\, is not just any Alaskan Cod\, our cod is caught using hook and line which means that each fish is brought aboard individually and immediately headed\, gutted\, and flash frozen to perfectly preserve the fresh caught quality and tenderness. We hand coat it with our original recipe beer batter created by our founders over months by experimenting and fine tuning while they were in college. Batter was not the only thing we created from scratch\, our signature dipping sauces are included with every meal to complete a perfect dish. \n\n\n\n\n\n\n\n\n\n\n\nDetails
URL:https://mineralspringsbrewery.com/event/on-the-hook-fish-and-chips-11/
LOCATION:Mineral Springs Brewery\, 210 N Oak Ave\, Suite 1\, Owatonna\, MN\, 55060\, United States
CATEGORIES:Food Trucks
ATTACH;FMTTYPE=image/jpeg:https://mineralspringsbrewery.com/wp-content/uploads/2021/03/0EEABF12-E6AD-4366-B5BB-DAE146728E09.jpeg
END:VEVENT
BEGIN:VEVENT
DTSTART;TZID=America/Chicago:20240204T150000
DTEND;TZID=America/Chicago:20240204T150000
DTSTAMP:20260420T013241
CREATED:20230822T225107Z
LAST-MODIFIED:20230822T225109Z
UID:10002340-1707058800-1707058800@mineralspringsbrewery.com
SUMMARY:MSBGO
DESCRIPTION:On Sundays\, we’ll be hosting a free and fun game of chance! Come on down to play along and win FREE BEER!
URL:https://mineralspringsbrewery.com/event/msbgo-7/2024-02-04/
LOCATION:Mineral Springs Brewery\, 210 N Oak Ave\, Suite 1\, Owatonna\, MN\, 55060\, United States
CATEGORIES:Activities
ATTACH;FMTTYPE=image/png:https://mineralspringsbrewery.com/wp-content/uploads/2022/04/Bingo.png
END:VEVENT
BEGIN:VEVENT
DTSTART;TZID=America/Chicago:20240204T140000
DTEND;TZID=America/Chicago:20240204T190000
DTSTAMP:20260420T013241
CREATED:20240204T020202Z
LAST-MODIFIED:20240204T020205Z
UID:10002832-1707055200-1707073200@mineralspringsbrewery.com
SUMMARY:Swede's Smokin' Grill
DESCRIPTION:Swede’s Smokin’ Grill bringing you delicious food to enjoy. Menu includes smoked pork\, smoked turkey\, ribs\, hamburgers\, hot dogs\, chili\, and much more!
URL:https://mineralspringsbrewery.com/event/swedes-smokin-grill-9/
LOCATION:Mineral Springs Brewery\, 210 N Oak Ave\, Suite 1\, Owatonna\, MN\, 55060\, United States
CATEGORIES:Food Trucks
ATTACH;FMTTYPE=image/jpeg:https://mineralspringsbrewery.com/wp-content/uploads/2022/03/SwedesSmokinGrill.jpg
END:VEVENT
BEGIN:VEVENT
DTSTART;TZID=America/Chicago:20240203T180000
DTEND;TZID=America/Chicago:20240203T200000
DTSTAMP:20260420T013241
CREATED:20231101T225927Z
LAST-MODIFIED:20231101T225929Z
UID:10002772-1706983200-1706990400@mineralspringsbrewery.com
SUMMARY:Kate & Ray
DESCRIPTION:Kate & Ray return to MSB’s stage inside!
URL:https://mineralspringsbrewery.com/event/kate-ray-2/
LOCATION:Mineral Springs Brewery\, 210 N Oak Ave\, Suite 1\, Owatonna\, MN\, 55060\, United States
CATEGORIES:Activities,Music
END:VEVENT
BEGIN:VEVENT
DTSTART;TZID=America/Chicago:20240203T120000
DTEND;TZID=America/Chicago:20240203T200000
DTSTAMP:20260420T013241
CREATED:20240127T224021Z
LAST-MODIFIED:20240127T224023Z
UID:10002830-1706961600-1706990400@mineralspringsbrewery.com
SUMMARY:Swede's Smokin' Grill
DESCRIPTION:Swede’s Smokin’ Grill bringing you delicious food to enjoy. Menu includes smoked pork\, smoked turkey\, ribs\, hamburgers\, hot dogs\, chili\, and much more!
URL:https://mineralspringsbrewery.com/event/swedes-smokin-grill-7/
LOCATION:Mineral Springs Brewery\, 210 N Oak Ave\, Suite 1\, Owatonna\, MN\, 55060\, United States
CATEGORIES:Food Trucks
ATTACH;FMTTYPE=image/jpeg:https://mineralspringsbrewery.com/wp-content/uploads/2022/03/SwedesSmokinGrill.jpg
END:VEVENT
BEGIN:VEVENT
DTSTART;TZID=America/Chicago:20240202T160000
DTEND;TZID=America/Chicago:20240202T200000
DTSTAMP:20260420T013241
CREATED:20240127T224141Z
LAST-MODIFIED:20240127T224144Z
UID:10002831-1706889600-1706904000@mineralspringsbrewery.com
SUMMARY:Swede's Smokin' Grill
DESCRIPTION:Swede’s Smokin’ Grill bringing you delicious food to enjoy. Menu includes smoked pork\, smoked turkey\, ribs\, hamburgers\, hot dogs\, chili\, and much more!
URL:https://mineralspringsbrewery.com/event/swedes-smokin-grill-8/
LOCATION:Mineral Springs Brewery\, 210 N Oak Ave\, Suite 1\, Owatonna\, MN\, 55060\, United States
CATEGORIES:Food Trucks
ATTACH;FMTTYPE=image/jpeg:https://mineralspringsbrewery.com/wp-content/uploads/2022/03/SwedesSmokinGrill.jpg
END:VEVENT
BEGIN:VEVENT
DTSTART;TZID=America/Chicago:20240201T170000
DTEND;TZID=America/Chicago:20240201T170000
DTSTAMP:20260420T013241
CREATED:20230822T225207Z
LAST-MODIFIED:20250319T185917Z
UID:10001570-1706806800-1706806800@mineralspringsbrewery.com
SUMMARY:Thursday Pizza Special
DESCRIPTION:We’ve partnered with A Taste of the Big Apple to have their delicious pizzas delivered hot and fresh every half hour starting at 5:30pm! We also have frozen pizzas from our friends over at Pleasant Grove Pizza Farm that we’re able to cook up in our ovens! \n\n\n\nOrder your choice of pizza at the bar and we’ll get it to you when it’s delivered! \n\n\n\n\n\nA Taste of the Big Apple\n\n\n\n\nCheese\n\n\n\nSausage\n\n\n\nPepperoni\n\n\n\nSausage/Pepperoni\n\n\n\nCombo\n\nSausage\, Pepperoni\, Onions\, & Mushrooms\n\n\n\n\n\n\n\n\nPleasant Grove Pizza Farm\n\n\n\n\nCheese\n\n\n\nSusie (Sausage)\n\n\n\nChuck (Pepperoni)\n\n\n\nChuck & Susie (Pepperoni & Sausage)\n\n\n\nMN Mess (Combo)\n\nSausage\, Green & Black Olives\, Green Peppers\, Onions\, & Mushrooms\n\n\n\n\n\nPizza Fries & Sauce\n\n\n\n\n\n\nBe sure to let our bartender know your order!
URL:https://mineralspringsbrewery.com/event/a-taste-of-the-big-apple-thursday-special-11/2024-02-01/
LOCATION:Mineral Springs Brewery\, 210 N Oak Ave\, Suite 1\, Owatonna\, MN\, 55060\, United States
CATEGORIES:Food Trucks
ATTACH;FMTTYPE=image/jpeg:https://mineralspringsbrewery.com/wp-content/uploads/2022/12/A-Taste-of-the-Big-Apple.jpg
END:VEVENT
END:VCALENDAR