BEGIN:VCALENDAR
VERSION:2.0
PRODID:-//Mineral Springs Brewery - ECPv6.15.20//NONSGML v1.0//EN
CALSCALE:GREGORIAN
METHOD:PUBLISH
X-WR-CALNAME:Mineral Springs Brewery
X-ORIGINAL-URL:https://mineralspringsbrewery.com
X-WR-CALDESC:Events for Mineral Springs Brewery
REFRESH-INTERVAL;VALUE=DURATION:PT1H
X-Robots-Tag:noindex
X-PUBLISHED-TTL:PT1H
BEGIN:VTIMEZONE
TZID:America/Chicago
BEGIN:DAYLIGHT
TZOFFSETFROM:-0600
TZOFFSETTO:-0500
TZNAME:CDT
DTSTART:20250309T080000
END:DAYLIGHT
BEGIN:STANDARD
TZOFFSETFROM:-0500
TZOFFSETTO:-0600
TZNAME:CST
DTSTART:20251102T070000
END:STANDARD
BEGIN:DAYLIGHT
TZOFFSETFROM:-0600
TZOFFSETTO:-0500
TZNAME:CDT
DTSTART:20260308T080000
END:DAYLIGHT
BEGIN:STANDARD
TZOFFSETFROM:-0500
TZOFFSETTO:-0600
TZNAME:CST
DTSTART:20261101T070000
END:STANDARD
BEGIN:DAYLIGHT
TZOFFSETFROM:-0600
TZOFFSETTO:-0500
TZNAME:CDT
DTSTART:20270314T080000
END:DAYLIGHT
BEGIN:STANDARD
TZOFFSETFROM:-0500
TZOFFSETTO:-0600
TZNAME:CST
DTSTART:20271107T070000
END:STANDARD
END:VTIMEZONE
BEGIN:VEVENT
DTSTART;TZID=America/Chicago:20260328T183000
DTEND;TZID=America/Chicago:20260328T203000
DTSTAMP:20260423T003215
CREATED:20260114T220003Z
LAST-MODIFIED:20260114T220009Z
UID:10005068-1774722600-1774729800@mineralspringsbrewery.com
SUMMARY:Mike Fugazzi (The Real Spooky Mike)
DESCRIPTION:Mike Fugazzi is a dynamic harmonica player and vocalist with over 20 years of experience pushing the instrument beyond its traditional role. Known for his lyrical phrasing\, soulful tone\, and technical precision\, he seamlessly blends harmonica into rock\, blues\, and country music—whether as a melodic lead\, a rhythmic accent\, or an atmospheric texture. A seasoned live performer and recording artist\, Mike has built a strong reputation across the Midwest and online\, showcasing harmonica’s power in modern rock settings. His innovative approach often replaces traditional guitar or horn parts\, making him a go-to collaborator for artists seeking a fresh\, expressive sound. \n\n\n\n\n  @harpninjamike   \n\n\n\n\nDM him to collab!
URL:https://mineralspringsbrewery.com/event/mike-fugazzi-the-real-spooky-mike-3/
LOCATION:Mineral Springs Brewery\, 210 N Oak Ave\, Suite 1\, Owatonna\, MN\, 55060\, United States
CATEGORIES:Music
ATTACH;FMTTYPE=image/png:https://mineralspringsbrewery.com/wp-content/uploads/2025/05/Mike-Fugazzi-Harmonica.png
END:VEVENT
BEGIN:VEVENT
DTSTART;TZID=America/Chicago:20260329T150000
DTEND;TZID=America/Chicago:20260329T150000
DTSTAMP:20260423T003215
CREATED:20250305T203948Z
LAST-MODIFIED:20250305T203954Z
UID:10002452-1774796400-1774796400@mineralspringsbrewery.com
SUMMARY:MSBGO
DESCRIPTION:On Sundays\, we’ll be hosting a free and fun game of chance! Come on down to play along and win FREE BEER!
URL:https://mineralspringsbrewery.com/event/msbgo-8/2026-03-29/
LOCATION:Mineral Springs Brewery\, 210 N Oak Ave\, Suite 1\, Owatonna\, MN\, 55060\, United States
CATEGORIES:Events
ATTACH;FMTTYPE=image/png:https://mineralspringsbrewery.com/wp-content/uploads/2022/04/Bingo.png
END:VEVENT
BEGIN:VEVENT
DTSTART;TZID=America/Chicago:20260401T163000
DTEND;TZID=America/Chicago:20260401T163000
DTSTAMP:20260423T003215
CREATED:20250709T234018Z
LAST-MODIFIED:20250709T234455Z
UID:10003345-1775061000-1775061000@mineralspringsbrewery.com
SUMMARY:Wag's Wednesday
DESCRIPTION:We’re partnering with Wagners Lunch Pool Hall to have their delicious burgers and fries delivered hot and fresh every half hour with orders starting as early as 4:30pm! \n\n\n\nEach week\, you’ll have the choice between: \n\n\n\n\nDouble Cheeseburger with the works and Fries for $13\n\n\n\nOr a Special Burger of the week that will rotate from week to week with Fries for $13\n\n\n\n\nBe sure to let our bartender know your order!
URL:https://mineralspringsbrewery.com/event/wags-wednesday-16/2026-04-01/
LOCATION:Mineral Springs Brewery\, 210 N Oak Ave\, Suite 1\, Owatonna\, MN\, 55060\, United States
CATEGORIES:Food Trucks
ATTACH;FMTTYPE=image/jpeg:https://mineralspringsbrewery.com/wp-content/uploads/2022/10/Wags-Wednesdays.jpeg
END:VEVENT
BEGIN:VEVENT
DTSTART;TZID=America/Chicago:20260401T180000
DTEND;TZID=America/Chicago:20260401T180000
DTSTAMP:20260423T003215
CREATED:20250902T165904Z
LAST-MODIFIED:20250902T165916Z
UID:10002196-1775066400-1775066400@mineralspringsbrewery.com
SUMMARY:Trivia Mafia
DESCRIPTION:Trivia Mafia is a bar and brewery trivia operation based in Minneapolis\, Minnesota. They produce the highest-quality trivia nights in bars\, taprooms\, distilleries\, and private events every night of the week throughout the Midwest (and beyond!).  \n\n\n\nIf you’ve ever thought\, “I love trivia nights\, I just wish they were… I don’t know… better?” You’ve come to the right place!
URL:https://mineralspringsbrewery.com/event/trivia-night-20/2026-04-01/
LOCATION:Mineral Springs Brewery\, 210 N Oak Ave\, Suite 1\, Owatonna\, MN\, 55060\, United States
CATEGORIES:Events
ATTACH;FMTTYPE=image/png:https://mineralspringsbrewery.com/wp-content/uploads/2025/03/Mineral-Springs-Brewery_TMC_2025_IG.png
END:VEVENT
BEGIN:VEVENT
DTSTART;TZID=America/Chicago:20260402T160000
DTEND;TZID=America/Chicago:20260402T160000
DTSTAMP:20260423T003215
CREATED:20250827T193508Z
LAST-MODIFIED:20250827T193514Z
UID:10004121-1775145600-1775145600@mineralspringsbrewery.com
SUMMARY:Thursday Pizza Night
DESCRIPTION:We’ve partnered with A Taste of the Big Apple to have their delicious pizzas delivered hot and fresh every half hour starting at 5:30pm! We also have frozen pizzas from our friends over at Pleasant Grove Pizza Farm that we’re able to cook up in our ovens! \n\n\n\nOrder your choice of pizza at the bar and we’ll get it to you when it’s delivered! \n\n\n\n\n\nA Taste of the Big Apple\n\n\n\n\nCheese\n\n\n\nSausage\n\n\n\nPepperoni\n\n\n\nSausage/Pepperoni\n\n\n\nCombo\n\nSausage\, Pepperoni\, Onions\, & Mushrooms\n\n\n\n\n\n\n\n\nPleasant Grove Pizza Farm\n\n\n\n\nCheese\n\n\n\nSusie (Sausage)\n\n\n\nChuck (Pepperoni)\n\n\n\nChuck & Susie (Pepperoni & Sausage)\n\n\n\nMN Mess (Combo)\n\nSausage\, Green & Black Olives\, Green Peppers\, Onions\, & Mushrooms\n\n\n\n\n\nPizza Fries & Sauce\n\n\n\n\n\n\nBe sure to let our bartender know your order!
URL:https://mineralspringsbrewery.com/event/thursday-pizza-special-5/2026-04-02/
LOCATION:Mineral Springs Brewery\, 210 N Oak Ave\, Suite 1\, Owatonna\, MN\, 55060\, United States
CATEGORIES:Food Trucks
ATTACH;FMTTYPE=image/jpeg:https://mineralspringsbrewery.com/wp-content/uploads/2022/12/A-Taste-of-the-Big-Apple.jpg
END:VEVENT
BEGIN:VEVENT
DTSTART;TZID=America/Chicago:20260403T140000
DTEND;TZID=America/Chicago:20260403T190000
DTSTAMP:20260423T003215
CREATED:20260204T181750Z
LAST-MODIFIED:20260204T181756Z
UID:10005165-1775224800-1775242800@mineralspringsbrewery.com
SUMMARY:Byblos Mediterranean Express
DESCRIPTION:Byblos Mediterranean Express offers authentic Lebanese and Mediterranean food.  \n\n\n\nTheir fare is made daily from scratch!
URL:https://mineralspringsbrewery.com/event/byblos-mediterranean-express-2/
LOCATION:Mineral Springs Brewery\, 210 N Oak Ave\, Suite 1\, Owatonna\, MN\, 55060\, United States
CATEGORIES:Food Trucks
ATTACH;FMTTYPE=image/png:https://mineralspringsbrewery.com/wp-content/uploads/2025/12/Byblos-Mediterranean-Express-1-scaled.png
END:VEVENT
BEGIN:VEVENT
DTSTART;TZID=America/Chicago:20260404T120000
DTEND;TZID=America/Chicago:20260404T200000
DTSTAMP:20260423T003215
CREATED:20260114T220127Z
LAST-MODIFIED:20260114T220133Z
UID:10005070-1775304000-1775332800@mineralspringsbrewery.com
SUMMARY:Brick Oven Bus
DESCRIPTION:Brick oven fired pizzas\, but on the go!
URL:https://mineralspringsbrewery.com/event/brick-oven-bus-35/
LOCATION:Mineral Springs Brewery\, 210 N Oak Ave\, Suite 1\, Owatonna\, MN\, 55060\, United States
CATEGORIES:Food Trucks
ATTACH;FMTTYPE=image/jpeg:https://mineralspringsbrewery.com/wp-content/uploads/2025/12/Brick-Oven-Bus-Pizza.jpg
END:VEVENT
BEGIN:VEVENT
DTSTART;TZID=America/Chicago:20260404T130000
DTEND;TZID=America/Chicago:20260404T150000
DTSTAMP:20260423T003215
CREATED:20260204T181733Z
LAST-MODIFIED:20260204T181743Z
UID:10004769-1775307600-1775314800@mineralspringsbrewery.com
SUMMARY:Owatonna Board Game Crew - Weekly Game Meetup
DESCRIPTION:Saturday afternoons we’re hosting the Owatonna Board Games Crew for a few hours\, welcome to all gamers! Check out the Facebook event page\, linked below\, to learn more about the specifics of the week!
URL:https://mineralspringsbrewery.com/event/owatonna-board-game-crew-weekly-game-meetup-2/2026-04-04/
LOCATION:Mineral Springs Brewery\, 210 N Oak Ave\, Suite 1\, Owatonna\, MN\, 55060\, United States
CATEGORIES:Events
ATTACH;FMTTYPE=image/png:https://mineralspringsbrewery.com/wp-content/uploads/2025/11/owatonna-board-game-crew-flier-3.png
END:VEVENT
BEGIN:VEVENT
DTSTART;TZID=America/Chicago:20260404T183000
DTEND;TZID=America/Chicago:20260404T203000
DTSTAMP:20260423T003215
CREATED:20260114T220227Z
LAST-MODIFIED:20260114T220233Z
UID:10005071-1775327400-1775334600@mineralspringsbrewery.com
SUMMARY:Travis Thamert
DESCRIPTION:Travis was nominated as New Artist of the year in 2020 at the MWCMO’s. He’d also climbed through a few key audition rounds on NBC The Voice back in 2014.
URL:https://mineralspringsbrewery.com/event/travis-thamert/
LOCATION:Mineral Springs Brewery\, 210 N Oak Ave\, Suite 1\, Owatonna\, MN\, 55060\, United States
CATEGORIES:Music
ATTACH;FMTTYPE=image/webp:https://mineralspringsbrewery.com/wp-content/uploads/2022/09/Travis-Thamert.webp
END:VEVENT
BEGIN:VEVENT
DTSTART;TZID=America/Chicago:20260405T150000
DTEND;TZID=America/Chicago:20260405T150000
DTSTAMP:20260423T003215
CREATED:20250305T203948Z
LAST-MODIFIED:20250305T203954Z
UID:10002453-1775401200-1775401200@mineralspringsbrewery.com
SUMMARY:MSBGO
DESCRIPTION:On Sundays\, we’ll be hosting a free and fun game of chance! Come on down to play along and win FREE BEER!
URL:https://mineralspringsbrewery.com/event/msbgo-8/2026-04-05/
LOCATION:Mineral Springs Brewery\, 210 N Oak Ave\, Suite 1\, Owatonna\, MN\, 55060\, United States
CATEGORIES:Events
ATTACH;FMTTYPE=image/png:https://mineralspringsbrewery.com/wp-content/uploads/2022/04/Bingo.png
END:VEVENT
BEGIN:VEVENT
DTSTART;TZID=America/Chicago:20260407T183000
DTEND;TZID=America/Chicago:20260407T193000
DTSTAMP:20260423T003215
CREATED:20251022T005233Z
LAST-MODIFIED:20251022T005552Z
UID:10004676-1775586600-1775590200@mineralspringsbrewery.com
SUMMARY:Bruce Bernhart
DESCRIPTION:Bruce Bernhart has played in several bluegrass bands at the Steele County Fair over the past 35+ years\, plus various other county fairs across south-central Minnesota. \n\n\n\nBruce has also been featured playing mandolin on a number of CDs recorded by bands he’s been a part of since the early 90’s. Prior to the mandolin\, Bruce had been strumming the banjo and bass. Since then\, Bruce has mastered the lost art of flatpicking old time fiddle tunes on the guitar with no amplifier and no microphone.
URL:https://mineralspringsbrewery.com/event/bruce-bernhart-12/2026-04-07/
LOCATION:Mineral Springs Brewery\, 210 N Oak Ave\, Suite 1\, Owatonna\, MN\, 55060\, United States
CATEGORIES:Music
ATTACH;FMTTYPE=image/jpeg:https://mineralspringsbrewery.com/wp-content/uploads/2025/02/Image.jpg
END:VEVENT
BEGIN:VEVENT
DTSTART;TZID=America/Chicago:20260408T080000
DTEND;TZID=America/Chicago:20260408T170000
DTSTAMP:20260423T003215
CREATED:20260408T183516Z
LAST-MODIFIED:20260408T183524Z
UID:10005285-1775635200-1775667600@mineralspringsbrewery.com
SUMMARY:Unbakeable
DESCRIPTION:Get ready to satisfy your sweet tooth because Unbakeable is bringing its gourmet\, edible cookie dough to MSB! This Twin Cities favorite serves up safe-to-eat dough by the scoop\, featuring over 20 rotating flavors with plenty of gluten-free and vegan options to ensure everyone can join the party! Whether you’re grabbing a classic scoop or one of their famous “Doh-Sandwiches\,” this is the ultimate treat to pair with an MSB pour on a perfect spring day! Come grab a spoonful (or three) and enjoy the best dough in the Midwest!
URL:https://mineralspringsbrewery.com/event/unbakeable/
LOCATION:Mineral Springs Brewery\, 210 N Oak Ave\, Suite 1\, Owatonna\, MN\, 55060\, United States
CATEGORIES:Food Trucks
ATTACH;FMTTYPE=image/jpeg:https://mineralspringsbrewery.com/wp-content/uploads/2026/04/Unbakeable.jpg
END:VEVENT
BEGIN:VEVENT
DTSTART;TZID=America/Chicago:20260408T163000
DTEND;TZID=America/Chicago:20260408T163000
DTSTAMP:20260423T003215
CREATED:20250709T234018Z
LAST-MODIFIED:20250709T234455Z
UID:10003346-1775665800-1775665800@mineralspringsbrewery.com
SUMMARY:Wag's Wednesday
DESCRIPTION:We’re partnering with Wagners Lunch Pool Hall to have their delicious burgers and fries delivered hot and fresh every half hour with orders starting as early as 4:30pm! \n\n\n\nEach week\, you’ll have the choice between: \n\n\n\n\nDouble Cheeseburger with the works and Fries for $13\n\n\n\nOr a Special Burger of the week that will rotate from week to week with Fries for $13\n\n\n\n\nBe sure to let our bartender know your order!
URL:https://mineralspringsbrewery.com/event/wags-wednesday-16/2026-04-08/
LOCATION:Mineral Springs Brewery\, 210 N Oak Ave\, Suite 1\, Owatonna\, MN\, 55060\, United States
CATEGORIES:Food Trucks
ATTACH;FMTTYPE=image/jpeg:https://mineralspringsbrewery.com/wp-content/uploads/2022/10/Wags-Wednesdays.jpeg
END:VEVENT
BEGIN:VEVENT
DTSTART;TZID=America/Chicago:20260408T180000
DTEND;TZID=America/Chicago:20260408T180000
DTSTAMP:20260423T003215
CREATED:20250902T165904Z
LAST-MODIFIED:20250902T165916Z
UID:10002197-1775671200-1775671200@mineralspringsbrewery.com
SUMMARY:Trivia Mafia
DESCRIPTION:Trivia Mafia is a bar and brewery trivia operation based in Minneapolis\, Minnesota. They produce the highest-quality trivia nights in bars\, taprooms\, distilleries\, and private events every night of the week throughout the Midwest (and beyond!).  \n\n\n\nIf you’ve ever thought\, “I love trivia nights\, I just wish they were… I don’t know… better?” You’ve come to the right place!
URL:https://mineralspringsbrewery.com/event/trivia-night-20/2026-04-08/
LOCATION:Mineral Springs Brewery\, 210 N Oak Ave\, Suite 1\, Owatonna\, MN\, 55060\, United States
CATEGORIES:Events
ATTACH;FMTTYPE=image/png:https://mineralspringsbrewery.com/wp-content/uploads/2025/03/Mineral-Springs-Brewery_TMC_2025_IG.png
END:VEVENT
BEGIN:VEVENT
DTSTART;TZID=America/Chicago:20260409T160000
DTEND;TZID=America/Chicago:20260409T160000
DTSTAMP:20260423T003215
CREATED:20250827T193508Z
LAST-MODIFIED:20250827T193514Z
UID:10004122-1775750400-1775750400@mineralspringsbrewery.com
SUMMARY:Thursday Pizza Night
DESCRIPTION:We’ve partnered with A Taste of the Big Apple to have their delicious pizzas delivered hot and fresh every half hour starting at 5:30pm! We also have frozen pizzas from our friends over at Pleasant Grove Pizza Farm that we’re able to cook up in our ovens! \n\n\n\nOrder your choice of pizza at the bar and we’ll get it to you when it’s delivered! \n\n\n\n\n\nA Taste of the Big Apple\n\n\n\n\nCheese\n\n\n\nSausage\n\n\n\nPepperoni\n\n\n\nSausage/Pepperoni\n\n\n\nCombo\n\nSausage\, Pepperoni\, Onions\, & Mushrooms\n\n\n\n\n\n\n\n\nPleasant Grove Pizza Farm\n\n\n\n\nCheese\n\n\n\nSusie (Sausage)\n\n\n\nChuck (Pepperoni)\n\n\n\nChuck & Susie (Pepperoni & Sausage)\n\n\n\nMN Mess (Combo)\n\nSausage\, Green & Black Olives\, Green Peppers\, Onions\, & Mushrooms\n\n\n\n\n\nPizza Fries & Sauce\n\n\n\n\n\n\nBe sure to let our bartender know your order!
URL:https://mineralspringsbrewery.com/event/thursday-pizza-special-5/2026-04-09/
LOCATION:Mineral Springs Brewery\, 210 N Oak Ave\, Suite 1\, Owatonna\, MN\, 55060\, United States
CATEGORIES:Food Trucks
ATTACH;FMTTYPE=image/jpeg:https://mineralspringsbrewery.com/wp-content/uploads/2022/12/A-Taste-of-the-Big-Apple.jpg
END:VEVENT
BEGIN:VEVENT
DTSTART;TZID=America/Chicago:20260409T173000
DTEND;TZID=America/Chicago:20260409T190000
DTSTAMP:20260423T003215
CREATED:20250305T203841Z
LAST-MODIFIED:20250305T203847Z
UID:10003074-1775755800-1775761200@mineralspringsbrewery.com
SUMMARY:News & Brews
DESCRIPTION:Annie Harman\, the Owatonna People’s Press editor\, will be with us to discuss all things having to do with the OPP newspaper\, answer questions\, hear your news tips and more. Learn more about giveaways from both MSB and OPP when you check in at the event!
URL:https://mineralspringsbrewery.com/event/news-brews-7/2026-04-09/
LOCATION:Mineral Springs Brewery\, 210 N Oak Ave\, Suite 1\, Owatonna\, MN\, 55060\, United States
CATEGORIES:Events
ATTACH;FMTTYPE=image/jpeg:https://mineralspringsbrewery.com/wp-content/uploads/2024/06/News-and-Brews-spec-3x6.25.jpg
END:VEVENT
BEGIN:VEVENT
DTSTART;TZID=America/Chicago:20260409T180000
DTEND;TZID=America/Chicago:20260409T200000
DTSTAMP:20260423T003215
CREATED:20250828T191007Z
LAST-MODIFIED:20250828T191014Z
UID:10004358-1775757600-1775764800@mineralspringsbrewery.com
SUMMARY:The Initials Game Live
DESCRIPTION:Based on the addictive trivia game made famous on KFAN radio! \n\n\n\nTrivia Mafia has partnered with the creators of The Initials Game—famously played every Friday on KFAN’s “Power Trip Morning Show”—to bring this addictive trivia game to the masses. The Initials Game Live is a fun and competitive general knowledge and pop culture party game for players of all skill levels. Gather your friends and test your wits as you try to guess the initials of famous people\, places\, and things.
URL:https://mineralspringsbrewery.com/event/the-initials-game-live-4/2026-04-09/
LOCATION:Mineral Springs Brewery\, 210 N Oak Ave\, Suite 1\, Owatonna\, MN\, 55060\, United States
CATEGORIES:Events
ATTACH;FMTTYPE=image/png:https://mineralspringsbrewery.com/wp-content/uploads/2025/08/General-IGL-Poster.png
END:VEVENT
BEGIN:VEVENT
DTSTART;TZID=America/Chicago:20260410T160000
DTEND;TZID=America/Chicago:20260410T200000
DTSTAMP:20260423T003215
CREATED:20260204T211734Z
LAST-MODIFIED:20260204T211741Z
UID:10005179-1775836800-1775851200@mineralspringsbrewery.com
SUMMARY:Bummy's BBQ
DESCRIPTION:Serving mouth watering BBQ that is sure to please even the most picky of eaters!
URL:https://mineralspringsbrewery.com/event/bummys-bbq/
LOCATION:Mineral Springs Brewery\, 210 N Oak Ave\, Suite 1\, Owatonna\, MN\, 55060\, United States
CATEGORIES:Food Trucks
ATTACH;FMTTYPE=image/jpeg:https://mineralspringsbrewery.com/wp-content/uploads/2021/07/BummysBBQ.jpg
END:VEVENT
BEGIN:VEVENT
DTSTART;TZID=America/Chicago:20260411T120000
DTEND;TZID=America/Chicago:20260411T200000
DTSTAMP:20260423T003215
CREATED:20260204T211822Z
LAST-MODIFIED:20260204T211829Z
UID:10005180-1775908800-1775937600@mineralspringsbrewery.com
SUMMARY:Smash N Dash
DESCRIPTION:Smash N Dash offers the classic lineup of smash burgers while also featuring a new and delicious version every time they’re back!
URL:https://mineralspringsbrewery.com/event/smash-n-dash-10/
LOCATION:Mineral Springs Brewery\, 210 N Oak Ave\, Suite 1\, Owatonna\, MN\, 55060\, United States
CATEGORIES:Food Trucks
ATTACH;FMTTYPE=image/jpeg:https://mineralspringsbrewery.com/wp-content/uploads/2025/05/Smash-N-Dash-Logo.jpg
END:VEVENT
BEGIN:VEVENT
DTSTART;TZID=America/Chicago:20260411T130000
DTEND;TZID=America/Chicago:20260411T150000
DTSTAMP:20260423T003215
CREATED:20260204T181733Z
LAST-MODIFIED:20260204T181743Z
UID:10004770-1775912400-1775919600@mineralspringsbrewery.com
SUMMARY:Owatonna Board Game Crew - Weekly Game Meetup
DESCRIPTION:Saturday afternoons we’re hosting the Owatonna Board Games Crew for a few hours\, welcome to all gamers! Check out the Facebook event page\, linked below\, to learn more about the specifics of the week!
URL:https://mineralspringsbrewery.com/event/owatonna-board-game-crew-weekly-game-meetup-2/2026-04-11/
LOCATION:Mineral Springs Brewery\, 210 N Oak Ave\, Suite 1\, Owatonna\, MN\, 55060\, United States
CATEGORIES:Events
ATTACH;FMTTYPE=image/png:https://mineralspringsbrewery.com/wp-content/uploads/2025/11/owatonna-board-game-crew-flier-3.png
END:VEVENT
BEGIN:VEVENT
DTSTART;TZID=America/Chicago:20260411T183000
DTEND;TZID=America/Chicago:20260411T203000
DTSTAMP:20260423T003215
CREATED:20260114T220312Z
LAST-MODIFIED:20260114T220317Z
UID:10005072-1775932200-1775939400@mineralspringsbrewery.com
SUMMARY:Shasta Kings
DESCRIPTION:The Shasta Kings are Scott Rogness (guitar/lead vocals) and Bruce Watts (guitars/vocals) playing a wide variety of songs from classic rock to new country.
URL:https://mineralspringsbrewery.com/event/shasta-kings-15/
LOCATION:Mineral Springs Brewery\, 210 N Oak Ave\, Suite 1\, Owatonna\, MN\, 55060\, United States
CATEGORIES:Music
ATTACH;FMTTYPE=image/jpeg:https://mineralspringsbrewery.com/wp-content/uploads/2024/04/Shasta-Kings.jpg
END:VEVENT
BEGIN:VEVENT
DTSTART;TZID=America/Chicago:20260412T150000
DTEND;TZID=America/Chicago:20260412T150000
DTSTAMP:20260423T003215
CREATED:20250305T203948Z
LAST-MODIFIED:20250305T203954Z
UID:10002454-1776006000-1776006000@mineralspringsbrewery.com
SUMMARY:MSBGO
DESCRIPTION:On Sundays\, we’ll be hosting a free and fun game of chance! Come on down to play along and win FREE BEER!
URL:https://mineralspringsbrewery.com/event/msbgo-8/2026-04-12/
LOCATION:Mineral Springs Brewery\, 210 N Oak Ave\, Suite 1\, Owatonna\, MN\, 55060\, United States
CATEGORIES:Events
ATTACH;FMTTYPE=image/png:https://mineralspringsbrewery.com/wp-content/uploads/2022/04/Bingo.png
END:VEVENT
BEGIN:VEVENT
DTSTART;TZID=America/Chicago:20260415T163000
DTEND;TZID=America/Chicago:20260415T163000
DTSTAMP:20260423T003215
CREATED:20250709T234018Z
LAST-MODIFIED:20250709T234455Z
UID:10003347-1776270600-1776270600@mineralspringsbrewery.com
SUMMARY:Wag's Wednesday
DESCRIPTION:We’re partnering with Wagners Lunch Pool Hall to have their delicious burgers and fries delivered hot and fresh every half hour with orders starting as early as 4:30pm! \n\n\n\nEach week\, you’ll have the choice between: \n\n\n\n\nDouble Cheeseburger with the works and Fries for $13\n\n\n\nOr a Special Burger of the week that will rotate from week to week with Fries for $13\n\n\n\n\nBe sure to let our bartender know your order!
URL:https://mineralspringsbrewery.com/event/wags-wednesday-16/2026-04-15/
LOCATION:Mineral Springs Brewery\, 210 N Oak Ave\, Suite 1\, Owatonna\, MN\, 55060\, United States
CATEGORIES:Food Trucks
ATTACH;FMTTYPE=image/jpeg:https://mineralspringsbrewery.com/wp-content/uploads/2022/10/Wags-Wednesdays.jpeg
END:VEVENT
BEGIN:VEVENT
DTSTART;TZID=America/Chicago:20260415T180000
DTEND;TZID=America/Chicago:20260415T180000
DTSTAMP:20260423T003215
CREATED:20250902T165904Z
LAST-MODIFIED:20250902T165916Z
UID:10002198-1776276000-1776276000@mineralspringsbrewery.com
SUMMARY:Trivia Mafia
DESCRIPTION:Trivia Mafia is a bar and brewery trivia operation based in Minneapolis\, Minnesota. They produce the highest-quality trivia nights in bars\, taprooms\, distilleries\, and private events every night of the week throughout the Midwest (and beyond!).  \n\n\n\nIf you’ve ever thought\, “I love trivia nights\, I just wish they were… I don’t know… better?” You’ve come to the right place!
URL:https://mineralspringsbrewery.com/event/trivia-night-20/2026-04-15/
LOCATION:Mineral Springs Brewery\, 210 N Oak Ave\, Suite 1\, Owatonna\, MN\, 55060\, United States
CATEGORIES:Events
ATTACH;FMTTYPE=image/png:https://mineralspringsbrewery.com/wp-content/uploads/2025/03/Mineral-Springs-Brewery_TMC_2025_IG.png
END:VEVENT
BEGIN:VEVENT
DTSTART;TZID=America/Chicago:20260416T160000
DTEND;TZID=America/Chicago:20260416T160000
DTSTAMP:20260423T003215
CREATED:20250827T193508Z
LAST-MODIFIED:20250827T193514Z
UID:10004123-1776355200-1776355200@mineralspringsbrewery.com
SUMMARY:Thursday Pizza Night
DESCRIPTION:We’ve partnered with A Taste of the Big Apple to have their delicious pizzas delivered hot and fresh every half hour starting at 5:30pm! We also have frozen pizzas from our friends over at Pleasant Grove Pizza Farm that we’re able to cook up in our ovens! \n\n\n\nOrder your choice of pizza at the bar and we’ll get it to you when it’s delivered! \n\n\n\n\n\nA Taste of the Big Apple\n\n\n\n\nCheese\n\n\n\nSausage\n\n\n\nPepperoni\n\n\n\nSausage/Pepperoni\n\n\n\nCombo\n\nSausage\, Pepperoni\, Onions\, & Mushrooms\n\n\n\n\n\n\n\n\nPleasant Grove Pizza Farm\n\n\n\n\nCheese\n\n\n\nSusie (Sausage)\n\n\n\nChuck (Pepperoni)\n\n\n\nChuck & Susie (Pepperoni & Sausage)\n\n\n\nMN Mess (Combo)\n\nSausage\, Green & Black Olives\, Green Peppers\, Onions\, & Mushrooms\n\n\n\n\n\nPizza Fries & Sauce\n\n\n\n\n\n\nBe sure to let our bartender know your order!
URL:https://mineralspringsbrewery.com/event/thursday-pizza-special-5/2026-04-16/
LOCATION:Mineral Springs Brewery\, 210 N Oak Ave\, Suite 1\, Owatonna\, MN\, 55060\, United States
CATEGORIES:Food Trucks
ATTACH;FMTTYPE=image/jpeg:https://mineralspringsbrewery.com/wp-content/uploads/2022/12/A-Taste-of-the-Big-Apple.jpg
END:VEVENT
BEGIN:VEVENT
DTSTART;TZID=America/Chicago:20260416T160000
DTEND;TZID=America/Chicago:20260416T200000
DTSTAMP:20260423T003215
CREATED:20251202T211923Z
LAST-MODIFIED:20260407T230307Z
UID:10005023-1776355200-1776369600@mineralspringsbrewery.com
SUMMARY:Comfort Smash Foods
DESCRIPTION:Comfort Smash Foods offers the classic lineup of smash burgers while also featuring a few other comfort food items to round out the menu!
URL:https://mineralspringsbrewery.com/event/comfort-smash-foods/
LOCATION:Mineral Springs Brewery\, 210 N Oak Ave\, Suite 1\, Owatonna\, MN\, 55060\, United States
CATEGORIES:Food Trucks
ATTACH;FMTTYPE=image/jpeg:https://mineralspringsbrewery.com/wp-content/uploads/2025/12/Comfort-Smash-Foods-Logo.jpg
END:VEVENT
BEGIN:VEVENT
DTSTART;TZID=America/Chicago:20260416T180000
DTEND;TZID=America/Chicago:20260416T180000
DTSTAMP:20260423T003215
CREATED:20250828T185654Z
LAST-MODIFIED:20250828T185703Z
UID:10003134-1776362400-1776362400@mineralspringsbrewery.com
SUMMARY:Name that Tune
DESCRIPTION:Just like it sounds! \n\n\n\nWe play clips of songs\, and your team tries to guess the correct song title and group/artist! \n\n\n\nFREE To PlayCrowlers or a gift card for the winning team as well as prizes given away throughout!Up To 6 People per Team
URL:https://mineralspringsbrewery.com/event/name-that-tune-19/2026-04-16/
LOCATION:Mineral Springs Brewery\, 210 N Oak Ave\, Suite 1\, Owatonna\, MN\, 55060\, United States
CATEGORIES:Events
ATTACH;FMTTYPE=image/jpeg:https://mineralspringsbrewery.com/wp-content/uploads/2024/03/Black-White-Coming-Soon-Instagram-Post-Real-Estate-Flyer-scaled.jpeg
END:VEVENT
BEGIN:VEVENT
DTSTART;TZID=America/Chicago:20260417T160000
DTEND;TZID=America/Chicago:20260417T200000
DTSTAMP:20260423T003215
CREATED:20260331T010418Z
LAST-MODIFIED:20260331T010425Z
UID:10005198-1776441600-1776456000@mineralspringsbrewery.com
SUMMARY:Whiskey Creek BBQ
DESCRIPTION:Formerly Northwoods Smokehouse\, Whiskey Creek BBQ is a staple BBQ Food Trailer specializing in Texas craft BBQ focusing on pork\, chicken\, beef and gourmet sides!
URL:https://mineralspringsbrewery.com/event/whiskey-creek-bbq-14/
LOCATION:Mineral Springs Brewery\, 210 N Oak Ave\, Suite 1\, Owatonna\, MN\, 55060\, United States
CATEGORIES:Food Trucks
ATTACH;FMTTYPE=image/jpeg:https://mineralspringsbrewery.com/wp-content/uploads/2024/09/Whiskey-Creek-BBQ.jpg
END:VEVENT
BEGIN:VEVENT
DTSTART;TZID=America/Chicago:20260418T120000
DTEND;TZID=America/Chicago:20260418T190000
DTSTAMP:20260423T003215
CREATED:20260114T220417Z
LAST-MODIFIED:20260114T220420Z
UID:10005074-1776513600-1776538800@mineralspringsbrewery.com
SUMMARY:Mac Shack
DESCRIPTION:Mac Shack’s mission is to provide good eats to their surrounding communities\, and to give back to those they serve. They like to keep a simple menu with delicious options that are done right!
URL:https://mineralspringsbrewery.com/event/mac-shack-2/
LOCATION:Mineral Springs Brewery\, 210 N Oak Ave\, Suite 1\, Owatonna\, MN\, 55060\, United States
CATEGORIES:Food Trucks
ATTACH;FMTTYPE=image/webp:https://mineralspringsbrewery.com/wp-content/uploads/2025/07/Mack-Shack.webp
END:VEVENT
BEGIN:VEVENT
DTSTART;TZID=America/Chicago:20260418T130000
DTEND;TZID=America/Chicago:20260418T150000
DTSTAMP:20260423T003215
CREATED:20260204T181733Z
LAST-MODIFIED:20260204T181743Z
UID:10004771-1776517200-1776524400@mineralspringsbrewery.com
SUMMARY:Owatonna Board Game Crew - Weekly Game Meetup
DESCRIPTION:Saturday afternoons we’re hosting the Owatonna Board Games Crew for a few hours\, welcome to all gamers! Check out the Facebook event page\, linked below\, to learn more about the specifics of the week!
URL:https://mineralspringsbrewery.com/event/owatonna-board-game-crew-weekly-game-meetup-2/2026-04-18/
LOCATION:Mineral Springs Brewery\, 210 N Oak Ave\, Suite 1\, Owatonna\, MN\, 55060\, United States
CATEGORIES:Events
ATTACH;FMTTYPE=image/png:https://mineralspringsbrewery.com/wp-content/uploads/2025/11/owatonna-board-game-crew-flier-3.png
END:VEVENT
END:VCALENDAR