BEGIN:VCALENDAR
VERSION:2.0
PRODID:-//Mineral Springs Brewery - ECPv6.15.20//NONSGML v1.0//EN
CALSCALE:GREGORIAN
METHOD:PUBLISH
X-WR-CALNAME:Mineral Springs Brewery
X-ORIGINAL-URL:https://mineralspringsbrewery.com
X-WR-CALDESC:Events for Mineral Springs Brewery
REFRESH-INTERVAL;VALUE=DURATION:PT1H
X-Robots-Tag:noindex
X-PUBLISHED-TTL:PT1H
BEGIN:VTIMEZONE
TZID:America/Chicago
BEGIN:DAYLIGHT
TZOFFSETFROM:-0600
TZOFFSETTO:-0500
TZNAME:CDT
DTSTART:20220313T080000
END:DAYLIGHT
BEGIN:STANDARD
TZOFFSETFROM:-0500
TZOFFSETTO:-0600
TZNAME:CST
DTSTART:20221106T070000
END:STANDARD
BEGIN:DAYLIGHT
TZOFFSETFROM:-0600
TZOFFSETTO:-0500
TZNAME:CDT
DTSTART:20230312T080000
END:DAYLIGHT
BEGIN:STANDARD
TZOFFSETFROM:-0500
TZOFFSETTO:-0600
TZNAME:CST
DTSTART:20231105T070000
END:STANDARD
BEGIN:DAYLIGHT
TZOFFSETFROM:-0600
TZOFFSETTO:-0500
TZNAME:CDT
DTSTART:20240310T080000
END:DAYLIGHT
BEGIN:STANDARD
TZOFFSETFROM:-0500
TZOFFSETTO:-0600
TZNAME:CST
DTSTART:20241103T070000
END:STANDARD
END:VTIMEZONE
BEGIN:VEVENT
DTSTART;TZID=America/Chicago:20231129T170000
DTEND;TZID=America/Chicago:20231129T170000
DTSTAMP:20260419T234507
CREATED:20230822T225146Z
LAST-MODIFIED:20230822T225148Z
UID:10001818-1701277200-1701277200@mineralspringsbrewery.com
SUMMARY:Wag's Wednesday
DESCRIPTION:We’re partnering with Wagners Lunch Pool Hall to have their delicious burgers and fries delivered hot and fresh every half hour starting at 5:30pm! \n\n\n\nEach week\, you’ll have the choice between: \n\n\n\n\nDouble Cheeseburger with Fries & an MSB beer of choice for $13\n\n\n\nOr a Special Burger of the week that will rotate from week to week with Fries and an MSB beer of choice for $15\n\n\n\n\nBe sure to let our bartender know your order!
URL:https://mineralspringsbrewery.com/event/wags-wednesday-11/2023-11-29/
LOCATION:Mineral Springs Brewery\, 210 N Oak Ave\, Suite 1\, Owatonna\, MN\, 55060\, United States
CATEGORIES:Food Trucks
ATTACH;FMTTYPE=image/jpeg:https://mineralspringsbrewery.com/wp-content/uploads/2022/10/Wags-Wednesdays.jpeg
END:VEVENT
BEGIN:VEVENT
DTSTART;TZID=America/Chicago:20231126T150000
DTEND;TZID=America/Chicago:20231126T150000
DTSTAMP:20260419T234507
CREATED:20230822T225107Z
LAST-MODIFIED:20230822T225109Z
UID:10002330-1701010800-1701010800@mineralspringsbrewery.com
SUMMARY:MSBGO
DESCRIPTION:On Sundays\, we’ll be hosting a free and fun game of chance! Come on down to play along and win FREE BEER!
URL:https://mineralspringsbrewery.com/event/msbgo-7/2023-11-26/
LOCATION:Mineral Springs Brewery\, 210 N Oak Ave\, Suite 1\, Owatonna\, MN\, 55060\, United States
CATEGORIES:Activities
ATTACH;FMTTYPE=image/png:https://mineralspringsbrewery.com/wp-content/uploads/2022/04/Bingo.png
END:VEVENT
BEGIN:VEVENT
DTSTART;TZID=America/Chicago:20231125T183000
DTEND;TZID=America/Chicago:20231125T203000
DTSTAMP:20260419T234507
CREATED:20231101T220204Z
LAST-MODIFIED:20231101T220206Z
UID:10002752-1700937000-1700944200@mineralspringsbrewery.com
SUMMARY:Jeff Reinartz
DESCRIPTION:Jeff Reinartz is a singer/songwriter from  Austin\, Minnesota. He’s been performing live for over 30 years and is a veteran of several bands. He is now a solo acoustic performer and has released two EPs that were produced by Scotty Rohr at Zension Studio in Austin. \n\n\n\n\nI believe that we’re here to use our talents and abilities to the benefit of others\, so after 22 years in the corporate world with a Fortune 300 company\, I resigned in 2019 to pursue my music interests full time. I didn’t necessarily count on a global pandemic\, but as things have loosened up I’ve been able to play more and more\, doing acoustic shows at primarily breweries and wineries in Southern Minnesota and Northern Iowa\, and building a small following organically.” \nJeff Reinartz
URL:https://mineralspringsbrewery.com/event/jeff-reinartz-9/
LOCATION:Mineral Springs Brewery\, 210 N Oak Ave\, Suite 1\, Owatonna\, MN\, 55060\, United States
CATEGORIES:Activities,Music
ATTACH;FMTTYPE=image/jpeg:https://mineralspringsbrewery.com/wp-content/uploads/2022/04/Jeff-Reinartz-scaled.jpg
END:VEVENT
BEGIN:VEVENT
DTSTART;TZID=America/Chicago:20231125T120000
DTEND;TZID=America/Chicago:20231125T200000
DTSTAMP:20260419T234507
CREATED:20231101T214744Z
LAST-MODIFIED:20231101T214746Z
UID:10002750-1700913600-1700942400@mineralspringsbrewery.com
SUMMARY:Linos Taqueria
DESCRIPTION:Linos offers some of the best: \n\n\n\n\nMexican Style Tacos\n\n\n\nTortes Mexican Tacos\n\n\n\nBurritos\n\n\n\nQuesadillas\n\n\n\nTamales
URL:https://mineralspringsbrewery.com/event/linos-taqueria-11/
LOCATION:Mineral Springs Brewery\, 210 N Oak Ave\, Suite 1\, Owatonna\, MN\, 55060\, United States
CATEGORIES:Food Trucks
ATTACH;FMTTYPE=image/jpeg:https://mineralspringsbrewery.com/wp-content/uploads/2022/12/7F17D32C-0220-48D7-BDB5-70ECA4173A53.jpeg
END:VEVENT
BEGIN:VEVENT
DTSTART;TZID=America/Chicago:20231124T180000
DTEND;TZID=America/Chicago:20231124T200000
DTSTAMP:20260419T234507
CREATED:20231101T220113Z
LAST-MODIFIED:20231104T042852Z
UID:10002751-1700848800-1700856000@mineralspringsbrewery.com
SUMMARY:Gary (&) Van Whalen
DESCRIPTION:
URL:https://mineralspringsbrewery.com/event/gary-ebnet/
LOCATION:Mineral Springs Brewery\, 210 N Oak Ave\, Suite 1\, Owatonna\, MN\, 55060\, United States
CATEGORIES:Activities,Music
ATTACH;FMTTYPE=image/jpeg:https://mineralspringsbrewery.com/wp-content/uploads/2023/11/Ebnet-Van-Whalen-e1726711457853.jpg
END:VEVENT
BEGIN:VEVENT
DTSTART;TZID=America/Chicago:20231124T160000
DTEND;TZID=America/Chicago:20231124T200000
DTSTAMP:20260419T234507
CREATED:20231101T211457Z
LAST-MODIFIED:20231107T031851Z
UID:10002744-1700841600-1700856000@mineralspringsbrewery.com
SUMMARY:Praeliza Fusion Kitchen
DESCRIPTION:Praeliza Fusion Kitchen has fresh Italian gnocchi with traditional and fusion sauces\, Middle Eastern shawarma roll combo with pineapple lemonade\, our shawarma plate\, and our Tandoori chicken platter with mango salsa\, rice\, and pita chips and hummus.
URL:https://mineralspringsbrewery.com/event/praeliza-fusion-kitchen/
LOCATION:Mineral Springs Brewery\, 210 N Oak Ave\, Suite 1\, Owatonna\, MN\, 55060\, United States
CATEGORIES:Food Trucks
ATTACH;FMTTYPE=image/jpeg:https://mineralspringsbrewery.com/wp-content/uploads/2023/11/Praeliza-Fusion-Kitchen-Fair.jpg
END:VEVENT
BEGIN:VEVENT
DTSTART;TZID=America/Chicago:20231123T170000
DTEND;TZID=America/Chicago:20231123T170000
DTSTAMP:20260419T234507
CREATED:20230822T225207Z
LAST-MODIFIED:20250319T185917Z
UID:10001560-1700758800-1700758800@mineralspringsbrewery.com
SUMMARY:Thursday Pizza Special
DESCRIPTION:We’ve partnered with A Taste of the Big Apple to have their delicious pizzas delivered hot and fresh every half hour starting at 5:30pm! We also have frozen pizzas from our friends over at Pleasant Grove Pizza Farm that we’re able to cook up in our ovens! \n\n\n\nOrder your choice of pizza at the bar and we’ll get it to you when it’s delivered! \n\n\n\n\n\nA Taste of the Big Apple\n\n\n\n\nCheese\n\n\n\nSausage\n\n\n\nPepperoni\n\n\n\nSausage/Pepperoni\n\n\n\nCombo\n\nSausage\, Pepperoni\, Onions\, & Mushrooms\n\n\n\n\n\n\n\n\nPleasant Grove Pizza Farm\n\n\n\n\nCheese\n\n\n\nSusie (Sausage)\n\n\n\nChuck (Pepperoni)\n\n\n\nChuck & Susie (Pepperoni & Sausage)\n\n\n\nMN Mess (Combo)\n\nSausage\, Green & Black Olives\, Green Peppers\, Onions\, & Mushrooms\n\n\n\n\n\nPizza Fries & Sauce\n\n\n\n\n\n\nBe sure to let our bartender know your order!
URL:https://mineralspringsbrewery.com/event/a-taste-of-the-big-apple-thursday-special-11/2023-11-23/
LOCATION:Mineral Springs Brewery\, 210 N Oak Ave\, Suite 1\, Owatonna\, MN\, 55060\, United States
CATEGORIES:Food Trucks
ATTACH;FMTTYPE=image/jpeg:https://mineralspringsbrewery.com/wp-content/uploads/2022/12/A-Taste-of-the-Big-Apple.jpg
END:VEVENT
BEGIN:VEVENT
DTSTART;TZID=America/Chicago:20231122T180000
DTEND;TZID=America/Chicago:20231122T180000
DTSTAMP:20260419T234507
CREATED:20230424T222632Z
LAST-MODIFIED:20250103T010113Z
UID:10002971-1700676000-1700676000@mineralspringsbrewery.com
SUMMARY:Trivia Night
DESCRIPTION:MSB Trivia Night!!
URL:https://mineralspringsbrewery.com/event/trivia-night-10/2023-11-22/
LOCATION:Mineral Springs Brewery\, 210 N Oak Ave\, Suite 1\, Owatonna\, MN\, 55060\, United States
CATEGORIES:Activities
ATTACH;FMTTYPE=image/png:https://mineralspringsbrewery.com/wp-content/uploads/2022/02/MSB-Trivia-Night.png
END:VEVENT
BEGIN:VEVENT
DTSTART;TZID=America/Chicago:20231122T170000
DTEND;TZID=America/Chicago:20231122T170000
DTSTAMP:20260419T234507
CREATED:20230822T225146Z
LAST-MODIFIED:20230822T225148Z
UID:10001817-1700672400-1700672400@mineralspringsbrewery.com
SUMMARY:Wag's Wednesday
DESCRIPTION:We’re partnering with Wagners Lunch Pool Hall to have their delicious burgers and fries delivered hot and fresh every half hour starting at 5:30pm! \n\n\n\nEach week\, you’ll have the choice between: \n\n\n\n\nDouble Cheeseburger with Fries & an MSB beer of choice for $13\n\n\n\nOr a Special Burger of the week that will rotate from week to week with Fries and an MSB beer of choice for $15\n\n\n\n\nBe sure to let our bartender know your order!
URL:https://mineralspringsbrewery.com/event/wags-wednesday-11/2023-11-22/
LOCATION:Mineral Springs Brewery\, 210 N Oak Ave\, Suite 1\, Owatonna\, MN\, 55060\, United States
CATEGORIES:Food Trucks
ATTACH;FMTTYPE=image/jpeg:https://mineralspringsbrewery.com/wp-content/uploads/2022/10/Wags-Wednesdays.jpeg
END:VEVENT
BEGIN:VEVENT
DTSTART;TZID=America/Chicago:20231119T150000
DTEND;TZID=America/Chicago:20231119T150000
DTSTAMP:20260419T234507
CREATED:20230822T225107Z
LAST-MODIFIED:20230822T225109Z
UID:10002329-1700406000-1700406000@mineralspringsbrewery.com
SUMMARY:MSBGO
DESCRIPTION:On Sundays\, we’ll be hosting a free and fun game of chance! Come on down to play along and win FREE BEER!
URL:https://mineralspringsbrewery.com/event/msbgo-7/2023-11-19/
LOCATION:Mineral Springs Brewery\, 210 N Oak Ave\, Suite 1\, Owatonna\, MN\, 55060\, United States
CATEGORIES:Activities
ATTACH;FMTTYPE=image/png:https://mineralspringsbrewery.com/wp-content/uploads/2022/04/Bingo.png
END:VEVENT
BEGIN:VEVENT
DTSTART;TZID=America/Chicago:20231118T183000
DTEND;TZID=America/Chicago:20231118T203000
DTSTAMP:20260419T234507
CREATED:20231101T214038Z
LAST-MODIFIED:20231101T220137Z
UID:10002749-1700332200-1700339400@mineralspringsbrewery.com
SUMMARY:Chris Bertrand
DESCRIPTION:Chris Bertrand is a seasoned singer/songwriter from Southern Minnesota who dedicates his life to music. Deeply rooted in folk and unafraid to stomp and howl\, Bertrand is currently working on his first recording effort\, ‘By The Pour.’
URL:https://mineralspringsbrewery.com/event/chris-bertrand-5/
LOCATION:Mineral Springs Brewery\, 210 N Oak Ave\, Suite 1\, Owatonna\, MN\, 55060\, United States
CATEGORIES:Activities,Music
ATTACH;FMTTYPE=image/jpeg:https://mineralspringsbrewery.com/wp-content/uploads/2022/01/ChrisBertrandMusic.jpg
END:VEVENT
BEGIN:VEVENT
DTSTART;TZID=America/Chicago:20231118T120000
DTEND;TZID=America/Chicago:20231118T200000
DTSTAMP:20260419T234507
CREATED:20231101T213212Z
LAST-MODIFIED:20231101T213213Z
UID:10002748-1700308800-1700337600@mineralspringsbrewery.com
SUMMARY:Bummy's BBQ
DESCRIPTION:Serving mouth watering BBQ that is sure to please even the most picky of eaters!
URL:https://mineralspringsbrewery.com/event/bummys-bbq-16/
LOCATION:Mineral Springs Brewery\, 210 N Oak Ave\, Suite 1\, Owatonna\, MN\, 55060\, United States
CATEGORIES:Food Trucks
ATTACH;FMTTYPE=image/jpeg:https://mineralspringsbrewery.com/wp-content/uploads/2021/07/BummysBBQ.jpg
END:VEVENT
BEGIN:VEVENT
DTSTART;TZID=America/Chicago:20231117T160000
DTEND;TZID=America/Chicago:20231117T200000
DTSTAMP:20260419T234507
CREATED:20231109T044725Z
LAST-MODIFIED:20231114T005651Z
UID:10002796-1700236800-1700251200@mineralspringsbrewery.com
SUMMARY:Toño's Tacos
DESCRIPTION:
URL:https://mineralspringsbrewery.com/event/caspers-friendly-food-trailer-mr-taco/
LOCATION:Mineral Springs Brewery\, 210 N Oak Ave\, Suite 1\, Owatonna\, MN\, 55060\, United States
CATEGORIES:Food Trucks
ATTACH;FMTTYPE=image/jpeg:https://mineralspringsbrewery.com/wp-content/uploads/2023/11/Tonos-Tacos.jpg
END:VEVENT
BEGIN:VEVENT
DTSTART;TZID=America/Chicago:20231116T170000
DTEND;TZID=America/Chicago:20231116T170000
DTSTAMP:20260419T234507
CREATED:20230822T225207Z
LAST-MODIFIED:20250319T185917Z
UID:10001559-1700154000-1700154000@mineralspringsbrewery.com
SUMMARY:Thursday Pizza Special
DESCRIPTION:We’ve partnered with A Taste of the Big Apple to have their delicious pizzas delivered hot and fresh every half hour starting at 5:30pm! We also have frozen pizzas from our friends over at Pleasant Grove Pizza Farm that we’re able to cook up in our ovens! \n\n\n\nOrder your choice of pizza at the bar and we’ll get it to you when it’s delivered! \n\n\n\n\n\nA Taste of the Big Apple\n\n\n\n\nCheese\n\n\n\nSausage\n\n\n\nPepperoni\n\n\n\nSausage/Pepperoni\n\n\n\nCombo\n\nSausage\, Pepperoni\, Onions\, & Mushrooms\n\n\n\n\n\n\n\n\nPleasant Grove Pizza Farm\n\n\n\n\nCheese\n\n\n\nSusie (Sausage)\n\n\n\nChuck (Pepperoni)\n\n\n\nChuck & Susie (Pepperoni & Sausage)\n\n\n\nMN Mess (Combo)\n\nSausage\, Green & Black Olives\, Green Peppers\, Onions\, & Mushrooms\n\n\n\n\n\nPizza Fries & Sauce\n\n\n\n\n\n\nBe sure to let our bartender know your order!
URL:https://mineralspringsbrewery.com/event/a-taste-of-the-big-apple-thursday-special-11/2023-11-16/
LOCATION:Mineral Springs Brewery\, 210 N Oak Ave\, Suite 1\, Owatonna\, MN\, 55060\, United States
CATEGORIES:Food Trucks
ATTACH;FMTTYPE=image/jpeg:https://mineralspringsbrewery.com/wp-content/uploads/2022/12/A-Taste-of-the-Big-Apple.jpg
END:VEVENT
BEGIN:VEVENT
DTSTART;TZID=America/Chicago:20231115T180000
DTEND;TZID=America/Chicago:20231115T180000
DTSTAMP:20260419T234507
CREATED:20230424T222632Z
LAST-MODIFIED:20250103T010113Z
UID:10002072-1700071200-1700071200@mineralspringsbrewery.com
SUMMARY:Trivia Night
DESCRIPTION:MSB Trivia Night!!
URL:https://mineralspringsbrewery.com/event/trivia-night-10/2023-11-15/
LOCATION:Mineral Springs Brewery\, 210 N Oak Ave\, Suite 1\, Owatonna\, MN\, 55060\, United States
CATEGORIES:Activities
ATTACH;FMTTYPE=image/png:https://mineralspringsbrewery.com/wp-content/uploads/2022/02/MSB-Trivia-Night.png
END:VEVENT
BEGIN:VEVENT
DTSTART;TZID=America/Chicago:20231115T110000
DTEND;TZID=America/Chicago:20231115T190000
DTSTAMP:20260419T234507
CREATED:20231104T041435Z
LAST-MODIFIED:20231104T041653Z
UID:10002790-1700046000-1700074800@mineralspringsbrewery.com
SUMMARY:On The Hook - Fish and Chips
DESCRIPTION:On The Hook specializes in Line-Caught Wild Alaskan Cod Fish and Chips. We start with the highest quality cod available sourced from the cold clean waters of Alaska. This however\, is not just any Alaskan Cod\, our cod is caught using hook and line which means that each fish is brought aboard individually and immediately headed\, gutted\, and flash frozen to perfectly preserve the fresh caught quality and tenderness. We hand coat it with our original recipe beer batter created by our founders over months by experimenting and fine tuning while they were in college. Batter was not the only thing we created from scratch\, our signature dipping sauces are included with every meal to complete a perfect dish.
URL:https://mineralspringsbrewery.com/event/on-the-hook-fish-and-chips-9/
LOCATION:Mineral Springs Brewery\, 210 N Oak Ave\, Suite 1\, Owatonna\, MN\, 55060\, United States
CATEGORIES:Food Trucks
ATTACH;FMTTYPE=image/jpeg:https://mineralspringsbrewery.com/wp-content/uploads/2021/03/0EEABF12-E6AD-4366-B5BB-DAE146728E09.jpeg
END:VEVENT
BEGIN:VEVENT
DTSTART;TZID=America/Chicago:20231112T150000
DTEND;TZID=America/Chicago:20231112T150000
DTSTAMP:20260419T234507
CREATED:20230822T225107Z
LAST-MODIFIED:20230822T225109Z
UID:10002328-1699801200-1699801200@mineralspringsbrewery.com
SUMMARY:MSBGO
DESCRIPTION:On Sundays\, we’ll be hosting a free and fun game of chance! Come on down to play along and win FREE BEER!
URL:https://mineralspringsbrewery.com/event/msbgo-7/2023-11-12/
LOCATION:Mineral Springs Brewery\, 210 N Oak Ave\, Suite 1\, Owatonna\, MN\, 55060\, United States
CATEGORIES:Activities
ATTACH;FMTTYPE=image/png:https://mineralspringsbrewery.com/wp-content/uploads/2022/04/Bingo.png
END:VEVENT
BEGIN:VEVENT
DTSTART;TZID=America/Chicago:20231111T183000
DTEND;TZID=America/Chicago:20231111T203000
DTSTAMP:20260419T234507
CREATED:20231101T211922Z
LAST-MODIFIED:20231101T211924Z
UID:10002746-1699727400-1699734600@mineralspringsbrewery.com
SUMMARY:Miller Denn
DESCRIPTION:Muriah Miller & Mark Denn are this Minnesota-based acoustic duo coming from family bands Miller Sisters & Country Denns. Based out of Waseca\, Minnesota.
URL:https://mineralspringsbrewery.com/event/miller-denn-4/
LOCATION:MN
CATEGORIES:Activities,Music
ATTACH;FMTTYPE=image/jpeg:https://mineralspringsbrewery.com/wp-content/uploads/2022/06/Miller-Denn.jpg
END:VEVENT
BEGIN:VEVENT
DTSTART;TZID=America/Chicago:20231111T120000
DTEND;TZID=America/Chicago:20231111T200000
DTSTAMP:20260419T234507
CREATED:20231107T225158Z
LAST-MODIFIED:20231107T230131Z
UID:10002795-1699704000-1699732800@mineralspringsbrewery.com
SUMMARY:Original Hockey Mom Brownies
DESCRIPTION:Brownies + Ice Cream on wheels\, that’s what we’re talking about!
URL:https://mineralspringsbrewery.com/event/original-hockey-mom-brownies-3/
LOCATION:Mineral Springs Brewery\, 210 N Oak Ave\, Suite 1\, Owatonna\, MN\, 55060\, United States
CATEGORIES:Food Trucks
ATTACH;FMTTYPE=image/jpeg:https://mineralspringsbrewery.com/wp-content/uploads/2023/05/Original-Hockey-Mom-Brownies.jpg
END:VEVENT
BEGIN:VEVENT
DTSTART;TZID=America/Chicago:20231111T120000
DTEND;TZID=America/Chicago:20231111T200000
DTSTAMP:20260419T234507
CREATED:20231101T211810Z
LAST-MODIFIED:20231101T211852Z
UID:10002745-1699704000-1699732800@mineralspringsbrewery.com
SUMMARY:Northwoods Smokehouse - Last Time at MSB
DESCRIPTION:Northwoods Smokehouse is a BBQ Food Trailer specializing in Texas craft BBQ focusing on pork\, chicken\, beef and gourmet sides.
URL:https://mineralspringsbrewery.com/event/northwoods-smokehouse-last-time-at-msb/
LOCATION:Mineral Springs Brewery\, 210 N Oak Ave\, Suite 1\, Owatonna\, MN\, 55060\, United States
CATEGORIES:Food Trucks
ATTACH;FMTTYPE=image/jpeg:https://mineralspringsbrewery.com/wp-content/uploads/2022/08/Northwoods-Smokehouse.jpg
END:VEVENT
BEGIN:VEVENT
DTSTART;TZID=America/Chicago:20231110T160000
DTEND;TZID=America/Chicago:20231110T200000
DTSTAMP:20260419T234507
CREATED:20231107T031647Z
LAST-MODIFIED:20231107T031648Z
UID:10002791-1699632000-1699646400@mineralspringsbrewery.com
SUMMARY:Garillers
DESCRIPTION:Garillers features the best smash burgers around!
URL:https://mineralspringsbrewery.com/event/garillers-10/
LOCATION:Mineral Springs Brewery\, 210 N Oak Ave\, Suite 1\, Owatonna\, MN\, 55060\, United States
CATEGORIES:Food Trucks
ATTACH;FMTTYPE=image/jpeg:https://mineralspringsbrewery.com/wp-content/uploads/2022/09/Garillers-Food-Truck.jpg
END:VEVENT
BEGIN:VEVENT
DTSTART;TZID=America/Chicago:20231109T170000
DTEND;TZID=America/Chicago:20231109T170000
DTSTAMP:20260419T234507
CREATED:20230822T225207Z
LAST-MODIFIED:20250319T185917Z
UID:10001558-1699549200-1699549200@mineralspringsbrewery.com
SUMMARY:Thursday Pizza Special
DESCRIPTION:We’ve partnered with A Taste of the Big Apple to have their delicious pizzas delivered hot and fresh every half hour starting at 5:30pm! We also have frozen pizzas from our friends over at Pleasant Grove Pizza Farm that we’re able to cook up in our ovens! \n\n\n\nOrder your choice of pizza at the bar and we’ll get it to you when it’s delivered! \n\n\n\n\n\nA Taste of the Big Apple\n\n\n\n\nCheese\n\n\n\nSausage\n\n\n\nPepperoni\n\n\n\nSausage/Pepperoni\n\n\n\nCombo\n\nSausage\, Pepperoni\, Onions\, & Mushrooms\n\n\n\n\n\n\n\n\nPleasant Grove Pizza Farm\n\n\n\n\nCheese\n\n\n\nSusie (Sausage)\n\n\n\nChuck (Pepperoni)\n\n\n\nChuck & Susie (Pepperoni & Sausage)\n\n\n\nMN Mess (Combo)\n\nSausage\, Green & Black Olives\, Green Peppers\, Onions\, & Mushrooms\n\n\n\n\n\nPizza Fries & Sauce\n\n\n\n\n\n\nBe sure to let our bartender know your order!
URL:https://mineralspringsbrewery.com/event/a-taste-of-the-big-apple-thursday-special-11/2023-11-09/
LOCATION:Mineral Springs Brewery\, 210 N Oak Ave\, Suite 1\, Owatonna\, MN\, 55060\, United States
CATEGORIES:Food Trucks
ATTACH;FMTTYPE=image/jpeg:https://mineralspringsbrewery.com/wp-content/uploads/2022/12/A-Taste-of-the-Big-Apple.jpg
END:VEVENT
BEGIN:VEVENT
DTSTART;TZID=America/Chicago:20231108T180000
DTEND;TZID=America/Chicago:20231108T180000
DTSTAMP:20260419T234507
CREATED:20231028T001609Z
LAST-MODIFIED:20231028T001951Z
UID:10002071-1699466400-1699466400@mineralspringsbrewery.com
SUMMARY:Trivia Night
DESCRIPTION:MSB Trivia Night!!
URL:https://mineralspringsbrewery.com/event/trivia-night-11/
LOCATION:Mineral Springs Brewery\, 210 N Oak Ave\, Suite 1\, Owatonna\, MN\, 55060\, United States
CATEGORIES:Activities
ATTACH;FMTTYPE=image/png:https://mineralspringsbrewery.com/wp-content/uploads/2022/02/MSB-Trivia-Night.png
END:VEVENT
BEGIN:VEVENT
DTSTART;TZID=America/Chicago:20231108T180000
DTEND;TZID=America/Chicago:20231108T180000
DTSTAMP:20260419T234507
CREATED:20230424T222632Z
LAST-MODIFIED:20250103T010113Z
UID:10002970-1699466400-1699466400@mineralspringsbrewery.com
SUMMARY:Trivia Night
DESCRIPTION:MSB Trivia Night!!
URL:https://mineralspringsbrewery.com/event/trivia-night-10/2023-11-08/
LOCATION:Mineral Springs Brewery\, 210 N Oak Ave\, Suite 1\, Owatonna\, MN\, 55060\, United States
CATEGORIES:Activities
ATTACH;FMTTYPE=image/png:https://mineralspringsbrewery.com/wp-content/uploads/2022/02/MSB-Trivia-Night.png
END:VEVENT
BEGIN:VEVENT
DTSTART;TZID=America/Chicago:20231108T170000
DTEND;TZID=America/Chicago:20231108T170000
DTSTAMP:20260419T234507
CREATED:20231028T001734Z
LAST-MODIFIED:20231028T001942Z
UID:10001815-1699462800-1699462800@mineralspringsbrewery.com
SUMMARY:Wag's Wednesday
DESCRIPTION:We’re partnering with Wagners Lunch Pool Hall to have their delicious burgers and fries delivered hot and fresh every half hour starting at 5:30pm! \n\n\n\nEach week\, you’ll have the choice between: \n\n\n\n\nDouble Cheeseburger with Fries & an MSB beer of choice for $13\n\n\n\nOr a Special Burger of the week that will rotate from week to week with Fries and an MSB beer of choice for $15\n\n\n\n\nBe sure to let our bartender know your order!
URL:https://mineralspringsbrewery.com/event/wags-wednesday-12/
LOCATION:Mineral Springs Brewery\, 210 N Oak Ave\, Suite 1\, Owatonna\, MN\, 55060\, United States
CATEGORIES:Food Trucks
ATTACH;FMTTYPE=image/jpeg:https://mineralspringsbrewery.com/wp-content/uploads/2022/10/Wags-Wednesdays.jpeg
END:VEVENT
BEGIN:VEVENT
DTSTART;TZID=America/Chicago:20231108T160000
DTEND;TZID=America/Chicago:20231108T210000
DTSTAMP:20260419T234507
CREATED:20231027T201116Z
LAST-MODIFIED:20231028T002500Z
UID:10002732-1699459200-1699477200@mineralspringsbrewery.com
SUMMARY:MSB Flashback Birthday Bash
DESCRIPTION:It’s our birthday! We’re turning 4 years old! \n\n\n\nWe’re feeling nostalgic and reminiscing about those early days in 2019. Remember when our prices were $5 for a Kaplan’s Kölsch or Cinder Hill Cream Ale and $6 for a Thunderbolt IPA? \n\n\n\nIn the spirit of celebration\, we’re going retro and bringing those prices back! \n\n\n\n\n	\n		\n\n			\n			\n\n							\n					\n						Birthday Events					\n				\n			\n			\n				\n			\n			\n	\n		\n		\n		\n		\n	\n\n\n	Notice\n							\n					There are no upcoming events.				\n					\n	\n\n					\n	\n\n\n\n\n\n\n\n\n\n\nDetails
URL:https://mineralspringsbrewery.com/event/msb-flashback-birthday-bash-2/
LOCATION:Mineral Springs Brewery\, 210 N Oak Ave\, Suite 1\, Owatonna\, MN\, 55060\, United States
CATEGORIES:Activities
ATTACH;FMTTYPE=image/jpeg:https://mineralspringsbrewery.com/wp-content/uploads/2022/10/MSB-3rd-Birthday.jpg
END:VEVENT
BEGIN:VEVENT
DTSTART;TZID=America/Chicago:20231105T150000
DTEND;TZID=America/Chicago:20231105T150000
DTSTAMP:20260419T234507
CREATED:20230822T225107Z
LAST-MODIFIED:20230822T225109Z
UID:10002327-1699196400-1699196400@mineralspringsbrewery.com
SUMMARY:MSBGO
DESCRIPTION:On Sundays\, we’ll be hosting a free and fun game of chance! Come on down to play along and win FREE BEER!
URL:https://mineralspringsbrewery.com/event/msbgo-7/2023-11-05/
LOCATION:Mineral Springs Brewery\, 210 N Oak Ave\, Suite 1\, Owatonna\, MN\, 55060\, United States
CATEGORIES:Activities
ATTACH;FMTTYPE=image/png:https://mineralspringsbrewery.com/wp-content/uploads/2022/04/Bingo.png
END:VEVENT
BEGIN:VEVENT
DTSTART;TZID=America/Chicago:20231104T180000
DTEND;TZID=America/Chicago:20231104T200000
DTSTAMP:20260419T234507
CREATED:20231101T210422Z
LAST-MODIFIED:20231101T210504Z
UID:10002743-1699120800-1699128000@mineralspringsbrewery.com
SUMMARY:Angel Val
DESCRIPTION:Angel grew up listening to her mom sing in an 80s rock band. She has a strong background and love for rock music and has grown to love country as well. Angel has taken her two favorite genre’s and mixed them into a more rock country style. Angel began playing guitar in Jr High where she found her passion for writing. \n\n\n\nAngel began working with her friend and now manager and producer\, Doug Olson in 2016 when they recorded her 1st album\, Gravel Road\, in Nashville with producer Buddy Hyatt. \n\n\n\n\nAngel puts her Mom at the top of her Influences… Growing up watching her Mom sing and perform has giving her the inspiration and drive to continue the passion for music. She also credits Miranda Lambert and the Cranberries. Angel also uses personal experiences in life to influence her writing… Such as relationships and spending time with friends. \n\n\n\n\nWhether you are looking for a solo acoustic show\, duet\, or full band\, Angel Val delivers a great performance!
URL:https://mineralspringsbrewery.com/event/angel-val/
LOCATION:MN
CATEGORIES:Activities,Music
ATTACH;FMTTYPE=image/jpeg:https://mineralspringsbrewery.com/wp-content/uploads/2023/11/Angel-Val-Music.jpg
END:VEVENT
BEGIN:VEVENT
DTSTART;TZID=America/Chicago:20231104T120000
DTEND;TZID=America/Chicago:20231104T200000
DTSTAMP:20260419T234507
CREATED:20231020T202134Z
LAST-MODIFIED:20231020T202135Z
UID:10002725-1699099200-1699128000@mineralspringsbrewery.com
SUMMARY:Brick Oven Bus
DESCRIPTION:Brick oven fired pizzas\, but on the go!
URL:https://mineralspringsbrewery.com/event/brick-oven-bus-8/
LOCATION:Mineral Springs Brewery\, 210 N Oak Ave\, Suite 1\, Owatonna\, MN\, 55060\, United States
CATEGORIES:Food Trucks
ATTACH;FMTTYPE=image/jpeg:https://mineralspringsbrewery.com/wp-content/uploads/2023/01/Brick-Oven-Bus.jpg
END:VEVENT
BEGIN:VEVENT
DTSTART;TZID=America/Chicago:20231103T120000
DTEND;TZID=America/Chicago:20231103T200000
DTSTAMP:20260419T234507
CREATED:20231020T202031Z
LAST-MODIFIED:20231020T202032Z
UID:10002724-1699012800-1699041600@mineralspringsbrewery.com
SUMMARY:Louie's BBQ Shack
DESCRIPTION:The best BBQ around! Recently crowned Taste of Shakopee 2023 winner!
URL:https://mineralspringsbrewery.com/event/louies-bbq-shack-5/
LOCATION:Mineral Springs Brewery\, 210 N Oak Ave\, Suite 1\, Owatonna\, MN\, 55060\, United States
CATEGORIES:Food Trucks
ATTACH;FMTTYPE=image/jpeg:https://mineralspringsbrewery.com/wp-content/uploads/2022/10/B0647B0D-5C8E-4466-AB77-6C8A56782312.jpeg
END:VEVENT
END:VCALENDAR