BEGIN:VCALENDAR
VERSION:2.0
PRODID:-//Mineral Springs Brewery - ECPv6.15.20//NONSGML v1.0//EN
CALSCALE:GREGORIAN
METHOD:PUBLISH
X-WR-CALNAME:Mineral Springs Brewery
X-ORIGINAL-URL:https://mineralspringsbrewery.com
X-WR-CALDESC:Events for Mineral Springs Brewery
REFRESH-INTERVAL;VALUE=DURATION:PT1H
X-Robots-Tag:noindex
X-PUBLISHED-TTL:PT1H
BEGIN:VTIMEZONE
TZID:America/Chicago
BEGIN:DAYLIGHT
TZOFFSETFROM:-0600
TZOFFSETTO:-0500
TZNAME:CDT
DTSTART:20220313T080000
END:DAYLIGHT
BEGIN:STANDARD
TZOFFSETFROM:-0500
TZOFFSETTO:-0600
TZNAME:CST
DTSTART:20221106T070000
END:STANDARD
BEGIN:DAYLIGHT
TZOFFSETFROM:-0600
TZOFFSETTO:-0500
TZNAME:CDT
DTSTART:20230312T080000
END:DAYLIGHT
BEGIN:STANDARD
TZOFFSETFROM:-0500
TZOFFSETTO:-0600
TZNAME:CST
DTSTART:20231105T070000
END:STANDARD
BEGIN:DAYLIGHT
TZOFFSETFROM:-0600
TZOFFSETTO:-0500
TZNAME:CDT
DTSTART:20240310T080000
END:DAYLIGHT
BEGIN:STANDARD
TZOFFSETFROM:-0500
TZOFFSETTO:-0600
TZNAME:CST
DTSTART:20241103T070000
END:STANDARD
END:VTIMEZONE
BEGIN:VEVENT
DTSTART;TZID=America/Chicago:20230804T183000
DTEND;TZID=America/Chicago:20230804T203000
DTSTAMP:20260420T223046
CREATED:20230519T183852Z
LAST-MODIFIED:20230525T222642Z
UID:10002587-1691173800-1691181000@mineralspringsbrewery.com
SUMMARY:Shasta Kings
DESCRIPTION:The Shasta Kings are Scott Rogness (guitar/lead vocals) and Bruce Watts (guitars/vocals) playing a wide variety of songs from classic rock to new country.
URL:https://mineralspringsbrewery.com/event/shasta-kings-4/
LOCATION:Mineral Springs Brewery\, 210 N Oak Ave\, Suite 1\, Owatonna\, MN\, 55060\, United States
CATEGORIES:Activities,Music
ATTACH;FMTTYPE=image/jpeg:https://mineralspringsbrewery.com/wp-content/uploads/2022/06/Shasta-Kings.jpg
END:VEVENT
BEGIN:VEVENT
DTSTART;TZID=America/Chicago:20230804T120000
DTEND;TZID=America/Chicago:20230804T200000
DTSTAMP:20260420T223046
CREATED:20230519T183653Z
LAST-MODIFIED:20230526T195841Z
UID:10002586-1691150400-1691179200@mineralspringsbrewery.com
SUMMARY:Northwoods Smokehouse
DESCRIPTION:Northwoods Smokehouse is a BBQ Food Trailer specializing in Texas craft BBQ focusing on pork\, chicken\, beef and gourmet sides.
URL:https://mineralspringsbrewery.com/event/northwoods-smokehouse-13/
LOCATION:Mineral Springs Brewery\, 210 N Oak Ave\, Suite 1\, Owatonna\, MN\, 55060\, United States
CATEGORIES:Food Trucks
ATTACH;FMTTYPE=image/jpeg:https://mineralspringsbrewery.com/wp-content/uploads/2022/08/Northwoods-Smokehouse.jpg
END:VEVENT
BEGIN:VEVENT
DTSTART;TZID=America/Chicago:20230803T180000
DTEND;TZID=America/Chicago:20230803T200000
DTSTAMP:20260420T223046
CREATED:20230519T183536Z
LAST-MODIFIED:20230525T222631Z
UID:10002585-1691085600-1691092800@mineralspringsbrewery.com
SUMMARY:Leaving Hope
DESCRIPTION:Hailing from the North Star state\, Leaving Hope are on a mission straight through the stratosphere!
URL:https://mineralspringsbrewery.com/event/leaving-hope-2/
LOCATION:Mineral Springs Brewery\, 210 N Oak Ave\, Suite 1\, Owatonna\, MN\, 55060\, United States
CATEGORIES:Activities,Music
ATTACH;FMTTYPE=image/jpeg:https://mineralspringsbrewery.com/wp-content/uploads/2023/04/Leaving-Hope.jpg
END:VEVENT
BEGIN:VEVENT
DTSTART;TZID=America/Chicago:20230803T170000
DTEND;TZID=America/Chicago:20230803T170000
DTSTAMP:20260420T223046
CREATED:20230519T171851Z
LAST-MODIFIED:20230526T195057Z
UID:10001544-1691082000-1691082000@mineralspringsbrewery.com
SUMMARY:A Taste of the Big Apple Thursday Special
DESCRIPTION:We’re partnering with A Taste of the Big Apple to have their delicious pizzas delivered hot and fresh every half hour starting at 5:30pm! \n\n\n\nOrder your choice of large pizza at the bar and it will be delivered to your table \n\n\n\n\nCheese – $20\n\n\n\nSausage/Pepperoni – $21\n\n\n\nCombo – $23\n\n\n\nAdd MSB beer \n\nOne pour – $5\n\n\n\nTwo pours – $10\n\n\n\n\n\n\nBe sure to let our bartender know your order!
URL:https://mineralspringsbrewery.com/event/a-taste-of-the-big-apple-thursday-special-9/2023-08-03/
LOCATION:Mineral Springs Brewery\, 210 N Oak Ave\, Suite 1\, Owatonna\, MN\, 55060\, United States
CATEGORIES:Activities,Food Trucks
ATTACH;FMTTYPE=image/jpeg:https://mineralspringsbrewery.com/wp-content/uploads/2022/12/A-Taste-of-the-Big-Apple.jpg
END:VEVENT
BEGIN:VEVENT
DTSTART;TZID=America/Chicago:20230802T180000
DTEND;TZID=America/Chicago:20230802T180000
DTSTAMP:20260420T223046
CREATED:20230424T222632Z
LAST-MODIFIED:20250103T010113Z
UID:10002057-1690999200-1690999200@mineralspringsbrewery.com
SUMMARY:Trivia Night
DESCRIPTION:MSB Trivia Night!!
URL:https://mineralspringsbrewery.com/event/trivia-night-10/2023-08-02/
LOCATION:Mineral Springs Brewery\, 210 N Oak Ave\, Suite 1\, Owatonna\, MN\, 55060\, United States
CATEGORIES:Activities
ATTACH;FMTTYPE=image/png:https://mineralspringsbrewery.com/wp-content/uploads/2022/02/MSB-Trivia-Night.png
END:VEVENT
BEGIN:VEVENT
DTSTART;TZID=America/Chicago:20230802T170000
DTEND;TZID=America/Chicago:20230802T170000
DTSTAMP:20260420T223046
CREATED:20230418T155342Z
LAST-MODIFIED:20230526T200812Z
UID:10001801-1690995600-1690995600@mineralspringsbrewery.com
SUMMARY:Wag's Wednesday
DESCRIPTION:We’re partnering with Wagners Lunch Pool Hall to have their delicious burgers and fries delivered hot and fresh every half hour starting at 5:30pm! \n\n\n\nEach week\, you’ll have the choice between: \n\n\n\n\nDouble Cheeseburger with Fries & an MSB beer of choice for $13\n\n\n\nOr a Special Burger of the week that will rotate from week to week with Fries and an MSB beer of choice for $15\n\n\n\n\nBe sure to let our bartender know your order!
URL:https://mineralspringsbrewery.com/event/wags-wednesday-7/2023-08-02/
LOCATION:Mineral Springs Brewery\, 210 N Oak Ave\, Suite 1\, Owatonna\, MN\, 55060\, United States
CATEGORIES:Food Trucks
ATTACH;FMTTYPE=image/jpeg:https://mineralspringsbrewery.com/wp-content/uploads/2022/10/Wags-Wednesdays.jpeg
END:VEVENT
BEGIN:VEVENT
DTSTART;TZID=America/Chicago:20230802T150000
DTEND;TZID=America/Chicago:20230802T210000
DTSTAMP:20260420T223046
CREATED:20220903T193332Z
LAST-MODIFIED:20230526T195111Z
UID:10001516-1690988400-1691010000@mineralspringsbrewery.com
SUMMARY:Classic Car Roll In
DESCRIPTION:MSB is home to the Classic Car Roll In! \n\n\n\nSummer weather is perfect for both showing off and admiring these southern Minnesota classic cars!
URL:https://mineralspringsbrewery.com/event/classic-car-roll-in-september/2023-08-02/
LOCATION:Mineral Springs Brewery\, 210 N Oak Ave\, Suite 1\, Owatonna\, MN\, 55060\, United States
CATEGORIES:Activities
ATTACH;FMTTYPE=image/png:https://mineralspringsbrewery.com/wp-content/uploads/2022/05/Classic-Car-Roll-IN.png
END:VEVENT
BEGIN:VEVENT
DTSTART;TZID=America/Chicago:20230801T000000
DTEND;TZID=America/Chicago:20230801T235959
DTSTAMP:20260420T223046
CREATED:20230731T025113Z
LAST-MODIFIED:20230731T034739Z
UID:10002643-1690848000-1690934399@mineralspringsbrewery.com
SUMMARY:Dog Happy Hour
DESCRIPTION:Join us (and our fur-iends!) for our Dog Happy Hour! \n\n\n\nBring your four-legged friend and your second beer is on us!
URL:https://mineralspringsbrewery.com/event/dog-happy-hour-2/
LOCATION:Mineral Springs Brewery\, 210 N Oak Ave\, Suite 1\, Owatonna\, MN\, 55060\, United States
CATEGORIES:Activities
ATTACH;FMTTYPE=image/jpeg:https://mineralspringsbrewery.com/wp-content/uploads/2023/07/Dog-HH-scaled.jpeg
END:VEVENT
BEGIN:VEVENT
DTSTART;TZID=America/Chicago:20230730T150000
DTEND;TZID=America/Chicago:20230730T150000
DTSTAMP:20260420T223046
CREATED:20221209T234308Z
LAST-MODIFIED:20230526T200437Z
UID:10002313-1690729200-1690729200@mineralspringsbrewery.com
SUMMARY:MSBGO
DESCRIPTION:On Sundays\, we’ll be hosting a free and fun game of chance! Come on down to play along and win FREE BEER!
URL:https://mineralspringsbrewery.com/event/msbgo-28/2023-07-30/
LOCATION:Mineral Springs Brewery\, 210 N Oak Ave\, Suite 1\, Owatonna\, MN\, 55060\, United States
CATEGORIES:Activities
ATTACH;FMTTYPE=image/png:https://mineralspringsbrewery.com/wp-content/uploads/2022/04/Bingo.png
END:VEVENT
BEGIN:VEVENT
DTSTART;TZID=America/Chicago:20230729T180000
DTEND;TZID=America/Chicago:20230729T200000
DTSTAMP:20260420T223046
CREATED:20230519T183344Z
LAST-MODIFIED:20230525T222611Z
UID:10002584-1690653600-1690660800@mineralspringsbrewery.com
SUMMARY:Where's Gary?
DESCRIPTION:
URL:https://mineralspringsbrewery.com/event/wheres-gary/
LOCATION:Mineral Springs Brewery\, 210 N Oak Ave\, Suite 1\, Owatonna\, MN\, 55060\, United States
CATEGORIES:Activities,Music
ATTACH;FMTTYPE=image/jpeg:https://mineralspringsbrewery.com/wp-content/uploads/2023/05/Wheres-Gary.jpg
END:VEVENT
BEGIN:VEVENT
DTSTART;TZID=America/Chicago:20230729T120000
DTEND;TZID=America/Chicago:20230729T200000
DTSTAMP:20260420T223046
CREATED:20230519T182538Z
LAST-MODIFIED:20230526T195832Z
UID:10002583-1690632000-1690660800@mineralspringsbrewery.com
SUMMARY:Twisted Chicken
DESCRIPTION:
URL:https://mineralspringsbrewery.com/event/twisted-chicken-3/
LOCATION:Mineral Springs Brewery\, 210 N Oak Ave\, Suite 1\, Owatonna\, MN\, 55060\, United States
CATEGORIES:Food Trucks
ATTACH;FMTTYPE=image/png:https://mineralspringsbrewery.com/wp-content/uploads/2022/04/Twisted-Chicken-Logo.png
END:VEVENT
BEGIN:VEVENT
DTSTART;TZID=America/Chicago:20230728T173000
DTEND;TZID=America/Chicago:20230728T193000
DTSTAMP:20260420T223046
CREATED:20230518T170806Z
LAST-MODIFIED:20230525T222553Z
UID:10001528-1690565400-1690572600@mineralspringsbrewery.com
SUMMARY:Chris Mims
DESCRIPTION:Chris’ returns to MSB live on our outdoor stage (weather permitting)!
URL:https://mineralspringsbrewery.com/event/chris-mims-2/
LOCATION:Mineral Springs Brewery\, 210 N Oak Ave\, Suite 1\, Owatonna\, MN\, 55060\, United States
CATEGORIES:Activities,Music
ATTACH;FMTTYPE=image/jpeg:https://mineralspringsbrewery.com/wp-content/uploads/2022/12/Chris-Mims.jpeg
END:VEVENT
BEGIN:VEVENT
DTSTART;TZID=America/Chicago:20230728T120000
DTEND;TZID=America/Chicago:20230728T200000
DTSTAMP:20260420T223046
CREATED:20230519T182431Z
LAST-MODIFIED:20230526T195819Z
UID:10002582-1690545600-1690574400@mineralspringsbrewery.com
SUMMARY:Original Hockey Mom Brownies
DESCRIPTION:Brownies + Ice Cream on wheels\, that’s what we’re talking about!
URL:https://mineralspringsbrewery.com/event/original-hockey-mom-brownies/
LOCATION:Mineral Springs Brewery\, 210 N Oak Ave\, Suite 1\, Owatonna\, MN\, 55060\, United States
CATEGORIES:Food Trucks
ATTACH;FMTTYPE=image/jpeg:https://mineralspringsbrewery.com/wp-content/uploads/2023/05/Original-Hockey-Mom-Brownies.jpg
END:VEVENT
BEGIN:VEVENT
DTSTART;TZID=America/Chicago:20230728T120000
DTEND;TZID=America/Chicago:20230728T200000
DTSTAMP:20260420T223046
CREATED:20230519T181445Z
LAST-MODIFIED:20230526T195809Z
UID:10002581-1690545600-1690574400@mineralspringsbrewery.com
SUMMARY:REBEL Lobster
DESCRIPTION:Maine to Minnesota\n\n\n\nEast Coast Flavor. \n\n\n\nMid-West Comfort.\n\n\n\nOur family came from Maine. If you are wondering if it was to bring lobster to the people of Minnesota\, well – yes it was. We just didn’t know it yet. With our roots in Maine and Minnesota; we are passionate about DELICIOUS LOBSTER ROLLS and KINDNESS. From the fresh craft baked New England style rolls\, to the North Atlantic lobster meat that we stuff inside them – we know lobster rolls and can’t wait to share them with you!
URL:https://mineralspringsbrewery.com/event/rebel-lobster/
LOCATION:Mineral Springs Brewery\, 210 N Oak Ave\, Suite 1\, Owatonna\, MN\, 55060\, United States
CATEGORIES:Food Trucks
ATTACH;FMTTYPE=image/jpeg:https://mineralspringsbrewery.com/wp-content/uploads/2023/05/REBEL-Lobster.jpg
END:VEVENT
BEGIN:VEVENT
DTSTART;TZID=America/Chicago:20230728T000000
DTEND;TZID=America/Chicago:20230728T235959
DTSTAMP:20260420T223046
CREATED:20230419T005414Z
LAST-MODIFIED:20230525T221655Z
UID:10002565-1690502400-1690588799@mineralspringsbrewery.com
SUMMARY:Final(ly) Friday
DESCRIPTION:Join us for the last Friday of every month through September to kick off the weekend! We’ll have live music and a fan-favorite food truck on site! The perfect end to the week and the month with something for the whole family!
URL:https://mineralspringsbrewery.com/event/finally-friday-2/2023-07-28/
LOCATION:Mineral Springs Brewery\, 210 N Oak Ave\, Suite 1\, Owatonna\, MN\, 55060\, United States
CATEGORIES:Activities
ATTACH;FMTTYPE=image/png:https://mineralspringsbrewery.com/wp-content/uploads/2023/02/0AC096FB-5A0E-4FA8-B869-C385FF518D16.png
END:VEVENT
BEGIN:VEVENT
DTSTART;TZID=America/Chicago:20230727T170000
DTEND;TZID=America/Chicago:20230727T170000
DTSTAMP:20260420T223046
CREATED:20230519T171851Z
LAST-MODIFIED:20230526T195057Z
UID:10001543-1690477200-1690477200@mineralspringsbrewery.com
SUMMARY:A Taste of the Big Apple Thursday Special
DESCRIPTION:We’re partnering with A Taste of the Big Apple to have their delicious pizzas delivered hot and fresh every half hour starting at 5:30pm! \n\n\n\nOrder your choice of large pizza at the bar and it will be delivered to your table \n\n\n\n\nCheese – $20\n\n\n\nSausage/Pepperoni – $21\n\n\n\nCombo – $23\n\n\n\nAdd MSB beer \n\nOne pour – $5\n\n\n\nTwo pours – $10\n\n\n\n\n\n\nBe sure to let our bartender know your order!
URL:https://mineralspringsbrewery.com/event/a-taste-of-the-big-apple-thursday-special-9/2023-07-27/
LOCATION:Mineral Springs Brewery\, 210 N Oak Ave\, Suite 1\, Owatonna\, MN\, 55060\, United States
CATEGORIES:Activities,Food Trucks
ATTACH;FMTTYPE=image/jpeg:https://mineralspringsbrewery.com/wp-content/uploads/2022/12/A-Taste-of-the-Big-Apple.jpg
END:VEVENT
BEGIN:VEVENT
DTSTART;TZID=America/Chicago:20230726T180000
DTEND;TZID=America/Chicago:20230726T180000
DTSTAMP:20260420T223046
CREATED:20230424T222632Z
LAST-MODIFIED:20250103T010113Z
UID:10002056-1690394400-1690394400@mineralspringsbrewery.com
SUMMARY:Trivia Night
DESCRIPTION:MSB Trivia Night!!
URL:https://mineralspringsbrewery.com/event/trivia-night-10/2023-07-26/
LOCATION:Mineral Springs Brewery\, 210 N Oak Ave\, Suite 1\, Owatonna\, MN\, 55060\, United States
CATEGORIES:Activities
ATTACH;FMTTYPE=image/png:https://mineralspringsbrewery.com/wp-content/uploads/2022/02/MSB-Trivia-Night.png
END:VEVENT
BEGIN:VEVENT
DTSTART;TZID=America/Chicago:20230726T110000
DTEND;TZID=America/Chicago:20230726T190000
DTSTAMP:20260420T223046
CREATED:20230724T152512Z
LAST-MODIFIED:20230724T152514Z
UID:10002628-1690369200-1690398000@mineralspringsbrewery.com
SUMMARY:On The Hook - Fish and Chips
DESCRIPTION:On The Hook specializes in Line-Caught Wild Alaskan Cod Fish and Chips. We start with the highest quality cod available sourced from the cold clean waters of Alaska. This however\, is not just any Alaskan Cod\, our cod is caught using hook and line which means that each fish is brought aboard individually and immediately headed\, gutted\, and flash frozen to perfectly preserve the fresh caught quality and tenderness. We hand coat it with our original recipe beer batter created by our founders over months by experimenting and fine tuning while they were in college. Batter was not the only thing we created from scratch\, our signature dipping sauces are included with every meal to complete a perfect dish.
URL:https://mineralspringsbrewery.com/event/on-the-hook-fish-and-chips-4/
LOCATION:MN
CATEGORIES:Food Trucks
ATTACH;FMTTYPE=image/jpeg:https://mineralspringsbrewery.com/wp-content/uploads/2021/03/0EEABF12-E6AD-4366-B5BB-DAE146728E09.jpeg
END:VEVENT
BEGIN:VEVENT
DTSTART;TZID=America/Chicago:20230723T150000
DTEND;TZID=America/Chicago:20230723T150000
DTSTAMP:20260420T223046
CREATED:20221209T234308Z
LAST-MODIFIED:20230526T200437Z
UID:10002312-1690124400-1690124400@mineralspringsbrewery.com
SUMMARY:MSBGO
DESCRIPTION:On Sundays\, we’ll be hosting a free and fun game of chance! Come on down to play along and win FREE BEER!
URL:https://mineralspringsbrewery.com/event/msbgo-28/2023-07-23/
LOCATION:Mineral Springs Brewery\, 210 N Oak Ave\, Suite 1\, Owatonna\, MN\, 55060\, United States
CATEGORIES:Activities
ATTACH;FMTTYPE=image/png:https://mineralspringsbrewery.com/wp-content/uploads/2022/04/Bingo.png
END:VEVENT
BEGIN:VEVENT
DTSTART;TZID=America/Chicago:20230723T140000
DTEND;TZID=America/Chicago:20230723T190000
DTSTAMP:20260420T223046
CREATED:20230519T180543Z
LAST-MODIFIED:20230526T195800Z
UID:10002580-1690120800-1690138800@mineralspringsbrewery.com
SUMMARY:Pleasant Grove Pizza Farm
DESCRIPTION:Pleasant Grove Pizza Farm brings over a fresh harvest of the best pizzas grown locally!
URL:https://mineralspringsbrewery.com/event/pleasant-grove-pizza-farm-7/
LOCATION:Mineral Springs Brewery\, 210 N Oak Ave\, Suite 1\, Owatonna\, MN\, 55060\, United States
CATEGORIES:Food Trucks
ATTACH;FMTTYPE=image/jpeg:https://mineralspringsbrewery.com/wp-content/uploads/2023/05/Pleasant-Grove-Pizza-FarmV2.jpg
END:VEVENT
BEGIN:VEVENT
DTSTART;TZID=America/Chicago:20230722T180000
DTEND;TZID=America/Chicago:20230722T200000
DTSTAMP:20260420T223046
CREATED:20230519T180338Z
LAST-MODIFIED:20230525T222433Z
UID:10002579-1690048800-1690056000@mineralspringsbrewery.com
SUMMARY:Family Affair
DESCRIPTION:
URL:https://mineralspringsbrewery.com/event/family-affair/
LOCATION:Mineral Springs Brewery\, 210 N Oak Ave\, Suite 1\, Owatonna\, MN\, 55060\, United States
CATEGORIES:Activities,Music
END:VEVENT
BEGIN:VEVENT
DTSTART;TZID=America/Chicago:20230722T120000
DTEND;TZID=America/Chicago:20230722T200000
DTSTAMP:20260420T223046
CREATED:20230519T175900Z
LAST-MODIFIED:20230526T195731Z
UID:10002578-1690027200-1690056000@mineralspringsbrewery.com
SUMMARY:Philly Station
DESCRIPTION:Philly Cheesesteaks so good you might find yourself cheering for the Eagles!
URL:https://mineralspringsbrewery.com/event/philly-station-7/
LOCATION:Mineral Springs Brewery\, 210 N Oak Ave\, Suite 1\, Owatonna\, MN\, 55060\, United States
CATEGORIES:Food Trucks
ATTACH;FMTTYPE=image/jpeg:https://mineralspringsbrewery.com/wp-content/uploads/2022/10/Philly-Station.jpg
END:VEVENT
BEGIN:VEVENT
DTSTART;TZID=America/Chicago:20230721T160000
DTEND;TZID=America/Chicago:20230721T200000
DTSTAMP:20260420T223046
CREATED:20230519T175816Z
LAST-MODIFIED:20230526T195722Z
UID:10002577-1689955200-1689969600@mineralspringsbrewery.com
SUMMARY:2 Cavemen Grill'in
DESCRIPTION:BBQ Wings\, Shrimp\, and Pulled Pork! Featuring Papa Eitel’s Sauces and Spices and Pine Island Meats!!
URL:https://mineralspringsbrewery.com/event/2-cavemen-grillin-2/
LOCATION:Mineral Springs Brewery\, 210 N Oak Ave\, Suite 1\, Owatonna\, MN\, 55060\, United States
CATEGORIES:Food Trucks
ATTACH;FMTTYPE=image/jpeg:https://mineralspringsbrewery.com/wp-content/uploads/2022/04/2-Cavemen-Grillin.jpg
END:VEVENT
BEGIN:VEVENT
DTSTART;TZID=America/Chicago:20230720T170000
DTEND;TZID=America/Chicago:20230720T170000
DTSTAMP:20260420T223046
CREATED:20230519T171851Z
LAST-MODIFIED:20230526T195057Z
UID:10001542-1689872400-1689872400@mineralspringsbrewery.com
SUMMARY:A Taste of the Big Apple Thursday Special
DESCRIPTION:We’re partnering with A Taste of the Big Apple to have their delicious pizzas delivered hot and fresh every half hour starting at 5:30pm! \n\n\n\nOrder your choice of large pizza at the bar and it will be delivered to your table \n\n\n\n\nCheese – $20\n\n\n\nSausage/Pepperoni – $21\n\n\n\nCombo – $23\n\n\n\nAdd MSB beer \n\nOne pour – $5\n\n\n\nTwo pours – $10\n\n\n\n\n\n\nBe sure to let our bartender know your order!
URL:https://mineralspringsbrewery.com/event/a-taste-of-the-big-apple-thursday-special-9/2023-07-20/
LOCATION:Mineral Springs Brewery\, 210 N Oak Ave\, Suite 1\, Owatonna\, MN\, 55060\, United States
CATEGORIES:Activities,Food Trucks
ATTACH;FMTTYPE=image/jpeg:https://mineralspringsbrewery.com/wp-content/uploads/2022/12/A-Taste-of-the-Big-Apple.jpg
END:VEVENT
BEGIN:VEVENT
DTSTART;TZID=America/Chicago:20230719T180000
DTEND;TZID=America/Chicago:20230719T180000
DTSTAMP:20260420T223046
CREATED:20230424T222632Z
LAST-MODIFIED:20250103T010113Z
UID:10002055-1689789600-1689789600@mineralspringsbrewery.com
SUMMARY:Trivia Night
DESCRIPTION:MSB Trivia Night!!
URL:https://mineralspringsbrewery.com/event/trivia-night-10/2023-07-19/
LOCATION:Mineral Springs Brewery\, 210 N Oak Ave\, Suite 1\, Owatonna\, MN\, 55060\, United States
CATEGORIES:Activities
ATTACH;FMTTYPE=image/png:https://mineralspringsbrewery.com/wp-content/uploads/2022/02/MSB-Trivia-Night.png
END:VEVENT
BEGIN:VEVENT
DTSTART;TZID=America/Chicago:20230719T170000
DTEND;TZID=America/Chicago:20230719T170000
DTSTAMP:20260420T223046
CREATED:20230418T155342Z
LAST-MODIFIED:20230526T200812Z
UID:10001799-1689786000-1689786000@mineralspringsbrewery.com
SUMMARY:Wag's Wednesday
DESCRIPTION:We’re partnering with Wagners Lunch Pool Hall to have their delicious burgers and fries delivered hot and fresh every half hour starting at 5:30pm! \n\n\n\nEach week\, you’ll have the choice between: \n\n\n\n\nDouble Cheeseburger with Fries & an MSB beer of choice for $13\n\n\n\nOr a Special Burger of the week that will rotate from week to week with Fries and an MSB beer of choice for $15\n\n\n\n\nBe sure to let our bartender know your order!
URL:https://mineralspringsbrewery.com/event/wags-wednesday-7/2023-07-19/
LOCATION:Mineral Springs Brewery\, 210 N Oak Ave\, Suite 1\, Owatonna\, MN\, 55060\, United States
CATEGORIES:Food Trucks
ATTACH;FMTTYPE=image/jpeg:https://mineralspringsbrewery.com/wp-content/uploads/2022/10/Wags-Wednesdays.jpeg
END:VEVENT
BEGIN:VEVENT
DTSTART;TZID=America/Chicago:20230716T150000
DTEND;TZID=America/Chicago:20230716T150000
DTSTAMP:20260420T223046
CREATED:20221209T234308Z
LAST-MODIFIED:20230526T200437Z
UID:10002311-1689519600-1689519600@mineralspringsbrewery.com
SUMMARY:MSBGO
DESCRIPTION:On Sundays\, we’ll be hosting a free and fun game of chance! Come on down to play along and win FREE BEER!
URL:https://mineralspringsbrewery.com/event/msbgo-28/2023-07-16/
LOCATION:Mineral Springs Brewery\, 210 N Oak Ave\, Suite 1\, Owatonna\, MN\, 55060\, United States
CATEGORIES:Activities
ATTACH;FMTTYPE=image/png:https://mineralspringsbrewery.com/wp-content/uploads/2022/04/Bingo.png
END:VEVENT
BEGIN:VEVENT
DTSTART;TZID=America/Chicago:20230715T183000
DTEND;TZID=America/Chicago:20230715T203000
DTSTAMP:20260420T223046
CREATED:20230518T170700Z
LAST-MODIFIED:20230525T222419Z
UID:10001527-1689445800-1689453000@mineralspringsbrewery.com
SUMMARY:Ron & Steve Unplugged
DESCRIPTION:GOOD TUNES\, BAD JOKES! Ron and Steve perform music from the 50’s-80’s covering the oldies\, classic rock\, pop\, and more!
URL:https://mineralspringsbrewery.com/event/ron-steve-unplugged-2/
LOCATION:Mineral Springs Brewery\, 210 N Oak Ave\, Suite 1\, Owatonna\, MN\, 55060\, United States
CATEGORIES:Activities,Music
ATTACH;FMTTYPE=image/jpeg:https://mineralspringsbrewery.com/wp-content/uploads/2022/04/Ron-and-Steve-Unplugged.jpg
END:VEVENT
BEGIN:VEVENT
DTSTART;TZID=America/Chicago:20230715T120000
DTEND;TZID=America/Chicago:20230715T200000
DTSTAMP:20260420T223046
CREATED:20230519T175743Z
LAST-MODIFIED:20230526T195712Z
UID:10002576-1689422400-1689451200@mineralspringsbrewery.com
SUMMARY:Pleasant Grove Pizza Farm
DESCRIPTION:Pleasant Grove Pizza Farm brings over a fresh harvest of the best pizzas grown locally!
URL:https://mineralspringsbrewery.com/event/pleasant-grove-pizza-farm-6/
LOCATION:Mineral Springs Brewery\, 210 N Oak Ave\, Suite 1\, Owatonna\, MN\, 55060\, United States
CATEGORIES:Food Trucks
ATTACH;FMTTYPE=image/jpeg:https://mineralspringsbrewery.com/wp-content/uploads/2023/05/Pleasant-Grove-Pizza-FarmV2.jpg
END:VEVENT
BEGIN:VEVENT
DTSTART;TZID=America/Chicago:20230714T180000
DTEND;TZID=America/Chicago:20230714T200000
DTSTAMP:20260420T223046
CREATED:20230518T170628Z
LAST-MODIFIED:20230525T222405Z
UID:10001526-1689357600-1689364800@mineralspringsbrewery.com
SUMMARY:Fred the Bear
DESCRIPTION:Fred the Bear is a classic rock/alternative band known for their rich harmonies\, emotive dynamics and original songs. FTB’s music reflects on life’s promises and disappointments through personal crafted lyrics and driving rhythms.  Mixed within their originals is a blend of music from other Midwest artists\, currently touring groups and classic bands.  \n\n\n\nTheir name and their drive for a great live sound is a tribute to Bruce “Fred the Bear” Eschler.  At his bar\, the “Bear’s Den”\, you could always count on a stiff drink and one heck of a party\, with the music crankin’ all night.  So they play tribute to the man who provided them a first glimpse into the true energy of live music …. Fred the Bear.
URL:https://mineralspringsbrewery.com/event/fred-the-bear-2/
LOCATION:Mineral Springs Brewery\, 210 N Oak Ave\, Suite 1\, Owatonna\, MN\, 55060\, United States
CATEGORIES:Activities,Music
ATTACH;FMTTYPE=image/jpeg:https://mineralspringsbrewery.com/wp-content/uploads/2022/04/Fred-the-Bear-scaled.jpg
END:VEVENT
END:VCALENDAR