BEGIN:VCALENDAR
VERSION:2.0
PRODID:-//Mineral Springs Brewery - ECPv6.15.20//NONSGML v1.0//EN
CALSCALE:GREGORIAN
METHOD:PUBLISH
X-WR-CALNAME:Mineral Springs Brewery
X-ORIGINAL-URL:https://mineralspringsbrewery.com
X-WR-CALDESC:Events for Mineral Springs Brewery
REFRESH-INTERVAL;VALUE=DURATION:PT1H
X-Robots-Tag:noindex
X-PUBLISHED-TTL:PT1H
BEGIN:VTIMEZONE
TZID:America/Chicago
BEGIN:DAYLIGHT
TZOFFSETFROM:-0600
TZOFFSETTO:-0500
TZNAME:CDT
DTSTART:20220313T080000
END:DAYLIGHT
BEGIN:STANDARD
TZOFFSETFROM:-0500
TZOFFSETTO:-0600
TZNAME:CST
DTSTART:20221106T070000
END:STANDARD
BEGIN:DAYLIGHT
TZOFFSETFROM:-0600
TZOFFSETTO:-0500
TZNAME:CDT
DTSTART:20230312T080000
END:DAYLIGHT
BEGIN:STANDARD
TZOFFSETFROM:-0500
TZOFFSETTO:-0600
TZNAME:CST
DTSTART:20231105T070000
END:STANDARD
BEGIN:DAYLIGHT
TZOFFSETFROM:-0600
TZOFFSETTO:-0500
TZNAME:CDT
DTSTART:20240310T080000
END:DAYLIGHT
BEGIN:STANDARD
TZOFFSETFROM:-0500
TZOFFSETTO:-0600
TZNAME:CST
DTSTART:20241103T070000
END:STANDARD
END:VTIMEZONE
BEGIN:VEVENT
DTSTART;TZID=America/Chicago:20230701T120000
DTEND;TZID=America/Chicago:20230701T200000
DTSTAMP:20260421T023910
CREATED:20230519T173239Z
LAST-MODIFIED:20230526T195619Z
UID:10002570-1688212800-1688241600@mineralspringsbrewery.com
SUMMARY:2 Cavemen Grill'in
DESCRIPTION:BBQ Wings\, Shrimp\, and Pulled Pork! Featuring Papa Eitel’s Sauces and Spices and Pine Island Meats!!
URL:https://mineralspringsbrewery.com/event/2-cavemen-grillin/
LOCATION:Mineral Springs Brewery\, 210 N Oak Ave\, Suite 1\, Owatonna\, MN\, 55060\, United States
CATEGORIES:Food Trucks
ATTACH;FMTTYPE=image/jpeg:https://mineralspringsbrewery.com/wp-content/uploads/2022/04/2-Cavemen-Grillin.jpg
END:VEVENT
BEGIN:VEVENT
DTSTART;TZID=America/Chicago:20230630T173000
DTEND;TZID=America/Chicago:20230630T193000
DTSTAMP:20260421T023910
CREATED:20230518T165916Z
LAST-MODIFIED:20230620T225153Z
UID:10001524-1688146200-1688153400@mineralspringsbrewery.com
SUMMARY:Jeff Reinartz
DESCRIPTION:Jeff Reinartz is a singer/songwriter from  Austin\, Minnesota. He’s been performing live for over 30 years and is a veteran of several bands. He is now a solo acoustic performer and has released two EPs that were produced by Scotty Rohr at Zension Studio in Austin. \n\n\n\n\nI believe that we’re here to use our talents and abilities to the benefit of others\, so after 22 years in the corporate world with a Fortune 300 company\, I resigned in 2019 to pursue my music interests full time. I didn’t necessarily count on a global pandemic\, but as things have loosened up I’ve been able to play more and more\, doing acoustic shows at primarily breweries and wineries in Southern Minnesota and Northern Iowa\, and building a small following organically.” \nJeff Reinartz
URL:https://mineralspringsbrewery.com/event/jeff-reinartz-6/
LOCATION:Mineral Springs Brewery\, 210 N Oak Ave\, Suite 1\, Owatonna\, MN\, 55060\, United States
CATEGORIES:Activities,Music
ATTACH;FMTTYPE=image/jpeg:https://mineralspringsbrewery.com/wp-content/uploads/2022/04/Jeff-Reinartz-scaled.jpg
END:VEVENT
BEGIN:VEVENT
DTSTART;TZID=America/Chicago:20230630T160000
DTEND;TZID=America/Chicago:20230630T200000
DTSTAMP:20260421T023910
CREATED:20230519T173058Z
LAST-MODIFIED:20230526T195602Z
UID:10002568-1688140800-1688155200@mineralspringsbrewery.com
SUMMARY:Pleasant Grove Pizza Farm
DESCRIPTION:Pleasant Grove Pizza Farm brings over a fresh harvest of the best pizzas grown locally!
URL:https://mineralspringsbrewery.com/event/pleasant-grove-pizza-farm-5/
LOCATION:Mineral Springs Brewery\, 210 N Oak Ave\, Suite 1\, Owatonna\, MN\, 55060\, United States
CATEGORIES:Food Trucks
ATTACH;FMTTYPE=image/jpeg:https://mineralspringsbrewery.com/wp-content/uploads/2023/05/Pleasant-Grove-Pizza-FarmV2.jpg
END:VEVENT
BEGIN:VEVENT
DTSTART;TZID=America/Chicago:20230630T000000
DTEND;TZID=America/Chicago:20230630T235959
DTSTAMP:20260421T023910
CREATED:20230419T005414Z
LAST-MODIFIED:20230525T221655Z
UID:10002564-1688083200-1688169599@mineralspringsbrewery.com
SUMMARY:Final(ly) Friday
DESCRIPTION:Join us for the last Friday of every month through September to kick off the weekend! We’ll have live music and a fan-favorite food truck on site! The perfect end to the week and the month with something for the whole family!
URL:https://mineralspringsbrewery.com/event/finally-friday-2/2023-06-30/
LOCATION:Mineral Springs Brewery\, 210 N Oak Ave\, Suite 1\, Owatonna\, MN\, 55060\, United States
CATEGORIES:Activities
ATTACH;FMTTYPE=image/png:https://mineralspringsbrewery.com/wp-content/uploads/2023/02/0AC096FB-5A0E-4FA8-B869-C385FF518D16.png
END:VEVENT
BEGIN:VEVENT
DTSTART;TZID=America/Chicago:20230629T170000
DTEND;TZID=America/Chicago:20230629T170000
DTSTAMP:20260421T023910
CREATED:20230519T171851Z
LAST-MODIFIED:20230526T195057Z
UID:10001539-1688058000-1688058000@mineralspringsbrewery.com
SUMMARY:A Taste of the Big Apple Thursday Special
DESCRIPTION:We’re partnering with A Taste of the Big Apple to have their delicious pizzas delivered hot and fresh every half hour starting at 5:30pm! \n\n\n\nOrder your choice of large pizza at the bar and it will be delivered to your table \n\n\n\n\nCheese – $20\n\n\n\nSausage/Pepperoni – $21\n\n\n\nCombo – $23\n\n\n\nAdd MSB beer \n\nOne pour – $5\n\n\n\nTwo pours – $10\n\n\n\n\n\n\nBe sure to let our bartender know your order!
URL:https://mineralspringsbrewery.com/event/a-taste-of-the-big-apple-thursday-special-9/2023-06-29/
LOCATION:Mineral Springs Brewery\, 210 N Oak Ave\, Suite 1\, Owatonna\, MN\, 55060\, United States
CATEGORIES:Activities,Food Trucks
ATTACH;FMTTYPE=image/jpeg:https://mineralspringsbrewery.com/wp-content/uploads/2022/12/A-Taste-of-the-Big-Apple.jpg
END:VEVENT
BEGIN:VEVENT
DTSTART;TZID=America/Chicago:20230628T180000
DTEND;TZID=America/Chicago:20230628T180000
DTSTAMP:20260421T023910
CREATED:20230424T222632Z
LAST-MODIFIED:20250103T010113Z
UID:10002052-1687975200-1687975200@mineralspringsbrewery.com
SUMMARY:Trivia Night
DESCRIPTION:MSB Trivia Night!!
URL:https://mineralspringsbrewery.com/event/trivia-night-10/2023-06-28/
LOCATION:Mineral Springs Brewery\, 210 N Oak Ave\, Suite 1\, Owatonna\, MN\, 55060\, United States
CATEGORIES:Activities
ATTACH;FMTTYPE=image/png:https://mineralspringsbrewery.com/wp-content/uploads/2022/02/MSB-Trivia-Night.png
END:VEVENT
BEGIN:VEVENT
DTSTART;TZID=America/Chicago:20230628T170000
DTEND;TZID=America/Chicago:20230628T170000
DTSTAMP:20260421T023910
CREATED:20230627T120029Z
LAST-MODIFIED:20230627T120352Z
UID:10001796-1687971600-1687971600@mineralspringsbrewery.com
SUMMARY:Wag's Wednesday
DESCRIPTION:We’re partnering with Wagners Lunch Pool Hall to have their delicious burgers and fries delivered hot and fresh every half hour starting at 5:30pm! \n\n\n\nEach week\, you’ll have the choice between: \n\n\n\n\nDouble Cheeseburger with Fries & an MSB beer of choice for $13\n\n\n\nOr a Special Burger of the week\, this week being their renowned Wageggster\, with Fries and an MSB beer of choice for $15\n\n\n\n\nBe sure to let our bartender know your order!
URL:https://mineralspringsbrewery.com/event/wags-wednesday-8/
LOCATION:Mineral Springs Brewery\, 210 N Oak Ave\, Suite 1\, Owatonna\, MN\, 55060\, United States
CATEGORIES:Food Trucks
ATTACH;FMTTYPE=image/jpeg:https://mineralspringsbrewery.com/wp-content/uploads/2022/10/Wags-Wednesdays.jpeg
END:VEVENT
BEGIN:VEVENT
DTSTART;TZID=America/Chicago:20230625T150000
DTEND;TZID=America/Chicago:20230625T150000
DTSTAMP:20260421T023910
CREATED:20221209T234308Z
LAST-MODIFIED:20230526T200437Z
UID:10002308-1687705200-1687705200@mineralspringsbrewery.com
SUMMARY:MSBGO
DESCRIPTION:On Sundays\, we’ll be hosting a free and fun game of chance! Come on down to play along and win FREE BEER!
URL:https://mineralspringsbrewery.com/event/msbgo-28/2023-06-25/
LOCATION:Mineral Springs Brewery\, 210 N Oak Ave\, Suite 1\, Owatonna\, MN\, 55060\, United States
CATEGORIES:Activities
ATTACH;FMTTYPE=image/png:https://mineralspringsbrewery.com/wp-content/uploads/2022/04/Bingo.png
END:VEVENT
BEGIN:VEVENT
DTSTART;TZID=America/Chicago:20230624T180000
DTEND;TZID=America/Chicago:20230624T210000
DTSTAMP:20260421T023910
CREATED:20230619T210319Z
LAST-MODIFIED:20230624T131633Z
UID:10002620-1687629600-1687640400@mineralspringsbrewery.com
SUMMARY:Bryce Leppert
DESCRIPTION:Bryce is back at MSB just ahead of the release of his second single\, out on June 30th!
URL:https://mineralspringsbrewery.com/event/bryce-leppert-3/
LOCATION:MN
CATEGORIES:Activities,Music
ATTACH;FMTTYPE=image/jpeg:https://mineralspringsbrewery.com/wp-content/uploads/2022/10/276199980_10223005528240734_6320631257148713268_n.jpg
END:VEVENT
BEGIN:VEVENT
DTSTART;TZID=America/Chicago:20230624T160000
DTEND;TZID=America/Chicago:20230624T180000
DTSTAMP:20260421T023910
CREATED:20230518T165418Z
LAST-MODIFIED:20230624T131557Z
UID:10001522-1687622400-1687629600@mineralspringsbrewery.com
SUMMARY:Travis Thamert
DESCRIPTION:Travis has been nominated as New Artist of the year in 2020 at the MWCMO’s. He’d climbed through a few key audition rounds on NBC The Voice back in 2014.
URL:https://mineralspringsbrewery.com/event/travis-thamert-2/
LOCATION:Mineral Springs Brewery\, 210 N Oak Ave\, Suite 1\, Owatonna\, MN\, 55060\, United States
CATEGORIES:Activities,Music
ATTACH;FMTTYPE=image/webp:https://mineralspringsbrewery.com/wp-content/uploads/2022/09/Travis-Thamert.webp
END:VEVENT
BEGIN:VEVENT
DTSTART;TZID=America/Chicago:20230624T120000
DTEND;TZID=America/Chicago:20230624T200000
DTSTAMP:20260421T023910
CREATED:20230519T171025Z
LAST-MODIFIED:20230526T195552Z
UID:10001538-1687608000-1687636800@mineralspringsbrewery.com
SUMMARY:Pleasant Grove Pizza Farm
DESCRIPTION:Pleasant Grove Pizza Farm brings over a fresh harvest of the best pizzas grown locally!
URL:https://mineralspringsbrewery.com/event/pleasant-grove-pizza-farm-4/
LOCATION:Mineral Springs Brewery\, 210 N Oak Ave\, Suite 1\, Owatonna\, MN\, 55060\, United States
CATEGORIES:Food Trucks
ATTACH;FMTTYPE=image/jpeg:https://mineralspringsbrewery.com/wp-content/uploads/2023/05/Pleasant-Grove-Pizza-FarmV2.jpg
END:VEVENT
BEGIN:VEVENT
DTSTART;TZID=America/Chicago:20230624T120000
DTEND;TZID=America/Chicago:20230624T200000
DTSTAMP:20260421T023910
CREATED:20230519T170832Z
LAST-MODIFIED:20230526T195542Z
UID:10001537-1687608000-1687636800@mineralspringsbrewery.com
SUMMARY:Northwoods Smokehouse
DESCRIPTION:Northwoods Smokehouse is a BBQ Food Trailer specializing in Texas craft BBQ focusing on pork\, chicken\, beef and gourmet sides.
URL:https://mineralspringsbrewery.com/event/northwoods-smokehouse-12/
LOCATION:Mineral Springs Brewery\, 210 N Oak Ave\, Suite 1\, Owatonna\, MN\, 55060\, United States
CATEGORIES:Food Trucks
ATTACH;FMTTYPE=image/jpeg:https://mineralspringsbrewery.com/wp-content/uploads/2022/08/Northwoods-Smokehouse.jpg
END:VEVENT
BEGIN:VEVENT
DTSTART;TZID=America/Chicago:20230624T120000
DTEND;TZID=America/Chicago:20230624T200000
DTSTAMP:20260421T023910
CREATED:20230519T170751Z
LAST-MODIFIED:20230526T195532Z
UID:10001536-1687608000-1687636800@mineralspringsbrewery.com
SUMMARY:Evan's Eatery
DESCRIPTION:With a focus on quality and friendliness\, along with their signature chipotle aioli sauce\, Evan’s is southern Minnesota’s premier burger truck.
URL:https://mineralspringsbrewery.com/event/evans-eatery-9/
LOCATION:Mineral Springs Brewery\, 210 N Oak Ave\, Suite 1\, Owatonna\, MN\, 55060\, United States
CATEGORIES:Food Trucks
ATTACH;FMTTYPE=image/jpeg:https://mineralspringsbrewery.com/wp-content/uploads/2021/01/Evans-New-Truck.jpg
END:VEVENT
BEGIN:VEVENT
DTSTART;TZID=America/Chicago:20230624T115900
DTEND;TZID=America/Chicago:20230624T220000
DTSTAMP:20260421T023910
CREATED:20230613T035318Z
LAST-MODIFIED:20230619T210804Z
UID:10002618-1687607940-1687644000@mineralspringsbrewery.com
SUMMARY:Food Truck Festival
DESCRIPTION:We’ve got all the fan favorite food options on one night! \n\n\n\nIncluded in that food lineup is: \n\n\n\n\nEvan’s Eatery\n\n\n\nNorthwoods Smokehouse\n\n\n\nPleasant Grove Pizza Farm\n\n\n\n\nOn top of all the food\, we’ve got the incredible Travis Thamert & Bryce Leppert performing live!
URL:https://mineralspringsbrewery.com/event/food-truck-festival/
LOCATION:Mineral Springs Brewery\, 210 N Oak Ave\, Suite 1\, Owatonna\, MN\, 55060\, United States
CATEGORIES:Activities,Food Trucks,Music
ATTACH;FMTTYPE=image/png:https://mineralspringsbrewery.com/wp-content/uploads/2023/06/Frstival-7.png
END:VEVENT
BEGIN:VEVENT
DTSTART;TZID=America/Chicago:20230624T110000
DTEND;TZID=America/Chicago:20230624T110000
DTSTAMP:20260421T023910
CREATED:20230519T203622Z
LAST-MODIFIED:20230526T195132Z
UID:10002612-1687604400-1687604400@mineralspringsbrewery.com
SUMMARY:0.5k Beer Run
DESCRIPTION:We here at MSB are big into running*very short distances That’s why we’ve partnered with OACCT Young Professionals in support of the Steele County Humane Society to bring you our very first 0.5k Beer Run!  \n\n\n\nThis 0.5k is a unique event that offers a fun and laid-back atmosphere for participants. Whether you are a seasoned runner or simply want to have a good time\, this event is perfect for you. The best part? All proceeds from the event will go towards the Steele County Humane Society. \n\n\n\nWe encourage you to bring your friends and family along to enjoy the festivities. There will be food trucks and drinks available for purchase\, and plenty of opportunities to socialize and have fun. No need to be a member of Y-Pro to join in!
URL:https://mineralspringsbrewery.com/event/0-5k-beer-run/
LOCATION:Mineral Springs Brewery\, 210 N Oak Ave\, Suite 1\, Owatonna\, MN\, 55060\, United States
CATEGORIES:Activities
ATTACH;FMTTYPE=image/png:https://mineralspringsbrewery.com/wp-content/uploads/2023/05/0.5K-Shirt-Logo-Blue.png
END:VEVENT
BEGIN:VEVENT
DTSTART;TZID=America/Chicago:20230623T160000
DTEND;TZID=America/Chicago:20230623T200000
DTSTAMP:20260421T023910
CREATED:20230619T213918Z
LAST-MODIFIED:20230619T214039Z
UID:10002621-1687536000-1687550400@mineralspringsbrewery.com
SUMMARY:Wiste's Meat Market
DESCRIPTION:Wiste’s Meat Market has it’s roots in nearby Janesville\, MN\, where they’ve been in busy since 1922! The Wiste Meat Market hasn’t been voted the best meat market in southern Minnesota for nothing. They’re very popular for their smoked goods and beef jerky. They’ve also created a renowned Tri-tip seasoning you can’t get anywhere else. \n\n\n\nThey’ve taken all that makes them great and made it mobile! Their specialty item\, the Tri-tip Philly Cheesesteak (seen below) will make it’s first appearance at MSB\, but we already know it won’t be the last! \n\n\n\n\n\n\n\n\n\n\nTri-tip Philly Cheesesteak\, a Wiste’s Meat Market specialty!\n\n\n\nWiste’s Meat Market’s new food truck!
URL:https://mineralspringsbrewery.com/event/wistes-meat-market/
LOCATION:MN
CATEGORIES:Food Trucks
ATTACH;FMTTYPE=image/jpeg:https://mineralspringsbrewery.com/wp-content/uploads/2023/06/Wistes-Meat-Market-Logo.jpg
END:VEVENT
BEGIN:VEVENT
DTSTART;TZID=America/Chicago:20230623T160000
DTEND;TZID=America/Chicago:20230623T200000
DTSTAMP:20260421T023910
CREATED:20230519T170606Z
LAST-MODIFIED:20230619T223724Z
UID:10001535-1687536000-1687550400@mineralspringsbrewery.com
SUMMARY:Canceled - El Samurai Teppanyaki
DESCRIPTION:
URL:https://mineralspringsbrewery.com/event/el-samurai-teppanyaki-2/
LOCATION:Mineral Springs Brewery\, 210 N Oak Ave\, Suite 1\, Owatonna\, MN\, 55060\, United States
CATEGORIES:Food Trucks
ATTACH;FMTTYPE=image/jpeg:https://mineralspringsbrewery.com/wp-content/uploads/2023/01/Samurai-Teppanyaki-Rochester.jpg
END:VEVENT
BEGIN:VEVENT
DTSTART;TZID=America/Chicago:20230622T160000
DTEND;TZID=America/Chicago:20230622T200000
DTSTAMP:20260421T023910
CREATED:20230519T170210Z
LAST-MODIFIED:20230526T195431Z
UID:10001534-1687449600-1687464000@mineralspringsbrewery.com
SUMMARY:Blake's BETtor Spread
DESCRIPTION:Blake’s BETtor spread offers a variety of items catering to your likings in a fast-paced setting. Blake’s BETtor Spread offers everything from Cowboy Tacos\, to Wings\, to Cheese Curds!
URL:https://mineralspringsbrewery.com/event/blakes-bettor-spread/
LOCATION:Mineral Springs Brewery\, 210 N Oak Ave\, Suite 1\, Owatonna\, MN\, 55060\, United States
CATEGORIES:Food Trucks
ATTACH;FMTTYPE=image/jpeg:https://mineralspringsbrewery.com/wp-content/uploads/2023/05/Blakes-Bettor-Spread.jpg
END:VEVENT
BEGIN:VEVENT
DTSTART;TZID=America/Chicago:20230621T180000
DTEND;TZID=America/Chicago:20230621T180000
DTSTAMP:20260421T023910
CREATED:20230424T222632Z
LAST-MODIFIED:20250103T010113Z
UID:10001507-1687370400-1687370400@mineralspringsbrewery.com
SUMMARY:Trivia Night
DESCRIPTION:MSB Trivia Night!!
URL:https://mineralspringsbrewery.com/event/trivia-night-10/2023-06-21/
LOCATION:Mineral Springs Brewery\, 210 N Oak Ave\, Suite 1\, Owatonna\, MN\, 55060\, United States
CATEGORIES:Activities
ATTACH;FMTTYPE=image/png:https://mineralspringsbrewery.com/wp-content/uploads/2022/02/MSB-Trivia-Night.png
END:VEVENT
BEGIN:VEVENT
DTSTART;TZID=America/Chicago:20230621T170000
DTEND;TZID=America/Chicago:20230621T170000
DTSTAMP:20260421T023910
CREATED:20230418T155342Z
LAST-MODIFIED:20230526T200812Z
UID:10001795-1687366800-1687366800@mineralspringsbrewery.com
SUMMARY:Wag's Wednesday
DESCRIPTION:We’re partnering with Wagners Lunch Pool Hall to have their delicious burgers and fries delivered hot and fresh every half hour starting at 5:30pm! \n\n\n\nEach week\, you’ll have the choice between: \n\n\n\n\nDouble Cheeseburger with Fries & an MSB beer of choice for $13\n\n\n\nOr a Special Burger of the week that will rotate from week to week with Fries and an MSB beer of choice for $15\n\n\n\n\nBe sure to let our bartender know your order!
URL:https://mineralspringsbrewery.com/event/wags-wednesday-7/2023-06-21/
LOCATION:Mineral Springs Brewery\, 210 N Oak Ave\, Suite 1\, Owatonna\, MN\, 55060\, United States
CATEGORIES:Food Trucks
ATTACH;FMTTYPE=image/jpeg:https://mineralspringsbrewery.com/wp-content/uploads/2022/10/Wags-Wednesdays.jpeg
END:VEVENT
BEGIN:VEVENT
DTSTART;TZID=America/Chicago:20230620T000000
DTEND;TZID=America/Chicago:20230620T235959
DTSTAMP:20260421T023910
CREATED:20230614T002448Z
LAST-MODIFIED:20230614T002450Z
UID:10002619-1687219200-1687305599@mineralspringsbrewery.com
SUMMARY:Dog Happy Hour
DESCRIPTION:Join us (and our fur-iends!) for our first ever Dog Happy Hour! \n\n\n\nBring your four-legged friend and your first beer is a BOGO!
URL:https://mineralspringsbrewery.com/event/dog-happy-hour/
LOCATION:Mineral Springs Brewery\, 210 N Oak Ave\, Suite 1\, Owatonna\, MN\, 55060\, United States
CATEGORIES:Activities
ATTACH;FMTTYPE=image/png:https://mineralspringsbrewery.com/wp-content/uploads/2023/06/happy.png
END:VEVENT
BEGIN:VEVENT
DTSTART;TZID=America/Chicago:20230618T150000
DTEND;TZID=America/Chicago:20230618T150000
DTSTAMP:20260421T023910
CREATED:20221209T234308Z
LAST-MODIFIED:20230526T200437Z
UID:10001498-1687100400-1687100400@mineralspringsbrewery.com
SUMMARY:MSBGO
DESCRIPTION:On Sundays\, we’ll be hosting a free and fun game of chance! Come on down to play along and win FREE BEER!
URL:https://mineralspringsbrewery.com/event/msbgo-28/2023-06-18/
LOCATION:Mineral Springs Brewery\, 210 N Oak Ave\, Suite 1\, Owatonna\, MN\, 55060\, United States
CATEGORIES:Activities
ATTACH;FMTTYPE=image/png:https://mineralspringsbrewery.com/wp-content/uploads/2022/04/Bingo.png
END:VEVENT
BEGIN:VEVENT
DTSTART;TZID=America/Chicago:20230617T120000
DTEND;TZID=America/Chicago:20230617T200000
DTSTAMP:20260421T023910
CREATED:20230518T165239Z
LAST-MODIFIED:20230526T195421Z
UID:10001521-1687003200-1687032000@mineralspringsbrewery.com
SUMMARY:Philly Station
DESCRIPTION:Philly Cheesesteaks so good you might find yourself cheering for the Eagles!
URL:https://mineralspringsbrewery.com/event/philly-station-6/
LOCATION:Mineral Springs Brewery\, 210 N Oak Ave\, Suite 1\, Owatonna\, MN\, 55060\, United States
CATEGORIES:Food Trucks
ATTACH;FMTTYPE=image/jpeg:https://mineralspringsbrewery.com/wp-content/uploads/2022/10/Philly-Station.jpg
END:VEVENT
BEGIN:VEVENT
DTSTART;TZID=America/Chicago:20230616T180000
DTEND;TZID=America/Chicago:20230616T200000
DTSTAMP:20260421T023910
CREATED:20230519T165909Z
LAST-MODIFIED:20230525T222132Z
UID:10001533-1686938400-1686945600@mineralspringsbrewery.com
SUMMARY:The Space Force
DESCRIPTION:THE SPACE FORCE are a buncha dudes playing songs that were overplayed way before they were born.
URL:https://mineralspringsbrewery.com/event/the-space-force/
LOCATION:Mineral Springs Brewery\, 210 N Oak Ave\, Suite 1\, Owatonna\, MN\, 55060\, United States
CATEGORIES:Activities,Music
ATTACH;FMTTYPE=image/jpeg:https://mineralspringsbrewery.com/wp-content/uploads/2022/04/The-Space-Force-Logo.jpg
END:VEVENT
BEGIN:VEVENT
DTSTART;TZID=America/Chicago:20230616T160000
DTEND;TZID=America/Chicago:20230616T200000
DTSTAMP:20260421T023910
CREATED:20230519T165454Z
LAST-MODIFIED:20230526T195400Z
UID:10001532-1686931200-1686945600@mineralspringsbrewery.com
SUMMARY:Peppers & Fries
DESCRIPTION:Steve Frias (a.k.a “Fries”) grew up in a restaurant. Boca Chica Restaurante in St. Paul\, opened almost 60 years ago by his parents\, Guillermo and Gloria Frias\, is where Steve learned his craft. Today the Peppers & Fries burritos are made the same way Steve’s mom and dad taught him. Steve is famous for saying\, “Everything tastes better in a tortilla.”  \n\n\n\nSteve has a second food love: hamburgers. Steve appreciates burgers of all kinds\, but his favorite is the classic COLT burger – a big\, juicy patty smothered in Cheese and topped with Onion\, Lettuce\, and Tomato\, nestled between two fluffy buns.
URL:https://mineralspringsbrewery.com/event/peppers-fries-3/
LOCATION:Mineral Springs Brewery\, 210 N Oak Ave\, Suite 1\, Owatonna\, MN\, 55060\, United States
CATEGORIES:Food Trucks
ATTACH;FMTTYPE=image/jpeg:https://mineralspringsbrewery.com/wp-content/uploads/2023/02/Peppers-Fries-Food-Truck.jpg
END:VEVENT
BEGIN:VEVENT
DTSTART;TZID=America/Chicago:20230615T163000
DTEND;TZID=America/Chicago:20230615T200000
DTSTAMP:20260421T023910
CREATED:20230519T165149Z
LAST-MODIFIED:20230526T195351Z
UID:10001531-1686846600-1686859200@mineralspringsbrewery.com
SUMMARY:El Rey Del Taco
DESCRIPTION:El Rey Del Taco truly is the king of tacos! Food is always fresh and salsa is made daily!
URL:https://mineralspringsbrewery.com/event/el-rey-del-taco-2/
LOCATION:Mineral Springs Brewery\, 210 N Oak Ave\, Suite 1\, Owatonna\, MN\, 55060\, United States
CATEGORIES:Food Trucks
ATTACH;FMTTYPE=image/jpeg:https://mineralspringsbrewery.com/wp-content/uploads/2022/03/elReydelTaco.jpg
END:VEVENT
BEGIN:VEVENT
DTSTART;TZID=America/Chicago:20230614T180000
DTEND;TZID=America/Chicago:20230614T180000
DTSTAMP:20260421T023910
CREATED:20230424T222632Z
LAST-MODIFIED:20250103T010113Z
UID:10001506-1686765600-1686765600@mineralspringsbrewery.com
SUMMARY:Trivia Night
DESCRIPTION:MSB Trivia Night!!
URL:https://mineralspringsbrewery.com/event/trivia-night-10/2023-06-14/
LOCATION:Mineral Springs Brewery\, 210 N Oak Ave\, Suite 1\, Owatonna\, MN\, 55060\, United States
CATEGORIES:Activities
ATTACH;FMTTYPE=image/png:https://mineralspringsbrewery.com/wp-content/uploads/2022/02/MSB-Trivia-Night.png
END:VEVENT
BEGIN:VEVENT
DTSTART;TZID=America/Chicago:20230614T170000
DTEND;TZID=America/Chicago:20230614T170000
DTSTAMP:20260421T023910
CREATED:20230418T155342Z
LAST-MODIFIED:20230526T200812Z
UID:10001454-1686762000-1686762000@mineralspringsbrewery.com
SUMMARY:Wag's Wednesday
DESCRIPTION:We’re partnering with Wagners Lunch Pool Hall to have their delicious burgers and fries delivered hot and fresh every half hour starting at 5:30pm! \n\n\n\nEach week\, you’ll have the choice between: \n\n\n\n\nDouble Cheeseburger with Fries & an MSB beer of choice for $13\n\n\n\nOr a Special Burger of the week that will rotate from week to week with Fries and an MSB beer of choice for $15\n\n\n\n\nBe sure to let our bartender know your order!
URL:https://mineralspringsbrewery.com/event/wags-wednesday-7/2023-06-14/
LOCATION:Mineral Springs Brewery\, 210 N Oak Ave\, Suite 1\, Owatonna\, MN\, 55060\, United States
CATEGORIES:Food Trucks
ATTACH;FMTTYPE=image/jpeg:https://mineralspringsbrewery.com/wp-content/uploads/2022/10/Wags-Wednesdays.jpeg
END:VEVENT
BEGIN:VEVENT
DTSTART;TZID=America/Chicago:20230611T150000
DTEND;TZID=America/Chicago:20230611T150000
DTSTAMP:20260421T023910
CREATED:20221209T234308Z
LAST-MODIFIED:20230526T200437Z
UID:10001497-1686495600-1686495600@mineralspringsbrewery.com
SUMMARY:MSBGO
DESCRIPTION:On Sundays\, we’ll be hosting a free and fun game of chance! Come on down to play along and win FREE BEER!
URL:https://mineralspringsbrewery.com/event/msbgo-28/2023-06-11/
LOCATION:Mineral Springs Brewery\, 210 N Oak Ave\, Suite 1\, Owatonna\, MN\, 55060\, United States
CATEGORIES:Activities
ATTACH;FMTTYPE=image/png:https://mineralspringsbrewery.com/wp-content/uploads/2022/04/Bingo.png
END:VEVENT
BEGIN:VEVENT
DTSTART;TZID=America/Chicago:20230610T183000
DTEND;TZID=America/Chicago:20230610T203000
DTSTAMP:20260421T023910
CREATED:20230518T163501Z
LAST-MODIFIED:20230525T222113Z
UID:10001520-1686421800-1686429000@mineralspringsbrewery.com
SUMMARY:Shasta Kings
DESCRIPTION:The Shasta Kings are Scott Rogness (guitar/lead vocals) and Bruce Watts (guitars/vocals) playing a wide variety of songs from classic rock to new country.
URL:https://mineralspringsbrewery.com/event/shasta-kings/
LOCATION:Mineral Springs Brewery\, 210 N Oak Ave\, Suite 1\, Owatonna\, MN\, 55060\, United States
CATEGORIES:Activities,Music
ATTACH;FMTTYPE=image/jpeg:https://mineralspringsbrewery.com/wp-content/uploads/2022/06/Shasta-Kings.jpg
END:VEVENT
END:VCALENDAR