BEGIN:VCALENDAR
VERSION:2.0
PRODID:-//Mineral Springs Brewery - ECPv6.15.20//NONSGML v1.0//EN
CALSCALE:GREGORIAN
METHOD:PUBLISH
X-WR-CALNAME:Mineral Springs Brewery
X-ORIGINAL-URL:https://mineralspringsbrewery.com
X-WR-CALDESC:Events for Mineral Springs Brewery
REFRESH-INTERVAL;VALUE=DURATION:PT1H
X-Robots-Tag:noindex
X-PUBLISHED-TTL:PT1H
BEGIN:VTIMEZONE
TZID:America/Chicago
BEGIN:DAYLIGHT
TZOFFSETFROM:-0600
TZOFFSETTO:-0500
TZNAME:CDT
DTSTART:20220313T080000
END:DAYLIGHT
BEGIN:STANDARD
TZOFFSETFROM:-0500
TZOFFSETTO:-0600
TZNAME:CST
DTSTART:20221106T070000
END:STANDARD
BEGIN:DAYLIGHT
TZOFFSETFROM:-0600
TZOFFSETTO:-0500
TZNAME:CDT
DTSTART:20230312T080000
END:DAYLIGHT
BEGIN:STANDARD
TZOFFSETFROM:-0500
TZOFFSETTO:-0600
TZNAME:CST
DTSTART:20231105T070000
END:STANDARD
BEGIN:DAYLIGHT
TZOFFSETFROM:-0600
TZOFFSETTO:-0500
TZNAME:CDT
DTSTART:20240310T080000
END:DAYLIGHT
BEGIN:STANDARD
TZOFFSETFROM:-0500
TZOFFSETTO:-0600
TZNAME:CST
DTSTART:20241103T070000
END:STANDARD
END:VTIMEZONE
BEGIN:VEVENT
DTSTART;TZID=America/Chicago:20230506T120000
DTEND;TZID=America/Chicago:20230506T200000
DTSTAMP:20260423T192351
CREATED:20230418T160625Z
LAST-MODIFIED:20230418T160626Z
UID:10001461-1683374400-1683403200@mineralspringsbrewery.com
SUMMARY:Bummy's BBQ
DESCRIPTION:Serving mouth watering BBQ that is sure to please even the most picky of eaters!
URL:https://mineralspringsbrewery.com/event/bummys-bbq-6/
LOCATION:MN
CATEGORIES:Food Trucks
ATTACH;FMTTYPE=image/jpeg:https://mineralspringsbrewery.com/wp-content/uploads/2021/07/BummysBBQ.jpg
END:VEVENT
BEGIN:VEVENT
DTSTART;TZID=America/Chicago:20230505T180000
DTEND;TZID=America/Chicago:20230505T200000
DTSTAMP:20260423T192351
CREATED:20230418T160521Z
LAST-MODIFIED:20230418T160524Z
UID:10001460-1683309600-1683316800@mineralspringsbrewery.com
SUMMARY:Joel Ward
DESCRIPTION:Joel Ward is a soul singing\, acoustic guitar pickin’\, lyric writing\, fool for music out of Rochester
URL:https://mineralspringsbrewery.com/event/joel-ward-4/
LOCATION:MN
CATEGORIES:Activities,Music
ATTACH;FMTTYPE=image/jpeg:https://mineralspringsbrewery.com/wp-content/uploads/2022/09/Joel-Ward.jpg
END:VEVENT
BEGIN:VEVENT
DTSTART;TZID=America/Chicago:20230505T110000
DTEND;TZID=America/Chicago:20230505T190000
DTSTAMP:20260423T192351
CREATED:20230418T160414Z
LAST-MODIFIED:20230418T160415Z
UID:10001459-1683284400-1683313200@mineralspringsbrewery.com
SUMMARY:On The Hook - Fish and Chips
DESCRIPTION:On The Hook specializes in Line-Caught Wild Alaskan Cod Fish and Chips. We start with the highest quality cod available sourced from the cold clean waters of Alaska. This however\, is not just any Alaskan Cod\, our cod is caught using hook and line which means that each fish is brought aboard individually and immediately headed\, gutted\, and flash frozen to perfectly preserve the fresh caught quality and tenderness. We hand coat it with our original recipe beer batter created by our founders over months by experimenting and fine tuning while they were in college. Batter was not the only thing we created from scratch\, our signature dipping sauces are included with every meal to complete a perfect dish.
URL:https://mineralspringsbrewery.com/event/on-the-hook-fish-and-chips-3/
LOCATION:MN
CATEGORIES:Food Trucks
ATTACH;FMTTYPE=image/jpeg:https://mineralspringsbrewery.com/wp-content/uploads/2021/03/0EEABF12-E6AD-4366-B5BB-DAE146728E09.jpeg
END:VEVENT
BEGIN:VEVENT
DTSTART;TZID=America/Chicago:20230504T160000
DTEND;TZID=America/Chicago:20230504T200000
DTSTAMP:20260423T192351
CREATED:20230418T160008Z
LAST-MODIFIED:20230418T160010Z
UID:10001455-1683216000-1683230400@mineralspringsbrewery.com
SUMMARY:Delicious Potato Skins and More
DESCRIPTION:From Mantorville Delicious Potato Skins and More offers potato skins\, french fries with toppings\, chicken wings (boneless and traditional) and more!
URL:https://mineralspringsbrewery.com/event/delicious-potato-skins-and-more-2/
LOCATION:MN
CATEGORIES:Food Trucks
ATTACH;FMTTYPE=image/jpeg:https://mineralspringsbrewery.com/wp-content/uploads/2023/02/Delicious-Potato-Skins-More-Truck.jpg
END:VEVENT
BEGIN:VEVENT
DTSTART;TZID=America/Chicago:20230503T180000
DTEND;TZID=America/Chicago:20230503T180000
DTSTAMP:20260423T192351
CREATED:20230424T222632Z
LAST-MODIFIED:20250103T010113Z
UID:10001500-1683136800-1683136800@mineralspringsbrewery.com
SUMMARY:Trivia Night
DESCRIPTION:MSB Trivia Night!!
URL:https://mineralspringsbrewery.com/event/trivia-night-10/2023-05-03/
LOCATION:Mineral Springs Brewery\, 210 N Oak Ave\, Suite 1\, Owatonna\, MN\, 55060\, United States
CATEGORIES:Activities
ATTACH;FMTTYPE=image/png:https://mineralspringsbrewery.com/wp-content/uploads/2022/02/MSB-Trivia-Night.png
END:VEVENT
BEGIN:VEVENT
DTSTART;TZID=America/Chicago:20230503T170000
DTEND;TZID=America/Chicago:20230503T170000
DTSTAMP:20260423T192351
CREATED:20230418T155342Z
LAST-MODIFIED:20230526T200812Z
UID:10001448-1683133200-1683133200@mineralspringsbrewery.com
SUMMARY:Wag's Wednesday
DESCRIPTION:We’re partnering with Wagners Lunch Pool Hall to have their delicious burgers and fries delivered hot and fresh every half hour starting at 5:30pm! \n\n\n\nEach week\, you’ll have the choice between: \n\n\n\n\nDouble Cheeseburger with Fries & an MSB beer of choice for $13\n\n\n\nOr a Special Burger of the week that will rotate from week to week with Fries and an MSB beer of choice for $15\n\n\n\n\nBe sure to let our bartender know your order!
URL:https://mineralspringsbrewery.com/event/wags-wednesday-7/2023-05-03/
LOCATION:Mineral Springs Brewery\, 210 N Oak Ave\, Suite 1\, Owatonna\, MN\, 55060\, United States
CATEGORIES:Food Trucks
ATTACH;FMTTYPE=image/jpeg:https://mineralspringsbrewery.com/wp-content/uploads/2022/10/Wags-Wednesdays.jpeg
END:VEVENT
BEGIN:VEVENT
DTSTART;TZID=America/Chicago:20230502T160000
DTEND;TZID=America/Chicago:20230502T210000
DTSTAMP:20260423T192351
CREATED:20230418T161602Z
LAST-MODIFIED:20230526T200747Z
UID:10001486-1683043200-1683061200@mineralspringsbrewery.com
SUMMARY:We're Open!
DESCRIPTION:We’re open on Tuesdays for the Summer!
URL:https://mineralspringsbrewery.com/event/were-open/2023-05-02/
LOCATION:Mineral Springs Brewery\, 210 N Oak Ave\, Suite 1\, Owatonna\, MN\, 55060\, United States
CATEGORIES:Activities
END:VEVENT
BEGIN:VEVENT
DTSTART;TZID=America/Chicago:20230502T160000
DTEND;TZID=America/Chicago:20230502T200000
DTSTAMP:20260423T192351
CREATED:20230424T222453Z
LAST-MODIFIED:20230424T222455Z
UID:10001499-1683043200-1683057600@mineralspringsbrewery.com
SUMMARY:Garillers
DESCRIPTION:Garillers features their famous Chopped Cheese Sandwich!
URL:https://mineralspringsbrewery.com/event/garillers-2/
LOCATION:MN
CATEGORIES:Food Trucks
ATTACH;FMTTYPE=image/jpeg:https://mineralspringsbrewery.com/wp-content/uploads/2022/09/Garillers-Food-Truck.jpg
END:VEVENT
BEGIN:VEVENT
DTSTART;TZID=America/Chicago:20230430T150000
DTEND;TZID=America/Chicago:20230430T150000
DTSTAMP:20260423T192351
CREATED:20221209T234308Z
LAST-MODIFIED:20230526T200437Z
UID:10001491-1682866800-1682866800@mineralspringsbrewery.com
SUMMARY:MSBGO
DESCRIPTION:On Sundays\, we’ll be hosting a free and fun game of chance! Come on down to play along and win FREE BEER!
URL:https://mineralspringsbrewery.com/event/msbgo-28/2023-04-30/
LOCATION:Mineral Springs Brewery\, 210 N Oak Ave\, Suite 1\, Owatonna\, MN\, 55060\, United States
CATEGORIES:Activities
ATTACH;FMTTYPE=image/png:https://mineralspringsbrewery.com/wp-content/uploads/2022/04/Bingo.png
END:VEVENT
BEGIN:VEVENT
DTSTART;TZID=America/Chicago:20230430T140000
DTEND;TZID=America/Chicago:20230430T190000
DTSTAMP:20260423T192351
CREATED:20230418T160212Z
LAST-MODIFIED:20230418T160214Z
UID:10001456-1682863200-1682881200@mineralspringsbrewery.com
SUMMARY:Linos Taqueria
DESCRIPTION:Linos offers some of the best: \n\n\n\n\nMexican Style Tacos\n\n\n\nTortes Mexican Tacos\n\n\n\nBurritos\n\n\n\nQuesadillas\n\n\n\nTamales
URL:https://mineralspringsbrewery.com/event/linos-taqueria-8/
LOCATION:MN
CATEGORIES:Food Trucks
ATTACH;FMTTYPE=image/jpeg:https://mineralspringsbrewery.com/wp-content/uploads/2022/12/7F17D32C-0220-48D7-BDB5-70ECA4173A53.jpeg
END:VEVENT
BEGIN:VEVENT
DTSTART;TZID=America/Chicago:20230429T183000
DTEND;TZID=America/Chicago:20230429T203000
DTSTAMP:20260423T192351
CREATED:20230228T012347Z
LAST-MODIFIED:20230228T012348Z
UID:10001433-1682793000-1682800200@mineralspringsbrewery.com
SUMMARY:Jeff Reinartz
DESCRIPTION:Jeff Reinartz is a singer/songwriter from  Austin\, Minnesota. He’s been performing live for over 30 years and is a veteran of several bands. He is now a solo acoustic performer and has released two EPs that were produced by Scotty Rohr at Zension Studio in Austin. \n\n\n\n\nI believe that we’re here to use our talents and abilities to the benefit of others\, so after 22 years in the corporate world with a Fortune 300 company\, I resigned in 2019 to pursue my music interests full time. I didn’t necessarily count on a global pandemic\, but as things have loosened up I’ve been able to play more and more\, doing acoustic shows at primarily breweries and wineries in Southern Minnesota and Northern Iowa\, and building a small following organically.” \nJeff Reinartz
URL:https://mineralspringsbrewery.com/event/jeff-reinartz-5/
LOCATION:MN
CATEGORIES:Activities,Music
ATTACH;FMTTYPE=image/jpeg:https://mineralspringsbrewery.com/wp-content/uploads/2022/04/Jeff-Reinartz-scaled.jpg
END:VEVENT
BEGIN:VEVENT
DTSTART;TZID=America/Chicago:20230429T120000
DTEND;TZID=America/Chicago:20230429T200000
DTSTAMP:20260423T192351
CREATED:20230228T012258Z
LAST-MODIFIED:20231101T223731Z
UID:10001432-1682769600-1682798400@mineralspringsbrewery.com
SUMMARY:Minnesota's Original Brat Dogs
DESCRIPTION:Deep fried brats of various flavors\, tator tot nachos\, and more!
URL:https://mineralspringsbrewery.com/event/minnesotas-original-brat-dogs/
LOCATION:Mineral Springs Brewery\, 210 N Oak Ave\, Suite 1\, Owatonna\, MN\, 55060\, United States
CATEGORIES:Food Trucks
ATTACH;FMTTYPE=image/jpeg:https://mineralspringsbrewery.com/wp-content/uploads/2022/03/BratDogs.jpg
END:VEVENT
BEGIN:VEVENT
DTSTART;TZID=America/Chicago:20230428T173000
DTEND;TZID=America/Chicago:20230428T193000
DTSTAMP:20260423T192351
CREATED:20230221T052221Z
LAST-MODIFIED:20230227T234818Z
UID:10001397-1682703000-1682710200@mineralspringsbrewery.com
SUMMARY:Bryce Leppert
DESCRIPTION:
URL:https://mineralspringsbrewery.com/event/bryce-leppert-2/
LOCATION:MN
CATEGORIES:Activities,Music
ATTACH;FMTTYPE=image/jpeg:https://mineralspringsbrewery.com/wp-content/uploads/2022/10/276199980_10223005528240734_6320631257148713268_n.jpg
END:VEVENT
BEGIN:VEVENT
DTSTART;TZID=America/Chicago:20230428T160000
DTEND;TZID=America/Chicago:20230428T200000
DTSTAMP:20260423T192351
CREATED:20230228T010704Z
LAST-MODIFIED:20230228T011640Z
UID:10001430-1682697600-1682712000@mineralspringsbrewery.com
SUMMARY:Pleasant Grove Pizza Farm
DESCRIPTION:Pleasant Grove Pizza Farm brings over a fresh harvest of the best pizzas grown locally!
URL:https://mineralspringsbrewery.com/event/pleasant-grove-pizza-farm/
LOCATION:MN
CATEGORIES:Food Trucks
ATTACH;FMTTYPE=image/png:https://mineralspringsbrewery.com/wp-content/uploads/2022/04/Pleasant-Grove-Pizza-Farm.png
END:VEVENT
BEGIN:VEVENT
DTSTART;TZID=America/Chicago:20230428T000000
DTEND;TZID=America/Chicago:20230428T235959
DTSTAMP:20260423T192351
CREATED:20230228T011419Z
LAST-MODIFIED:20230414T214328Z
UID:10001431-1682640000-1682726399@mineralspringsbrewery.com
SUMMARY:Final(ly) Friday
DESCRIPTION:Join us for the last Friday of every month through September to kick off the weekend! We’ll have live music and a fan-favorite food truck on site! The perfect end to the week and the month with something for the whole family!
URL:https://mineralspringsbrewery.com/event/finally-friday/
LOCATION:MN
CATEGORIES:Activities
ATTACH;FMTTYPE=image/png:https://mineralspringsbrewery.com/wp-content/uploads/2023/02/0AC096FB-5A0E-4FA8-B869-C385FF518D16.png
END:VEVENT
BEGIN:VEVENT
DTSTART;TZID=America/Chicago:20230427T170000
DTEND;TZID=America/Chicago:20230427T170000
DTSTAMP:20260423T192351
CREATED:20230126T191551Z
LAST-MODIFIED:20230228T001224Z
UID:10001131-1682614800-1682614800@mineralspringsbrewery.com
SUMMARY:A Taste of the Big Apple Thursday Special
DESCRIPTION:We’re partnering with A Taste of the Big Apple to have their delicious pizzas delivered hot and fresh every half hour starting at 5:30pm! \n\n\n\nOrder your choice of large pizza at the bar and it will be delivered to your table \n\n\n\n\nCheese – $20\n\n\n\nSausage/Pepperoni – $21\n\n\n\nCombo – $23\n\n\n\nAdd MSB beer \n\nOne pour – $5\n\n\n\nTwo pours – $10\n\n\n\n\n\n\nBe sure to let our bartender know your order!
URL:https://mineralspringsbrewery.com/event/a-taste-of-the-big-apple-thursday-special-3/2023-04-27/
LOCATION:MN
CATEGORIES:Activities,Food Trucks
ATTACH;FMTTYPE=image/jpeg:https://mineralspringsbrewery.com/wp-content/uploads/2022/12/A-Taste-of-the-Big-Apple.jpg
END:VEVENT
BEGIN:VEVENT
DTSTART;TZID=America/Chicago:20230426T180000
DTEND;TZID=America/Chicago:20230426T180000
DTSTAMP:20260423T192351
CREATED:20230424T222632Z
LAST-MODIFIED:20250103T010113Z
UID:10000611-1682532000-1682532000@mineralspringsbrewery.com
SUMMARY:Trivia Night
DESCRIPTION:MSB Trivia Night!!
URL:https://mineralspringsbrewery.com/event/trivia-night-10/2023-04-26/
LOCATION:Mineral Springs Brewery\, 210 N Oak Ave\, Suite 1\, Owatonna\, MN\, 55060\, United States
CATEGORIES:Activities
ATTACH;FMTTYPE=image/png:https://mineralspringsbrewery.com/wp-content/uploads/2022/02/MSB-Trivia-Night.png
END:VEVENT
BEGIN:VEVENT
DTSTART;TZID=America/Chicago:20230426T170000
DTEND;TZID=America/Chicago:20230426T170000
DTSTAMP:20260423T192351
CREATED:20230418T155342Z
LAST-MODIFIED:20230526T200812Z
UID:10001447-1682528400-1682528400@mineralspringsbrewery.com
SUMMARY:Wag's Wednesday
DESCRIPTION:We’re partnering with Wagners Lunch Pool Hall to have their delicious burgers and fries delivered hot and fresh every half hour starting at 5:30pm! \n\n\n\nEach week\, you’ll have the choice between: \n\n\n\n\nDouble Cheeseburger with Fries & an MSB beer of choice for $13\n\n\n\nOr a Special Burger of the week that will rotate from week to week with Fries and an MSB beer of choice for $15\n\n\n\n\nBe sure to let our bartender know your order!
URL:https://mineralspringsbrewery.com/event/wags-wednesday-7/2023-04-26/
LOCATION:Mineral Springs Brewery\, 210 N Oak Ave\, Suite 1\, Owatonna\, MN\, 55060\, United States
CATEGORIES:Food Trucks
ATTACH;FMTTYPE=image/jpeg:https://mineralspringsbrewery.com/wp-content/uploads/2022/10/Wags-Wednesdays.jpeg
END:VEVENT
BEGIN:VEVENT
DTSTART;TZID=America/Chicago:20230423T150000
DTEND;TZID=America/Chicago:20230423T150000
DTSTAMP:20260423T192351
CREATED:20221209T234308Z
LAST-MODIFIED:20230526T200437Z
UID:10000353-1682262000-1682262000@mineralspringsbrewery.com
SUMMARY:MSBGO
DESCRIPTION:On Sundays\, we’ll be hosting a free and fun game of chance! Come on down to play along and win FREE BEER!
URL:https://mineralspringsbrewery.com/event/msbgo-28/2023-04-23/
LOCATION:Mineral Springs Brewery\, 210 N Oak Ave\, Suite 1\, Owatonna\, MN\, 55060\, United States
CATEGORIES:Activities
ATTACH;FMTTYPE=image/png:https://mineralspringsbrewery.com/wp-content/uploads/2022/04/Bingo.png
END:VEVENT
BEGIN:VEVENT
DTSTART;TZID=America/Chicago:20230423T140000
DTEND;TZID=America/Chicago:20230423T190000
DTSTAMP:20260423T192351
CREATED:20230228T010618Z
LAST-MODIFIED:20230228T010619Z
UID:10001429-1682258400-1682276400@mineralspringsbrewery.com
SUMMARY:Brick Oven Bus
DESCRIPTION:Brick oven fired pizzas\, but on the go!
URL:https://mineralspringsbrewery.com/event/brick-oven-bus-4/
LOCATION:MN
CATEGORIES:Food Trucks
ATTACH;FMTTYPE=image/jpeg:https://mineralspringsbrewery.com/wp-content/uploads/2023/01/Brick-Oven-Bus.jpg
END:VEVENT
END:VCALENDAR