BEGIN:VCALENDAR
VERSION:2.0
PRODID:-//Mineral Springs Brewery - ECPv6.15.20//NONSGML v1.0//EN
CALSCALE:GREGORIAN
METHOD:PUBLISH
X-WR-CALNAME:Mineral Springs Brewery
X-ORIGINAL-URL:https://mineralspringsbrewery.com
X-WR-CALDESC:Events for Mineral Springs Brewery
REFRESH-INTERVAL;VALUE=DURATION:PT1H
X-Robots-Tag:noindex
X-PUBLISHED-TTL:PT1H
BEGIN:VTIMEZONE
TZID:America/Chicago
BEGIN:DAYLIGHT
TZOFFSETFROM:-0600
TZOFFSETTO:-0500
TZNAME:CDT
DTSTART:20230312T080000
END:DAYLIGHT
BEGIN:STANDARD
TZOFFSETFROM:-0500
TZOFFSETTO:-0600
TZNAME:CST
DTSTART:20231105T070000
END:STANDARD
BEGIN:DAYLIGHT
TZOFFSETFROM:-0600
TZOFFSETTO:-0500
TZNAME:CDT
DTSTART:20240310T080000
END:DAYLIGHT
BEGIN:STANDARD
TZOFFSETFROM:-0500
TZOFFSETTO:-0600
TZNAME:CST
DTSTART:20241103T070000
END:STANDARD
BEGIN:DAYLIGHT
TZOFFSETFROM:-0600
TZOFFSETTO:-0500
TZNAME:CDT
DTSTART:20250309T080000
END:DAYLIGHT
BEGIN:STANDARD
TZOFFSETFROM:-0500
TZOFFSETTO:-0600
TZNAME:CST
DTSTART:20251102T070000
END:STANDARD
END:VTIMEZONE
BEGIN:VEVENT
DTSTART;TZID=America/Chicago:20240107T150000
DTEND;TZID=America/Chicago:20240107T150000
DTSTAMP:20260420T042157
CREATED:20230822T225107Z
LAST-MODIFIED:20230822T225109Z
UID:10002336-1704639600-1704639600@mineralspringsbrewery.com
SUMMARY:MSBGO
DESCRIPTION:On Sundays\, we’ll be hosting a free and fun game of chance! Come on down to play along and win FREE BEER!
URL:https://mineralspringsbrewery.com/event/msbgo-7/2024-01-07/
LOCATION:Mineral Springs Brewery\, 210 N Oak Ave\, Suite 1\, Owatonna\, MN\, 55060\, United States
CATEGORIES:Activities
ATTACH;FMTTYPE=image/png:https://mineralspringsbrewery.com/wp-content/uploads/2022/04/Bingo.png
END:VEVENT
BEGIN:VEVENT
DTSTART;TZID=America/Chicago:20240109T160000
DTEND;TZID=America/Chicago:20240114T190000
DTSTAMP:20260420T042157
CREATED:20240102T210756Z
LAST-MODIFIED:20240102T210758Z
UID:10002812-1704816000-1705258800@mineralspringsbrewery.com
SUMMARY:Flannel Week
DESCRIPTION:
URL:https://mineralspringsbrewery.com/event/flannel-week/
LOCATION:Mineral Springs Brewery\, 210 N Oak Ave\, Suite 1\, Owatonna\, MN\, 55060\, United States
CATEGORIES:Activities
END:VEVENT
BEGIN:VEVENT
DTSTART;TZID=America/Chicago:20240110T170000
DTEND;TZID=America/Chicago:20240110T170000
DTSTAMP:20260420T042157
CREATED:20230822T225146Z
LAST-MODIFIED:20230822T225148Z
UID:10001824-1704906000-1704906000@mineralspringsbrewery.com
SUMMARY:Wag's Wednesday
DESCRIPTION:We’re partnering with Wagners Lunch Pool Hall to have their delicious burgers and fries delivered hot and fresh every half hour starting at 5:30pm! \n\n\n\nEach week\, you’ll have the choice between: \n\n\n\n\nDouble Cheeseburger with Fries & an MSB beer of choice for $13\n\n\n\nOr a Special Burger of the week that will rotate from week to week with Fries and an MSB beer of choice for $15\n\n\n\n\nBe sure to let our bartender know your order!
URL:https://mineralspringsbrewery.com/event/wags-wednesday-11/2024-01-10/
LOCATION:Mineral Springs Brewery\, 210 N Oak Ave\, Suite 1\, Owatonna\, MN\, 55060\, United States
CATEGORIES:Food Trucks
ATTACH;FMTTYPE=image/jpeg:https://mineralspringsbrewery.com/wp-content/uploads/2022/10/Wags-Wednesdays.jpeg
END:VEVENT
BEGIN:VEVENT
DTSTART;TZID=America/Chicago:20240110T180000
DTEND;TZID=America/Chicago:20240110T180000
DTSTAMP:20260420T042157
CREATED:20230424T222632Z
LAST-MODIFIED:20250103T010113Z
UID:10002080-1704909600-1704909600@mineralspringsbrewery.com
SUMMARY:Trivia Night
DESCRIPTION:MSB Trivia Night!!
URL:https://mineralspringsbrewery.com/event/trivia-night-10/2024-01-10/
LOCATION:Mineral Springs Brewery\, 210 N Oak Ave\, Suite 1\, Owatonna\, MN\, 55060\, United States
CATEGORIES:Activities
ATTACH;FMTTYPE=image/png:https://mineralspringsbrewery.com/wp-content/uploads/2022/02/MSB-Trivia-Night.png
END:VEVENT
BEGIN:VEVENT
DTSTART;TZID=America/Chicago:20240111T170000
DTEND;TZID=America/Chicago:20240111T170000
DTSTAMP:20260420T042157
CREATED:20230822T225207Z
LAST-MODIFIED:20250319T185917Z
UID:10001567-1704992400-1704992400@mineralspringsbrewery.com
SUMMARY:Thursday Pizza Special
DESCRIPTION:We’ve partnered with A Taste of the Big Apple to have their delicious pizzas delivered hot and fresh every half hour starting at 5:30pm! We also have frozen pizzas from our friends over at Pleasant Grove Pizza Farm that we’re able to cook up in our ovens! \n\n\n\nOrder your choice of pizza at the bar and we’ll get it to you when it’s delivered! \n\n\n\n\n\nA Taste of the Big Apple\n\n\n\n\nCheese\n\n\n\nSausage\n\n\n\nPepperoni\n\n\n\nSausage/Pepperoni\n\n\n\nCombo\n\nSausage\, Pepperoni\, Onions\, & Mushrooms\n\n\n\n\n\n\n\n\nPleasant Grove Pizza Farm\n\n\n\n\nCheese\n\n\n\nSusie (Sausage)\n\n\n\nChuck (Pepperoni)\n\n\n\nChuck & Susie (Pepperoni & Sausage)\n\n\n\nMN Mess (Combo)\n\nSausage\, Green & Black Olives\, Green Peppers\, Onions\, & Mushrooms\n\n\n\n\n\nPizza Fries & Sauce\n\n\n\n\n\n\nBe sure to let our bartender know your order!
URL:https://mineralspringsbrewery.com/event/a-taste-of-the-big-apple-thursday-special-11/2024-01-11/
LOCATION:Mineral Springs Brewery\, 210 N Oak Ave\, Suite 1\, Owatonna\, MN\, 55060\, United States
CATEGORIES:Food Trucks
ATTACH;FMTTYPE=image/jpeg:https://mineralspringsbrewery.com/wp-content/uploads/2022/12/A-Taste-of-the-Big-Apple.jpg
END:VEVENT
BEGIN:VEVENT
DTSTART;TZID=America/Chicago:20240112T160000
DTEND;TZID=America/Chicago:20240112T200000
DTSTAMP:20260420T042157
CREATED:20231101T225232Z
LAST-MODIFIED:20231101T225233Z
UID:10002767-1705075200-1705089600@mineralspringsbrewery.com
SUMMARY:Brick Oven Bus
DESCRIPTION:Brick oven fired pizzas\, but on the go!
URL:https://mineralspringsbrewery.com/event/brick-oven-bus-10/
LOCATION:Mineral Springs Brewery\, 210 N Oak Ave\, Suite 1\, Owatonna\, MN\, 55060\, United States
CATEGORIES:Food Trucks
ATTACH;FMTTYPE=image/jpeg:https://mineralspringsbrewery.com/wp-content/uploads/2023/01/Brick-Oven-Bus.jpg
END:VEVENT
BEGIN:VEVENT
DTSTART;TZID=America/Chicago:20240112T183000
DTEND;TZID=America/Chicago:20240112T210000
DTSTAMP:20260420T042157
CREATED:20231213T221355Z
LAST-MODIFIED:20231213T221357Z
UID:10002806-1705084200-1705093200@mineralspringsbrewery.com
SUMMARY:Soulfire
DESCRIPTION:Dynamic musical duo that will set your soul on fire! Mike Little guitar\, vocals. Josi Christy vocals.
URL:https://mineralspringsbrewery.com/event/soulfire/
LOCATION:Mineral Springs Brewery\, 210 N Oak Ave\, Suite 1\, Owatonna\, MN\, 55060\, United States
CATEGORIES:Activities,Music
ATTACH;FMTTYPE=image/jpeg:https://mineralspringsbrewery.com/wp-content/uploads/2023/12/Soulfire.jpg
END:VEVENT
BEGIN:VEVENT
DTSTART;TZID=America/Chicago:20240113T120000
DTEND;TZID=America/Chicago:20240113T200000
DTSTAMP:20260420T042157
CREATED:20231101T225315Z
LAST-MODIFIED:20240113T003137Z
UID:10002768-1705147200-1705176000@mineralspringsbrewery.com
SUMMARY:Canceled - Bummy's BBQ
DESCRIPTION:Serving mouth watering BBQ that is sure to please even the most picky of eaters!
URL:https://mineralspringsbrewery.com/event/bummys-bbq-19/
LOCATION:Mineral Springs Brewery\, 210 N Oak Ave\, Suite 1\, Owatonna\, MN\, 55060\, United States
CATEGORIES:Food Trucks
ATTACH;FMTTYPE=image/jpeg:https://mineralspringsbrewery.com/wp-content/uploads/2021/07/BummysBBQ.jpg
END:VEVENT
BEGIN:VEVENT
DTSTART;TZID=America/Chicago:20240113T173000
DTEND;TZID=America/Chicago:20240113T193000
DTSTAMP:20260420T042157
CREATED:20231101T225337Z
LAST-MODIFIED:20231101T225337Z
UID:10002769-1705167000-1705174200@mineralspringsbrewery.com
SUMMARY:Adam Moe
DESCRIPTION:Adam Moe is a fiddler and singer/songwriter based in Duluth\, MN. In 2012\, he started the folky-tonk duo Pushing Chain with then partner Boyd Blomberg. For the next eight years\, Pushing Chain toured the US and Canada\, playing venues big and small and gaining fans the old-fashioned way — face to face\, one at a time. Adam has been featured on radio and television\, and played some of the biggest festivals in the country\, including the 2019 Woody Guthrie Festival and the 2019 Kerrville Folk Festival. \n\n\n\nWith the onset of the 2020 pandemic\, Adam has set out on a solo career. His unique original songs backed by his tenor guitar and delivered with his clear\, bluesy tenor make for a great show. \n\n\n\nAdam believes that good music can make strangers share a table\, and he proves it every time he plays. He’s nothing if not entertaining.
URL:https://mineralspringsbrewery.com/event/adam-moe-6/
LOCATION:Mineral Springs Brewery\, 210 N Oak Ave\, Suite 1\, Owatonna\, MN\, 55060\, United States
CATEGORIES:Activities,Music
ATTACH;FMTTYPE=image/jpeg:https://mineralspringsbrewery.com/wp-content/uploads/2022/02/Adam-Moe.jpg
END:VEVENT
END:VCALENDAR