BEGIN:VCALENDAR
VERSION:2.0
PRODID:-//Mineral Springs Brewery - ECPv6.15.20//NONSGML v1.0//EN
CALSCALE:GREGORIAN
METHOD:PUBLISH
X-ORIGINAL-URL:https://mineralspringsbrewery.com
X-WR-CALDESC:Events for Mineral Springs Brewery
REFRESH-INTERVAL;VALUE=DURATION:PT1H
X-Robots-Tag:noindex
X-PUBLISHED-TTL:PT1H
BEGIN:VTIMEZONE
TZID:America/Chicago
BEGIN:DAYLIGHT
TZOFFSETFROM:-0600
TZOFFSETTO:-0500
TZNAME:CDT
DTSTART:20230312T080000
END:DAYLIGHT
BEGIN:STANDARD
TZOFFSETFROM:-0500
TZOFFSETTO:-0600
TZNAME:CST
DTSTART:20231105T070000
END:STANDARD
BEGIN:DAYLIGHT
TZOFFSETFROM:-0600
TZOFFSETTO:-0500
TZNAME:CDT
DTSTART:20240310T080000
END:DAYLIGHT
BEGIN:STANDARD
TZOFFSETFROM:-0500
TZOFFSETTO:-0600
TZNAME:CST
DTSTART:20241103T070000
END:STANDARD
BEGIN:DAYLIGHT
TZOFFSETFROM:-0600
TZOFFSETTO:-0500
TZNAME:CDT
DTSTART:20250309T080000
END:DAYLIGHT
BEGIN:STANDARD
TZOFFSETFROM:-0500
TZOFFSETTO:-0600
TZNAME:CST
DTSTART:20251102T070000
END:STANDARD
END:VTIMEZONE
BEGIN:VEVENT
DTSTART;TZID=America/Chicago:20240109T160000
DTEND;TZID=America/Chicago:20240114T190000
DTSTAMP:20260420T024704
CREATED:20240102T210756Z
LAST-MODIFIED:20240102T210758Z
UID:10002812-1704816000-1705258800@mineralspringsbrewery.com
SUMMARY:Flannel Week
DESCRIPTION:
URL:https://mineralspringsbrewery.com/event/flannel-week/
LOCATION:Mineral Springs Brewery\, 210 N Oak Ave\, Suite 1\, Owatonna\, MN\, 55060\, United States
CATEGORIES:Activities
END:VEVENT
BEGIN:VEVENT
DTSTART;TZID=America/Chicago:20240114T150000
DTEND;TZID=America/Chicago:20240114T150000
DTSTAMP:20260420T024704
CREATED:20230822T225107Z
LAST-MODIFIED:20230822T225109Z
UID:10002337-1705244400-1705244400@mineralspringsbrewery.com
SUMMARY:MSBGO
DESCRIPTION:On Sundays\, we’ll be hosting a free and fun game of chance! Come on down to play along and win FREE BEER!
URL:https://mineralspringsbrewery.com/event/msbgo-7/2024-01-14/
LOCATION:Mineral Springs Brewery\, 210 N Oak Ave\, Suite 1\, Owatonna\, MN\, 55060\, United States
CATEGORIES:Activities
ATTACH;FMTTYPE=image/png:https://mineralspringsbrewery.com/wp-content/uploads/2022/04/Bingo.png
END:VEVENT
BEGIN:VEVENT
DTSTART;TZID=America/Chicago:20240117T170000
DTEND;TZID=America/Chicago:20240117T170000
DTSTAMP:20260420T024704
CREATED:20230822T225146Z
LAST-MODIFIED:20230822T225148Z
UID:10001825-1705510800-1705510800@mineralspringsbrewery.com
SUMMARY:Wag's Wednesday
DESCRIPTION:We’re partnering with Wagners Lunch Pool Hall to have their delicious burgers and fries delivered hot and fresh every half hour starting at 5:30pm! \n\n\n\nEach week\, you’ll have the choice between: \n\n\n\n\nDouble Cheeseburger with Fries & an MSB beer of choice for $13\n\n\n\nOr a Special Burger of the week that will rotate from week to week with Fries and an MSB beer of choice for $15\n\n\n\n\nBe sure to let our bartender know your order!
URL:https://mineralspringsbrewery.com/event/wags-wednesday-11/2024-01-17/
LOCATION:Mineral Springs Brewery\, 210 N Oak Ave\, Suite 1\, Owatonna\, MN\, 55060\, United States
CATEGORIES:Food Trucks
ATTACH;FMTTYPE=image/jpeg:https://mineralspringsbrewery.com/wp-content/uploads/2022/10/Wags-Wednesdays.jpeg
END:VEVENT
BEGIN:VEVENT
DTSTART;TZID=America/Chicago:20240117T180000
DTEND;TZID=America/Chicago:20240117T180000
DTSTAMP:20260420T024704
CREATED:20230424T222632Z
LAST-MODIFIED:20250103T010113Z
UID:10002081-1705514400-1705514400@mineralspringsbrewery.com
SUMMARY:Trivia Night
DESCRIPTION:MSB Trivia Night!!
URL:https://mineralspringsbrewery.com/event/trivia-night-10/2024-01-17/
LOCATION:Mineral Springs Brewery\, 210 N Oak Ave\, Suite 1\, Owatonna\, MN\, 55060\, United States
CATEGORIES:Activities
ATTACH;FMTTYPE=image/png:https://mineralspringsbrewery.com/wp-content/uploads/2022/02/MSB-Trivia-Night.png
END:VEVENT
BEGIN:VEVENT
DTSTART;TZID=America/Chicago:20240118T170000
DTEND;TZID=America/Chicago:20240118T170000
DTSTAMP:20260420T024704
CREATED:20230822T225207Z
LAST-MODIFIED:20250319T185917Z
UID:10001568-1705597200-1705597200@mineralspringsbrewery.com
SUMMARY:Thursday Pizza Special
DESCRIPTION:We’ve partnered with A Taste of the Big Apple to have their delicious pizzas delivered hot and fresh every half hour starting at 5:30pm! We also have frozen pizzas from our friends over at Pleasant Grove Pizza Farm that we’re able to cook up in our ovens! \n\n\n\nOrder your choice of pizza at the bar and we’ll get it to you when it’s delivered! \n\n\n\n\n\nA Taste of the Big Apple\n\n\n\n\nCheese\n\n\n\nSausage\n\n\n\nPepperoni\n\n\n\nSausage/Pepperoni\n\n\n\nCombo\n\nSausage\, Pepperoni\, Onions\, & Mushrooms\n\n\n\n\n\n\n\n\nPleasant Grove Pizza Farm\n\n\n\n\nCheese\n\n\n\nSusie (Sausage)\n\n\n\nChuck (Pepperoni)\n\n\n\nChuck & Susie (Pepperoni & Sausage)\n\n\n\nMN Mess (Combo)\n\nSausage\, Green & Black Olives\, Green Peppers\, Onions\, & Mushrooms\n\n\n\n\n\nPizza Fries & Sauce\n\n\n\n\n\n\nBe sure to let our bartender know your order!
URL:https://mineralspringsbrewery.com/event/a-taste-of-the-big-apple-thursday-special-11/2024-01-18/
LOCATION:Mineral Springs Brewery\, 210 N Oak Ave\, Suite 1\, Owatonna\, MN\, 55060\, United States
CATEGORIES:Food Trucks
ATTACH;FMTTYPE=image/jpeg:https://mineralspringsbrewery.com/wp-content/uploads/2022/12/A-Taste-of-the-Big-Apple.jpg
END:VEVENT
BEGIN:VEVENT
DTSTART;TZID=America/Chicago:20240120T120000
DTEND;TZID=America/Chicago:20240120T200000
DTSTAMP:20260420T024704
CREATED:20231101T225405Z
LAST-MODIFIED:20231101T225406Z
UID:10002770-1705752000-1705780800@mineralspringsbrewery.com
SUMMARY:Linos Taqueria
DESCRIPTION:Linos offers some of the best: \n\n\n\n\nMexican Style Tacos\n\n\n\nTortes Mexican Tacos\n\n\n\nBurritos\n\n\n\nQuesadillas\n\n\n\nTamales
URL:https://mineralspringsbrewery.com/event/linos-taqueria-13/
LOCATION:Mineral Springs Brewery\, 210 N Oak Ave\, Suite 1\, Owatonna\, MN\, 55060\, United States
CATEGORIES:Food Trucks
ATTACH;FMTTYPE=image/jpeg:https://mineralspringsbrewery.com/wp-content/uploads/2022/12/7F17D32C-0220-48D7-BDB5-70ECA4173A53.jpeg
END:VEVENT
BEGIN:VEVENT
DTSTART;TZID=America/Chicago:20240120T180000
DTEND;TZID=America/Chicago:20240120T200000
DTSTAMP:20260420T024704
CREATED:20231107T031929Z
LAST-MODIFIED:20231107T031930Z
UID:10002793-1705773600-1705780800@mineralspringsbrewery.com
SUMMARY:Angel Val
DESCRIPTION:Angel grew up listening to her mom sing in an 80s rock band. She has a strong background and love for rock music and has grown to love country as well. Angel has taken her two favorite genre’s and mixed them into a more rock country style. Angel began playing guitar in Jr High where she found her passion for writing. \n\n\n\nAngel began working with her friend and now manager and producer\, Doug Olson in 2016 when they recorded her 1st album\, Gravel Road\, in Nashville with producer Buddy Hyatt. \n\n\n\n\nAngel puts her Mom at the top of her Influences… Growing up watching her Mom sing and perform has giving her the inspiration and drive to continue the passion for music. She also credits Miranda Lambert and the Cranberries. Angel also uses personal experiences in life to influence her writing… Such as relationships and spending time with friends. \n\n\n\n\nWhether you are looking for a solo acoustic show\, duet\, or full band\, Angel Val delivers a great performance!
URL:https://mineralspringsbrewery.com/event/angel-val-2/
LOCATION:MN
CATEGORIES:Activities,Music
ATTACH;FMTTYPE=image/jpeg:https://mineralspringsbrewery.com/wp-content/uploads/2023/11/Angel-Val-Music.jpg
END:VEVENT
END:VCALENDAR