BEGIN:VCALENDAR
VERSION:2.0
PRODID:-//Mineral Springs Brewery - ECPv6.15.20//NONSGML v1.0//EN
CALSCALE:GREGORIAN
METHOD:PUBLISH
X-ORIGINAL-URL:https://mineralspringsbrewery.com
X-WR-CALDESC:Events for Mineral Springs Brewery
REFRESH-INTERVAL;VALUE=DURATION:PT1H
X-Robots-Tag:noindex
X-PUBLISHED-TTL:PT1H
BEGIN:VTIMEZONE
TZID:America/Chicago
BEGIN:DAYLIGHT
TZOFFSETFROM:-0600
TZOFFSETTO:-0500
TZNAME:CDT
DTSTART:20230312T080000
END:DAYLIGHT
BEGIN:STANDARD
TZOFFSETFROM:-0500
TZOFFSETTO:-0600
TZNAME:CST
DTSTART:20231105T070000
END:STANDARD
BEGIN:DAYLIGHT
TZOFFSETFROM:-0600
TZOFFSETTO:-0500
TZNAME:CDT
DTSTART:20240310T080000
END:DAYLIGHT
BEGIN:STANDARD
TZOFFSETFROM:-0500
TZOFFSETTO:-0600
TZNAME:CST
DTSTART:20241103T070000
END:STANDARD
BEGIN:DAYLIGHT
TZOFFSETFROM:-0600
TZOFFSETTO:-0500
TZNAME:CDT
DTSTART:20250309T080000
END:DAYLIGHT
BEGIN:STANDARD
TZOFFSETFROM:-0500
TZOFFSETTO:-0600
TZNAME:CST
DTSTART:20251102T070000
END:STANDARD
END:VTIMEZONE
BEGIN:VEVENT
DTSTART;TZID=America/Chicago:20240121T150000
DTEND;TZID=America/Chicago:20240121T150000
DTSTAMP:20260420T024956
CREATED:20230822T225107Z
LAST-MODIFIED:20230822T225109Z
UID:10002338-1705849200-1705849200@mineralspringsbrewery.com
SUMMARY:MSBGO
DESCRIPTION:On Sundays\, we’ll be hosting a free and fun game of chance! Come on down to play along and win FREE BEER!
URL:https://mineralspringsbrewery.com/event/msbgo-7/2024-01-21/
LOCATION:Mineral Springs Brewery\, 210 N Oak Ave\, Suite 1\, Owatonna\, MN\, 55060\, United States
CATEGORIES:Activities
ATTACH;FMTTYPE=image/png:https://mineralspringsbrewery.com/wp-content/uploads/2022/04/Bingo.png
END:VEVENT
BEGIN:VEVENT
DTSTART;TZID=America/Chicago:20240124T170000
DTEND;TZID=America/Chicago:20240124T170000
DTSTAMP:20260420T024956
CREATED:20230822T225146Z
LAST-MODIFIED:20230822T225148Z
UID:10001826-1706115600-1706115600@mineralspringsbrewery.com
SUMMARY:Wag's Wednesday
DESCRIPTION:We’re partnering with Wagners Lunch Pool Hall to have their delicious burgers and fries delivered hot and fresh every half hour starting at 5:30pm! \n\n\n\nEach week\, you’ll have the choice between: \n\n\n\n\nDouble Cheeseburger with Fries & an MSB beer of choice for $13\n\n\n\nOr a Special Burger of the week that will rotate from week to week with Fries and an MSB beer of choice for $15\n\n\n\n\nBe sure to let our bartender know your order!
URL:https://mineralspringsbrewery.com/event/wags-wednesday-11/2024-01-24/
LOCATION:Mineral Springs Brewery\, 210 N Oak Ave\, Suite 1\, Owatonna\, MN\, 55060\, United States
CATEGORIES:Food Trucks
ATTACH;FMTTYPE=image/jpeg:https://mineralspringsbrewery.com/wp-content/uploads/2022/10/Wags-Wednesdays.jpeg
END:VEVENT
BEGIN:VEVENT
DTSTART;TZID=America/Chicago:20240124T180000
DTEND;TZID=America/Chicago:20240124T180000
DTSTAMP:20260420T024956
CREATED:20230424T222632Z
LAST-MODIFIED:20250103T010113Z
UID:10002082-1706119200-1706119200@mineralspringsbrewery.com
SUMMARY:Trivia Night
DESCRIPTION:MSB Trivia Night!!
URL:https://mineralspringsbrewery.com/event/trivia-night-10/2024-01-24/
LOCATION:Mineral Springs Brewery\, 210 N Oak Ave\, Suite 1\, Owatonna\, MN\, 55060\, United States
CATEGORIES:Activities
ATTACH;FMTTYPE=image/png:https://mineralspringsbrewery.com/wp-content/uploads/2022/02/MSB-Trivia-Night.png
END:VEVENT
BEGIN:VEVENT
DTSTART;TZID=America/Chicago:20240124T180000
DTEND;TZID=America/Chicago:20240124T180000
DTSTAMP:20260420T024956
CREATED:20240121T222604Z
LAST-MODIFIED:20240121T223123Z
UID:10002815-1706119200-1706119200@mineralspringsbrewery.com
SUMMARY:Frontal Cortex Freeze - Trivia Tournament
DESCRIPTION:This is our inaugural 6-week winter trivia tournament! You and up to 5 teammates will register to take part and win prizes! \n\n\n\n1 point will be recorded for every correct answer submitted throughout the 6 weeks (20 questions per night) The team with the most points at the conclusion of trivia on February 21st wins! \n\n\n\nPrizes: \n\n\n\n\nOne full growler to each winning team member\n\n\n\nA plaque with the winning team’s name and photo placed in the MSB taproom\n\n\n\nOne of a kind Frontal Cortex Freeze Tournament t-shirt\n\n\n\nBragging rights until next year’s tournament!\n\n\n\n\n\n\n\n\nOur weekly trivia will continue as normal\, with teams participating in the tournament also able to win weekly trivia! \n\n\n\n(No new team members once game play begins on 1/17)
URL:https://mineralspringsbrewery.com/event/frontal-cortex-freeze-trivia-tournament/2024-01-24/
LOCATION:Mineral Springs Brewery\, 210 N Oak Ave\, Suite 1\, Owatonna\, MN\, 55060\, United States
CATEGORIES:Activities
ATTACH;FMTTYPE=image/jpeg:https://mineralspringsbrewery.com/wp-content/uploads/2024/01/Frontal-Cortex-Freeze-Tournament.jpeg
END:VEVENT
BEGIN:VEVENT
DTSTART;TZID=America/Chicago:20240125T170000
DTEND;TZID=America/Chicago:20240125T170000
DTSTAMP:20260420T024956
CREATED:20230822T225207Z
LAST-MODIFIED:20250319T185917Z
UID:10001569-1706202000-1706202000@mineralspringsbrewery.com
SUMMARY:Thursday Pizza Special
DESCRIPTION:We’ve partnered with A Taste of the Big Apple to have their delicious pizzas delivered hot and fresh every half hour starting at 5:30pm! We also have frozen pizzas from our friends over at Pleasant Grove Pizza Farm that we’re able to cook up in our ovens! \n\n\n\nOrder your choice of pizza at the bar and we’ll get it to you when it’s delivered! \n\n\n\n\n\nA Taste of the Big Apple\n\n\n\n\nCheese\n\n\n\nSausage\n\n\n\nPepperoni\n\n\n\nSausage/Pepperoni\n\n\n\nCombo\n\nSausage\, Pepperoni\, Onions\, & Mushrooms\n\n\n\n\n\n\n\n\nPleasant Grove Pizza Farm\n\n\n\n\nCheese\n\n\n\nSusie (Sausage)\n\n\n\nChuck (Pepperoni)\n\n\n\nChuck & Susie (Pepperoni & Sausage)\n\n\n\nMN Mess (Combo)\n\nSausage\, Green & Black Olives\, Green Peppers\, Onions\, & Mushrooms\n\n\n\n\n\nPizza Fries & Sauce\n\n\n\n\n\n\nBe sure to let our bartender know your order!
URL:https://mineralspringsbrewery.com/event/a-taste-of-the-big-apple-thursday-special-11/2024-01-25/
LOCATION:Mineral Springs Brewery\, 210 N Oak Ave\, Suite 1\, Owatonna\, MN\, 55060\, United States
CATEGORIES:Food Trucks
ATTACH;FMTTYPE=image/jpeg:https://mineralspringsbrewery.com/wp-content/uploads/2022/12/A-Taste-of-the-Big-Apple.jpg
END:VEVENT
BEGIN:VEVENT
DTSTART;TZID=America/Chicago:20240125T183000
DTEND;TZID=America/Chicago:20240125T183000
DTSTAMP:20260420T024956
CREATED:20240102T211255Z
LAST-MODIFIED:20240102T211301Z
UID:10002813-1706207400-1706207400@mineralspringsbrewery.com
SUMMARY:MSB Puzzle Night
DESCRIPTION:
URL:https://mineralspringsbrewery.com/event/msb-puzzle-night/
LOCATION:Mineral Springs Brewery\, 210 N Oak Ave\, Suite 1\, Owatonna\, MN\, 55060\, United States
CATEGORIES:Activities
END:VEVENT
BEGIN:VEVENT
DTSTART;TZID=America/Chicago:20240126T160000
DTEND;TZID=America/Chicago:20240126T200000
DTSTAMP:20260420T024956
CREATED:20240121T230729Z
LAST-MODIFIED:20240122T042418Z
UID:10002820-1706284800-1706299200@mineralspringsbrewery.com
SUMMARY:Canceled - Amazing Momo
DESCRIPTION:Amazing Momo specializes in dumplings from the roof of the world!
URL:https://mineralspringsbrewery.com/event/amazing-momo/
LOCATION:Mineral Springs Brewery\, 210 N Oak Ave\, Suite 1\, Owatonna\, MN\, 55060\, United States
CATEGORIES:Food Trucks
ATTACH;FMTTYPE=image/webp:https://mineralspringsbrewery.com/wp-content/uploads/2024/01/Amazing-Momo.webp
END:VEVENT
BEGIN:VEVENT
DTSTART;TZID=America/Chicago:20240127T120000
DTEND;TZID=America/Chicago:20240127T200000
DTSTAMP:20260420T024956
CREATED:20240121T231011Z
LAST-MODIFIED:20240121T231012Z
UID:10002821-1706356800-1706385600@mineralspringsbrewery.com
SUMMARY:Garillers
DESCRIPTION:Garillers features the best smash burgers around!
URL:https://mineralspringsbrewery.com/event/garillers-8/
LOCATION:Mineral Springs Brewery\, 210 N Oak Ave\, Suite 1\, Owatonna\, MN\, 55060\, United States
CATEGORIES:Food Trucks
ATTACH;FMTTYPE=image/jpeg:https://mineralspringsbrewery.com/wp-content/uploads/2022/09/Garillers-Food-Truck.jpg
END:VEVENT
BEGIN:VEVENT
DTSTART;TZID=America/Chicago:20240127T180000
DTEND;TZID=America/Chicago:20240127T200000
DTSTAMP:20260420T024956
CREATED:20231101T230022Z
LAST-MODIFIED:20240121T235205Z
UID:10002773-1706378400-1706385600@mineralspringsbrewery.com
SUMMARY:Tommy Brown
DESCRIPTION:
URL:https://mineralspringsbrewery.com/event/tommy-brown/
LOCATION:Mineral Springs Brewery\, 210 N Oak Ave\, Suite 1\, Owatonna\, MN\, 55060\, United States
CATEGORIES:Activities,Music
ATTACH;FMTTYPE=image/png:https://mineralspringsbrewery.com/wp-content/uploads/2024/01/TJ-Brown.png
END:VEVENT
END:VCALENDAR