BEGIN:VCALENDAR
VERSION:2.0
PRODID:-//Mineral Springs Brewery - ECPv6.15.20//NONSGML v1.0//EN
CALSCALE:GREGORIAN
METHOD:PUBLISH
X-ORIGINAL-URL:https://mineralspringsbrewery.com
X-WR-CALDESC:Events for Mineral Springs Brewery
REFRESH-INTERVAL;VALUE=DURATION:PT1H
X-Robots-Tag:noindex
X-PUBLISHED-TTL:PT1H
BEGIN:VTIMEZONE
TZID:America/Chicago
BEGIN:DAYLIGHT
TZOFFSETFROM:-0600
TZOFFSETTO:-0500
TZNAME:CDT
DTSTART:20230312T080000
END:DAYLIGHT
BEGIN:STANDARD
TZOFFSETFROM:-0500
TZOFFSETTO:-0600
TZNAME:CST
DTSTART:20231105T070000
END:STANDARD
BEGIN:DAYLIGHT
TZOFFSETFROM:-0600
TZOFFSETTO:-0500
TZNAME:CDT
DTSTART:20240310T080000
END:DAYLIGHT
BEGIN:STANDARD
TZOFFSETFROM:-0500
TZOFFSETTO:-0600
TZNAME:CST
DTSTART:20241103T070000
END:STANDARD
BEGIN:DAYLIGHT
TZOFFSETFROM:-0600
TZOFFSETTO:-0500
TZNAME:CDT
DTSTART:20250309T080000
END:DAYLIGHT
BEGIN:STANDARD
TZOFFSETFROM:-0500
TZOFFSETTO:-0600
TZNAME:CST
DTSTART:20251102T070000
END:STANDARD
END:VTIMEZONE
BEGIN:VEVENT
DTSTART;TZID=America/Chicago:20240630T140000
DTEND;TZID=America/Chicago:20240630T190000
DTSTAMP:20260419T070827
CREATED:20240628T213938Z
LAST-MODIFIED:20240628T213941Z
UID:10003178-1719756000-1719774000@mineralspringsbrewery.com
SUMMARY:Brick Oven Bus
DESCRIPTION:Brick oven fired pizzas\, but on the go!
URL:https://mineralspringsbrewery.com/event/brick-oven-bus-21/
LOCATION:Mineral Springs Brewery\, 210 N Oak Ave\, Suite 1\, Owatonna\, MN\, 55060\, United States
CATEGORIES:Food Trucks
ATTACH;FMTTYPE=image/jpeg:https://mineralspringsbrewery.com/wp-content/uploads/2023/01/Brick-Oven-Bus.jpg
END:VEVENT
BEGIN:VEVENT
DTSTART;TZID=America/Chicago:20240630T150000
DTEND;TZID=America/Chicago:20240630T150000
DTSTAMP:20260419T070827
CREATED:20230822T225107Z
LAST-MODIFIED:20230822T225109Z
UID:10002361-1719759600-1719759600@mineralspringsbrewery.com
SUMMARY:MSBGO
DESCRIPTION:On Sundays\, we’ll be hosting a free and fun game of chance! Come on down to play along and win FREE BEER!
URL:https://mineralspringsbrewery.com/event/msbgo-7/2024-06-30/
LOCATION:Mineral Springs Brewery\, 210 N Oak Ave\, Suite 1\, Owatonna\, MN\, 55060\, United States
CATEGORIES:Activities
ATTACH;FMTTYPE=image/png:https://mineralspringsbrewery.com/wp-content/uploads/2022/04/Bingo.png
END:VEVENT
BEGIN:VEVENT
DTSTART;TZID=America/Chicago:20240703T170000
DTEND;TZID=America/Chicago:20240703T170000
DTSTAMP:20260419T070827
CREATED:20230822T225146Z
LAST-MODIFIED:20230822T225148Z
UID:10001849-1720026000-1720026000@mineralspringsbrewery.com
SUMMARY:Wag's Wednesday
DESCRIPTION:We’re partnering with Wagners Lunch Pool Hall to have their delicious burgers and fries delivered hot and fresh every half hour starting at 5:30pm! \n\n\n\nEach week\, you’ll have the choice between: \n\n\n\n\nDouble Cheeseburger with Fries & an MSB beer of choice for $13\n\n\n\nOr a Special Burger of the week that will rotate from week to week with Fries and an MSB beer of choice for $15\n\n\n\n\nBe sure to let our bartender know your order!
URL:https://mineralspringsbrewery.com/event/wags-wednesday-11/2024-07-03/
LOCATION:Mineral Springs Brewery\, 210 N Oak Ave\, Suite 1\, Owatonna\, MN\, 55060\, United States
CATEGORIES:Food Trucks
ATTACH;FMTTYPE=image/jpeg:https://mineralspringsbrewery.com/wp-content/uploads/2022/10/Wags-Wednesdays.jpeg
END:VEVENT
BEGIN:VEVENT
DTSTART;TZID=America/Chicago:20240703T180000
DTEND;TZID=America/Chicago:20240703T180000
DTSTAMP:20260419T070827
CREATED:20230424T222632Z
LAST-MODIFIED:20250103T010113Z
UID:10002105-1720029600-1720029600@mineralspringsbrewery.com
SUMMARY:Trivia Night
DESCRIPTION:MSB Trivia Night!!
URL:https://mineralspringsbrewery.com/event/trivia-night-10/2024-07-03/
LOCATION:Mineral Springs Brewery\, 210 N Oak Ave\, Suite 1\, Owatonna\, MN\, 55060\, United States
CATEGORIES:Activities
ATTACH;FMTTYPE=image/png:https://mineralspringsbrewery.com/wp-content/uploads/2022/02/MSB-Trivia-Night.png
END:VEVENT
BEGIN:VEVENT
DTSTART;TZID=America/Chicago:20240705T160000
DTEND;TZID=America/Chicago:20240705T200000
DTSTAMP:20260419T070827
CREATED:20240618T011101Z
LAST-MODIFIED:20240618T011113Z
UID:10003016-1720195200-1720209600@mineralspringsbrewery.com
SUMMARY:Espadin
DESCRIPTION:The newest food truck experience to hit the streets of Rochester. Espadin focuses on New-Mexican cuisine with a touch of flare. Come join us and be apart of the Espadin experience! \n\n\n\n\n\n\n\n\n\n\n\nDetails
URL:https://mineralspringsbrewery.com/event/espadin-3/
LOCATION:MN
CATEGORIES:Food Trucks
ATTACH;FMTTYPE=image/jpeg:https://mineralspringsbrewery.com/wp-content/uploads/2024/02/Espadin.jpg
END:VEVENT
BEGIN:VEVENT
DTSTART;TZID=America/Chicago:20240706T120000
DTEND;TZID=America/Chicago:20240706T200000
DTSTAMP:20260419T070827
CREATED:20240422T235649Z
LAST-MODIFIED:20240422T235651Z
UID:10002923-1720267200-1720296000@mineralspringsbrewery.com
SUMMARY:Louie's BBQ Shack
DESCRIPTION:The best BBQ around! Recently crowned Taste of Shakopee 2023 winner!
URL:https://mineralspringsbrewery.com/event/louies-bbq-shack-10/
LOCATION:Mineral Springs Brewery\, 210 N Oak Ave\, Suite 1\, Owatonna\, MN\, 55060\, United States
CATEGORIES:Food Trucks
ATTACH;FMTTYPE=image/jpeg:https://mineralspringsbrewery.com/wp-content/uploads/2022/10/B0647B0D-5C8E-4466-AB77-6C8A56782312.jpeg
END:VEVENT
BEGIN:VEVENT
DTSTART;TZID=America/Chicago:20240706T180000
DTEND;TZID=America/Chicago:20240706T200000
DTSTAMP:20260419T070827
CREATED:20240422T235747Z
LAST-MODIFIED:20240706T211649Z
UID:10002925-1720288800-1720296000@mineralspringsbrewery.com
SUMMARY:Chris Mims
DESCRIPTION:From the soulful rhythms of blues to the electrifying melodies of rock and country\, Chris Mims is a versatile guitarist and singer with over 30 years of experience.
URL:https://mineralspringsbrewery.com/event/chris-mims-5/
LOCATION:Mineral Springs Brewery\, 210 N Oak Ave\, Suite 1\, Owatonna\, MN\, 55060\, United States
CATEGORIES:Activities,Music
ATTACH;FMTTYPE=image/jpeg:https://mineralspringsbrewery.com/wp-content/uploads/2024/04/ChrisMims.jpg
END:VEVENT
END:VCALENDAR