BEGIN:VCALENDAR
VERSION:2.0
PRODID:-//Mineral Springs Brewery - ECPv6.15.20//NONSGML v1.0//EN
CALSCALE:GREGORIAN
METHOD:PUBLISH
X-WR-CALNAME:Mineral Springs Brewery
X-ORIGINAL-URL:https://mineralspringsbrewery.com
X-WR-CALDESC:Events for Mineral Springs Brewery
REFRESH-INTERVAL;VALUE=DURATION:PT1H
X-Robots-Tag:noindex
X-PUBLISHED-TTL:PT1H
BEGIN:VTIMEZONE
TZID:America/Chicago
BEGIN:DAYLIGHT
TZOFFSETFROM:-0600
TZOFFSETTO:-0500
TZNAME:CDT
DTSTART:20240310T080000
END:DAYLIGHT
BEGIN:STANDARD
TZOFFSETFROM:-0500
TZOFFSETTO:-0600
TZNAME:CST
DTSTART:20241103T070000
END:STANDARD
BEGIN:DAYLIGHT
TZOFFSETFROM:-0600
TZOFFSETTO:-0500
TZNAME:CDT
DTSTART:20250309T080000
END:DAYLIGHT
BEGIN:STANDARD
TZOFFSETFROM:-0500
TZOFFSETTO:-0600
TZNAME:CST
DTSTART:20251102T070000
END:STANDARD
BEGIN:DAYLIGHT
TZOFFSETFROM:-0600
TZOFFSETTO:-0500
TZNAME:CDT
DTSTART:20260308T080000
END:DAYLIGHT
BEGIN:STANDARD
TZOFFSETFROM:-0500
TZOFFSETTO:-0600
TZNAME:CST
DTSTART:20261101T070000
END:STANDARD
END:VTIMEZONE
BEGIN:VEVENT
DTSTART;TZID=America/Chicago:20250909T170000
DTEND;TZID=America/Chicago:20250909T210000
DTSTAMP:20260422T033416
CREATED:20250729T192103Z
LAST-MODIFIED:20250902T211435Z
UID:10004056-1757437200-1757451600@mineralspringsbrewery.com
SUMMARY:Sourdough 101
DESCRIPTION:Come join us for a fun and interactive sourdough workshop at MSB! \n\n\n\nYou’ll leave class with dough to bake at home and a well established\, 105 year old starter! Plus tons of tips and tricks to get you started on your sourdough journey! \n\n\n\nPlease bring: Large Mixing Bowl and dish towel \n\n\n\nAny questions please contact Elaine Dube\, hellosimple.elaine@gmail.com
URL:https://mineralspringsbrewery.com/event/sourdough-101-2/
LOCATION:Mineral Springs Brewery\, 210 N Oak Ave\, Suite 1\, Owatonna\, MN\, 55060\, United States
CATEGORIES:Events
ATTACH;FMTTYPE=image/jpeg:https://mineralspringsbrewery.com/wp-content/uploads/2025/06/Sourdough101.jpg
ORGANIZER;CN="Elaine Dube":MAILTO:hellosimple.elaine@gmail.com
END:VEVENT
END:VCALENDAR